BEGIN:VCALENDAR
VERSION:2.0
PRODID:-//Hackney CVS - ECPv6.15.20//NONSGML v1.0//EN
CALSCALE:GREGORIAN
METHOD:PUBLISH
X-WR-CALNAME:Hackney CVS
X-ORIGINAL-URL:https://hcvs.org.uk
X-WR-CALDESC:Events for Hackney CVS
REFRESH-INTERVAL;VALUE=DURATION:PT1H
X-Robots-Tag:noindex
X-PUBLISHED-TTL:PT1H
BEGIN:VTIMEZONE
TZID:UTC
BEGIN:STANDARD
TZOFFSETFROM:+0000
TZOFFSETTO:+0000
TZNAME:UTC
DTSTART:20160101T000000
END:STANDARD
END:VTIMEZONE
BEGIN:VEVENT
DTSTART;TZID=UTC:20171121T090000
DTEND;TZID=UTC:20171121T170000
DTSTAMP:20260421T235255
CREATED:20170830T085701Z
LAST-MODIFIED:20170926T104143Z
UID:924-1511254800-1511283600@hcvs.org.uk
SUMMARY:Compassionate Neighbours - free training
DESCRIPTION:Compassionate Neighbours is free community-led support at St Joseph’s Hospice for anyone living with or caring for a person with a serious\, long-term or terminal illness\, or a person who is frail and/or isolated. \nThis is a 2 day training on 21st and 22nd November. \nFor more information please contact Joy on 020 8525 3206\, j.kahumbu@stjh.org.uk or CN@stjh.org.uk.
URL:https://hcvs.org.uk/event/compassionate-neighbours-free-training-3/
LOCATION:St Joseph’s Hospice\, Mare St\, London\, E8 4SA\, United Kingdom
ATTACH;FMTTYPE=image/jpeg:https://hcvs.org.uk/wp-content/uploads/2017/09/compassionate-neighbours-in-hackneyNT.jpg
END:VEVENT
BEGIN:VEVENT
DTSTART;TZID=UTC:20171104T090000
DTEND;TZID=UTC:20171104T170000
DTSTAMP:20260421T235255
CREATED:20170830T085345Z
LAST-MODIFIED:20170926T103749Z
UID:919-1509786000-1509814800@hcvs.org.uk
SUMMARY:Compassionate Neighbours - free training
DESCRIPTION:Compassionate Neighbours is free community-led support at St Joseph’s Hospice for anyone living with or caring for a person with a serious\, long-term or terminal illness\, or a person who is frail and/or isolated. \nThis is a 2 day training on 4th and 11th November. \nFor more information please contact Joy on 020 8525 3206\, j.kahumbu@stjh.org.uk or CN@stjh.org.uk.
URL:https://hcvs.org.uk/event/compassionate-neighbours-free-training-2/
LOCATION:St Joseph’s Hospice\, Mare St\, London\, E8 4SA\, United Kingdom
ATTACH;FMTTYPE=image/jpeg:https://hcvs.org.uk/wp-content/uploads/2017/09/compassionate-neighbours-in-hackneyNT.jpg
END:VEVENT
BEGIN:VEVENT
DTSTART;TZID=UTC:20170909T090000
DTEND;TZID=UTC:20170909T170000
DTSTAMP:20260421T235255
CREATED:20170830T084842Z
LAST-MODIFIED:20170830T085452Z
UID:915-1504947600-1504976400@hcvs.org.uk
SUMMARY:Compassionate Neighbours - free training
DESCRIPTION:Compassionate Neighbours is free community-led support at St Joseph’s Hospice for anyone living with or caring for a person with a serious\, long-term or terminal illness\, or a person who is frail and/or isolated. \nThis is a 2 day training on 9th and 16th September. \nFor more information please contact Joy on 020 8525 3206\, j.kahumbu@stjh.org.uk or CN@stjh.org.uk.
URL:https://hcvs.org.uk/event/compassionate-neighbours-free-training/
LOCATION:St Joseph’s Hospice\, Mare St\, London\, E8 4SA\, United Kingdom
END:VEVENT
END:VCALENDAR