BEGIN:VCALENDAR
VERSION:2.0
PRODID:-//Hackney CVS - ECPv6.15.20//NONSGML v1.0//EN
CALSCALE:GREGORIAN
METHOD:PUBLISH
X-WR-CALNAME:Hackney CVS
X-ORIGINAL-URL:https://hcvs.org.uk
X-WR-CALDESC:Events for Hackney CVS
REFRESH-INTERVAL;VALUE=DURATION:PT1H
X-Robots-Tag:noindex
X-PUBLISHED-TTL:PT1H
BEGIN:VTIMEZONE
TZID:UTC
BEGIN:STANDARD
TZOFFSETFROM:+0000
TZOFFSETTO:+0000
TZNAME:UTC
DTSTART:20160101T000000
END:STANDARD
END:VTIMEZONE
BEGIN:VEVENT
DTSTART;TZID=UTC:20170805T140000
DTEND;TZID=UTC:20170805T170000
DTSTAMP:20260419T204540
CREATED:20170728T155650Z
LAST-MODIFIED:20170728T155650Z
UID:275-1501941600-1501952400@hcvs.org.uk
SUMMARY:‘Dig’ Volunteer Gardening Session
DESCRIPTION:Help keep the garden beautiful and learn about growing herbs and vegetables. The gardening sessions are run almost every Saturday. \nhttp://dalstongarden.org/dig-weekly-saturday-afternoon-volunteer-gardening/
URL:https://hcvs.org.uk/event/dig-volunteer-gardening-session/
LOCATION:Dalston Eastern Curve Garden\, 13 Dalston Lane\, E8 3DF\, United Kingdom
END:VEVENT
END:VCALENDAR