BEGIN:VCALENDAR
VERSION:2.0
PRODID:-//Hackney CVS - ECPv6.15.20//NONSGML v1.0//EN
CALSCALE:GREGORIAN
METHOD:PUBLISH
X-WR-CALNAME:Hackney CVS
X-ORIGINAL-URL:https://hcvs.org.uk
X-WR-CALDESC:Events for Hackney CVS
REFRESH-INTERVAL;VALUE=DURATION:PT1H
X-Robots-Tag:noindex
X-PUBLISHED-TTL:PT1H
BEGIN:VTIMEZONE
TZID:Europe/London
BEGIN:DAYLIGHT
TZOFFSETFROM:+0000
TZOFFSETTO:+0100
TZNAME:BST
DTSTART:20230326T010000
END:DAYLIGHT
BEGIN:STANDARD
TZOFFSETFROM:+0100
TZOFFSETTO:+0000
TZNAME:GMT
DTSTART:20231029T010000
END:STANDARD
BEGIN:DAYLIGHT
TZOFFSETFROM:+0000
TZOFFSETTO:+0100
TZNAME:BST
DTSTART:20240331T010000
END:DAYLIGHT
BEGIN:STANDARD
TZOFFSETFROM:+0100
TZOFFSETTO:+0000
TZNAME:GMT
DTSTART:20241027T010000
END:STANDARD
BEGIN:DAYLIGHT
TZOFFSETFROM:+0000
TZOFFSETTO:+0100
TZNAME:BST
DTSTART:20250330T010000
END:DAYLIGHT
BEGIN:STANDARD
TZOFFSETFROM:+0100
TZOFFSETTO:+0000
TZNAME:GMT
DTSTART:20251026T010000
END:STANDARD
END:VTIMEZONE
BEGIN:VEVENT
DTSTART;TZID=Europe/London:20240308T123000
DTEND;TZID=Europe/London:20240308T163000
DTSTAMP:20260420T152834
CREATED:20240221T172706Z
LAST-MODIFIED:20240221T173350Z
UID:21031-1709901000-1709915400@hcvs.org.uk
SUMMARY:International Women’s Day at Hackney CVS
DESCRIPTION:Join us at Hackney CVS where we will be celebrating women’s achievements and reinforcing a commitment to women’s equality. Join us at 12.30pm for the welcome lunch\, followed by an afternoon of activities including live music and lively discussions!\n8 March. Book here
URL:https://hcvs.org.uk/event/international-womens-day-at-hackney-cvs/
ATTACH;FMTTYPE=image/jpeg:https://hcvs.org.uk/wp-content/uploads/2024/01/5c08e5c0-7fd7-27d7-fc74-39e129af9131.jpg
END:VEVENT
BEGIN:VEVENT
DTSTART;TZID=Europe/London:20240312T143000
DTEND;TZID=Europe/London:20240312T163000
DTSTAMP:20260420T152834
CREATED:20240221T172911Z
LAST-MODIFIED:20240221T173311Z
UID:21033-1710253800-1710261000@hcvs.org.uk
SUMMARY:Clissold Park Neighbourhood Forum
DESCRIPTION:Clissold Park Neighbourhood Forum\nThis forum theme is: Looking back and moving forward – what have we achieved and what are our future priorities? The forum takes place at The Old Fire Station Community Centre.\n12 March. Register here
URL:https://hcvs.org.uk/event/clissold-park-neighbourhood-forum-2/
CATEGORIES:Neighbourhoods
END:VEVENT
BEGIN:VEVENT
DTSTART;TZID=Europe/London:20240318T130000
DTEND;TZID=Europe/London:20240318T170000
DTSTAMP:20260420T152834
CREATED:20240221T172952Z
LAST-MODIFIED:20240221T173242Z
UID:21035-1710766800-1710781200@hcvs.org.uk
SUMMARY:Hackney Downs Neighbourhood Forum
DESCRIPTION:Join the Hackney Downs Neighbourhood Forum to discuss the health and wellbeing needs of the local area.\n18 March. Read more
URL:https://hcvs.org.uk/event/hackney-downs-neighbourhood-forum/
CATEGORIES:Neighbourhoods
END:VEVENT
BEGIN:VEVENT
DTSTART;TZID=Europe/London:20240319T110000
DTEND;TZID=Europe/London:20240319T123000
DTSTAMP:20260420T152834
CREATED:20240221T174638Z
LAST-MODIFIED:20240221T175223Z
UID:21037-1710846000-1710851400@hcvs.org.uk
SUMMARY:VCS Children and Families Forum
DESCRIPTION:Register Now\n\n\n\n\nVCS Children and Families Forum (Online Meeting via MS Teams) \nThis quarterly forum meeting brings colleagues from the VCS children and families sector to meet and give updates on their service offer and discuss any concerns around children and young people’s health\, education and housing needs\, safeguarding concerns and find out about upcoming training\, fundraising opportunities\, partnership working and networking. \nWe also invite colleagues from LBH to come as speakers and give brief updates to our forum members on their service provision/ update on new policies for the VCS working with children and young people in Hackney. \nIf you would like to present or want to include an agenda item for this meeting or at any future meetings\, please get in touch with Jahada Abdul
URL:https://hcvs.org.uk/event/vcs-children-and-families-forum-4/
CATEGORIES:network
ATTACH;FMTTYPE=image/jpeg:https://hcvs.org.uk/wp-content/uploads/2023/12/sm8-cs5_hackney-cvs_logo-2023.jpg
END:VEVENT
BEGIN:VEVENT
DTSTART;TZID=Europe/London:20240320T110000
DTEND;TZID=Europe/London:20240320T123000
DTSTAMP:20260420T152834
CREATED:20240312T110431Z
LAST-MODIFIED:20240312T110431Z
UID:21104-1710932400-1710937800@hcvs.org.uk
SUMMARY:Mental Health SIG meeting
DESCRIPTION:The Mental Health Special Interest Group (SIG) provides a forum in Hackney and City for anyone with an interest in mental health services. \n \nThe meeting will be held on Microsoft Teams. \n20 March. Book here
URL:https://hcvs.org.uk/event/mental-health-sig-meeting-3/
CATEGORIES:network
ATTACH;FMTTYPE=image/jpeg:https://hcvs.org.uk/wp-content/uploads/2024/01/DSCF2518-scaled.jpg
END:VEVENT
BEGIN:VEVENT
DTSTART;TZID=Europe/London:20240326T100000
DTEND;TZID=Europe/London:20240326T130000
DTSTAMP:20260420T152834
CREATED:20240312T111057Z
LAST-MODIFIED:20240312T111132Z
UID:21106-1711447200-1711458000@hcvs.org.uk
SUMMARY:Free Adults Safeguarding Awareness Training - online
DESCRIPTION:Hackney CVS is offering a FREE online Adults Safeguarding Awareness training. This online training will allow delegates to explore and share best practice\, in supporting and protecting adults at risk from abuse and harm.\n26 March. Book here
URL:https://hcvs.org.uk/event/free-adults-safeguarding-awareness-training-online/
CATEGORIES:training
ATTACH;FMTTYPE=image/png:https://hcvs.org.uk/wp-content/uploads/2024/02/0e1bf8ff-e29e-d6a4-e350-43cd15299e08.png
END:VEVENT
BEGIN:VEVENT
DTSTART;TZID=Europe/London:20240327T094500
DTEND;TZID=Europe/London:20240327T130000
DTSTAMP:20260420T152834
CREATED:20240312T132648Z
LAST-MODIFIED:20240312T132716Z
UID:21111-1711532700-1711544400@hcvs.org.uk
SUMMARY:Chairing effective meetings - free
DESCRIPTION:Chairing meetings well is an important skill. The Chair makes sure the right issues are on the agenda\, that the meeting runs to time and everyone attending feels heard. This free in-person half-day session will enable you to improve your chairing skills.\n27 March Book here \n 
URL:https://hcvs.org.uk/event/chairing-effective-meetings-free/
CATEGORIES:training
ATTACH;FMTTYPE=image/png:https://hcvs.org.uk/wp-content/uploads/2024/02/0e1bf8ff-e29e-d6a4-e350-43cd15299e08.png
END:VEVENT
BEGIN:VEVENT
DTSTART;TZID=Europe/London:20240327T150000
DTEND;TZID=Europe/London:20240327T163000
DTSTAMP:20260420T152834
CREATED:20240312T132601Z
LAST-MODIFIED:20240312T133013Z
UID:21109-1711551600-1711557000@hcvs.org.uk
SUMMARY:LGBTQIA+ SIG meeting
DESCRIPTION:LGBTQIA+ SIG meeting\nThe LGBTQIA+ Special Interest Group (SIG) provides a forum for anyone in City and Hackney with an interest in local LGBTQIA+ services.\n27 March.\nRead more
URL:https://hcvs.org.uk/event/lgbtqia-sig-meeting-4/
CATEGORIES:network
ATTACH;FMTTYPE=image/jpeg:https://hcvs.org.uk/wp-content/uploads/2024/01/412399574_739271368228209_298105955709100035_n-1z.jpg
END:VEVENT
END:VCALENDAR