BEGIN:VCALENDAR
VERSION:2.0
PRODID:-//Hackney CVS - ECPv6.15.20//NONSGML v1.0//EN
CALSCALE:GREGORIAN
METHOD:PUBLISH
X-WR-CALNAME:Hackney CVS
X-ORIGINAL-URL:https://hcvs.org.uk
X-WR-CALDESC:Events for Hackney CVS
REFRESH-INTERVAL;VALUE=DURATION:PT1H
X-Robots-Tag:noindex
X-PUBLISHED-TTL:PT1H
BEGIN:VTIMEZONE
TZID:Europe/London
BEGIN:DAYLIGHT
TZOFFSETFROM:+0000
TZOFFSETTO:+0100
TZNAME:BST
DTSTART:20230326T010000
END:DAYLIGHT
BEGIN:STANDARD
TZOFFSETFROM:+0100
TZOFFSETTO:+0000
TZNAME:GMT
DTSTART:20231029T010000
END:STANDARD
BEGIN:DAYLIGHT
TZOFFSETFROM:+0000
TZOFFSETTO:+0100
TZNAME:BST
DTSTART:20240331T010000
END:DAYLIGHT
BEGIN:STANDARD
TZOFFSETFROM:+0100
TZOFFSETTO:+0000
TZNAME:GMT
DTSTART:20241027T010000
END:STANDARD
BEGIN:DAYLIGHT
TZOFFSETFROM:+0000
TZOFFSETTO:+0100
TZNAME:BST
DTSTART:20250330T010000
END:DAYLIGHT
BEGIN:STANDARD
TZOFFSETFROM:+0100
TZOFFSETTO:+0000
TZNAME:GMT
DTSTART:20251026T010000
END:STANDARD
END:VTIMEZONE
BEGIN:VEVENT
DTSTART;TZID=Europe/London:20240206T160000
DTEND;TZID=Europe/London:20240206T180000
DTSTAMP:20260420T171528
CREATED:20240104T133356Z
LAST-MODIFIED:20240104T133356Z
UID:20828-1707235200-1707242400@hcvs.org.uk
SUMMARY:Shoreditch Park and City Neighbourhood Forum
DESCRIPTION:Our quarterly forum brings together residents\, health practitioners\, VCS organisations and councillors to discuss the health priorities and needs of the local area.\n6 February. Register here
URL:https://hcvs.org.uk/event/shoreditch-park-and-city-neighbourhood-forum-3/
CATEGORIES:Neighbourhoods
ATTACH;FMTTYPE=image/jpeg:https://hcvs.org.uk/wp-content/uploads/2023/11/DSCF2648-1.jpg
END:VEVENT
BEGIN:VEVENT
DTSTART;TZID=Europe/London:20240207T150000
DTEND;TZID=Europe/London:20240207T163000
DTSTAMP:20260420T171528
CREATED:20240116T102606Z
LAST-MODIFIED:20240116T143703Z
UID:20883-1707318000-1707323400@hcvs.org.uk
SUMMARY:Hackney Marshes Neighbourhood Forum
DESCRIPTION:Join the next Hackney Marshes Neighbourhood Forum at Hackney School of Food. The Forum theme is: Looking back and moving forward – what have we achieved and what are our future priorities? \n7 February. Register here
URL:https://hcvs.org.uk/event/hackney-marshes-neighbourhood-forum-2/
CATEGORIES:Neighbourhoods
ATTACH;FMTTYPE=image/jpeg:https://hcvs.org.uk/wp-content/uploads/2023/11/DSCF2559.jpg
END:VEVENT
BEGIN:VEVENT
DTSTART;TZID=Europe/London:20240213T093000
DTEND;TZID=Europe/London:20240213T113000
DTSTAMP:20260420T171528
CREATED:20231212T154901Z
LAST-MODIFIED:20231212T160118Z
UID:20696-1707816600-1707823800@hcvs.org.uk
SUMMARY:City of London Coffee and Networking Morning
DESCRIPTION:Join Hackney CVS for an informal but informative coffee morning in the City on Tuesday 13th February 9:30-11:30am at Portsoken Community Centre. \nIt’s an opportunity for local organisations and community groups to meet one another\, share what programmes they’re delivering\, and explore opportunities to collaborate in supporting our communities. We’ve seen some great outcomes\, of statutory providers and the council working with smaller VCS organisations to improve outcomes for marginalised communities across City of London. \nWe’ll provide free refreshments and drinks\, and HCVS staff will be on hand to chat you about our forums and specialist interest groups\, and organisational development services. \nRegister at https://crm.hcvs.org.uk/civicrm/event/info?id=1325
URL:https://hcvs.org.uk/event/city-of-london-coffee-and-networking-morning-3/
LOCATION:Portsoken Community Centre\, 20 Little Somerset Street\, London\, E1 8AE\, United Kingdom
ATTACH;FMTTYPE=image/jpeg:https://hcvs.org.uk/wp-content/uploads/2023/06/6ef0e78d-fa41-5eee-b328-2013b1b0d9f3-1.jpg
GEO:51.5130082;-0.0750962
X-APPLE-STRUCTURED-LOCATION;VALUE=URI;X-ADDRESS=Portsoken Community Centre 20 Little Somerset Street London E1 8AE United Kingdom;X-APPLE-RADIUS=500;X-TITLE=20 Little Somerset Street:geo:-0.0750962,51.5130082
END:VEVENT
BEGIN:VEVENT
DTSTART;TZID=Europe/London:20240220T130000
DTEND;TZID=Europe/London:20240220T150000
DTSTAMP:20260420T171528
CREATED:20240130T165700Z
LAST-MODIFIED:20240130T165858Z
UID:20940-1708434000-1708441200@hcvs.org.uk
SUMMARY:Woodberry Wetlands Neighbourhood Forum
DESCRIPTION:Woodberry Wetlands Neighbourhood Forum \nJoin this quarterly forum\, which brings together residents\, health practitioners\, voluntary and community sector organisations and councillors to discuss the health priorities and needs of the local area.\n20 February. Register here
URL:https://hcvs.org.uk/event/woodberry-wetlands-neighbourhood-forum-4/
CATEGORIES:Neighbourhoods
ATTACH;FMTTYPE=image/png:https://hcvs.org.uk/wp-content/uploads/2022/07/abba48fb-cdd6-60d4-14b6-fff07b573982.png
END:VEVENT
BEGIN:VEVENT
DTSTART;TZID=Europe/London:20240221T140000
DTEND;TZID=Europe/London:20240221T153000
DTSTAMP:20260420T171528
CREATED:20240221T172546Z
LAST-MODIFIED:20240221T173424Z
UID:21029-1708524000-1708529400@hcvs.org.uk
SUMMARY:Sexual Health Special Interest Group meeting
DESCRIPTION:Hackney CVS is hosting the final Sexual Health SIG meeting. This SIG meeting is for any members in City and Hackney organisations working in sexual health.\n6 March. Book a place
URL:https://hcvs.org.uk/event/sexual-health-special-interest-group-meeting-2/
CATEGORIES:network
ATTACH;FMTTYPE=image/jpeg:https://hcvs.org.uk/wp-content/uploads/2024/01/c402dbda-8c09-f96c-63e0-218015b61dea.jpg
END:VEVENT
BEGIN:VEVENT
DTSTART;TZID=Europe/London:20240227T150000
DTEND;TZID=Europe/London:20240227T170000
DTSTAMP:20260420T171528
CREATED:20240130T165828Z
LAST-MODIFIED:20240130T165828Z
UID:20942-1709046000-1709053200@hcvs.org.uk
SUMMARY:Springfield Park Neighbourhood Forum
DESCRIPTION:Springfield Park Neighbourhood Forum\nJoin the Springfield Park Forum. The forum theme is: Looking back and moving forward – what have we achieved and what are our future priorities? This takes place at the Boiler House Community Space.\n27 February. Book here
URL:https://hcvs.org.uk/event/springfield-park-neighbourhood-forum-5/
CATEGORIES:Neighbourhoods
ATTACH;FMTTYPE=image/jpeg:https://hcvs.org.uk/wp-content/uploads/2023/11/DSCF2648-1.jpg
END:VEVENT
BEGIN:VEVENT
DTSTART;TZID=Europe/London:20240228T093000
DTEND;TZID=Europe/London:20240228T113000
DTSTAMP:20260420T171528
CREATED:20240111T134531Z
LAST-MODIFIED:20240111T155204Z
UID:20871-1709112600-1709119800@hcvs.org.uk
SUMMARY:Coffee and networking morning
DESCRIPTION:Are you an organisation delivering services that support health\, care or wellbeing? Join us for a coffee and networking morning. Following feedback from our members\, we are now holding quarterly coffee mornings in both Hackney and in the City of London. \n\nHackney CVS office – 28 February. Book here
URL:https://hcvs.org.uk/event/coffee-and-networking-morning/
ATTACH;FMTTYPE=image/jpeg:https://hcvs.org.uk/wp-content/uploads/2023/11/7864ff48-28d8-42db-d0d1-f7716a36c55e-1.jpeg
END:VEVENT
END:VCALENDAR