BEGIN:VCALENDAR
VERSION:2.0
PRODID:-//Hackney CVS - ECPv6.15.20//NONSGML v1.0//EN
CALSCALE:GREGORIAN
METHOD:PUBLISH
X-WR-CALNAME:Hackney CVS
X-ORIGINAL-URL:https://hcvs.org.uk
X-WR-CALDESC:Events for Hackney CVS
REFRESH-INTERVAL;VALUE=DURATION:PT1H
X-Robots-Tag:noindex
X-PUBLISHED-TTL:PT1H
BEGIN:VTIMEZONE
TZID:Europe/London
BEGIN:DAYLIGHT
TZOFFSETFROM:+0000
TZOFFSETTO:+0100
TZNAME:BST
DTSTART:20230326T010000
END:DAYLIGHT
BEGIN:STANDARD
TZOFFSETFROM:+0100
TZOFFSETTO:+0000
TZNAME:GMT
DTSTART:20231029T010000
END:STANDARD
BEGIN:DAYLIGHT
TZOFFSETFROM:+0000
TZOFFSETTO:+0100
TZNAME:BST
DTSTART:20240331T010000
END:DAYLIGHT
BEGIN:STANDARD
TZOFFSETFROM:+0100
TZOFFSETTO:+0000
TZNAME:GMT
DTSTART:20241027T010000
END:STANDARD
BEGIN:DAYLIGHT
TZOFFSETFROM:+0000
TZOFFSETTO:+0100
TZNAME:BST
DTSTART:20250330T010000
END:DAYLIGHT
BEGIN:STANDARD
TZOFFSETFROM:+0100
TZOFFSETTO:+0000
TZNAME:GMT
DTSTART:20251026T010000
END:STANDARD
END:VTIMEZONE
BEGIN:VEVENT
DTSTART;TZID=Europe/London:20240109T153000
DTEND;TZID=Europe/London:20240109T170000
DTSTAMP:20260419T153015
CREATED:20231220T134940Z
LAST-MODIFIED:20231220T134940Z
UID:20801-1704814200-1704819600@hcvs.org.uk
SUMMARY:Well Street Common Neighbourhood Forum Meeting
DESCRIPTION:Join the next Well Street Common Neighbourhood Forum to find out more about the work taking place in the Neighbourhood. The forum takes place at Gascoyne 1 Community Centre.\n9 January. Book here
URL:https://hcvs.org.uk/event/well-street-common-neighbourhood-forum-meeting/
CATEGORIES:Neighbourhoods
ATTACH;FMTTYPE=image/png:https://hcvs.org.uk/wp-content/uploads/2023/12/map-small-1.png
END:VEVENT
BEGIN:VEVENT
DTSTART;TZID=Europe/London:20240118T120000
DTEND;TZID=Europe/London:20240118T130000
DTSTAMP:20260419T153015
CREATED:20231220T150829Z
LAST-MODIFIED:20231220T152111Z
UID:20802-1705579200-1705582800@hcvs.org.uk
SUMMARY:Meet the funder
DESCRIPTION:Hackney CVS is hosting a Meet the Funder session with the Clothworkers’ Foundation. The event is aimed at voluntary and community sector (VCS) organisations\, particularly those that are interested in raising funds for capital projects.\n18 January. Register here
URL:https://hcvs.org.uk/event/meet-the-funder-2/
CATEGORIES:training
ATTACH;FMTTYPE=image/jpeg:https://hcvs.org.uk/wp-content/uploads/2023/11/DSCF2559.jpg
END:VEVENT
BEGIN:VEVENT
DTSTART;TZID=Europe/London:20240123T150000
DTEND;TZID=Europe/London:20240123T163000
DTSTAMP:20260419T153015
CREATED:20231220T144802Z
LAST-MODIFIED:20231220T145056Z
UID:20803-1706022000-1706027400@hcvs.org.uk
SUMMARY:Mental Health SIG meeting
DESCRIPTION:Our Mental Health Special Interest Group (SIG) provides a forum for anyone in Hackney and the City of London who has an interest in the provision of mental health services.\n23 January. Register here
URL:https://hcvs.org.uk/event/mental-health-sig-meeting-2/
CATEGORIES:network
ATTACH;FMTTYPE=image/png:https://hcvs.org.uk/wp-content/uploads/2023/12/map-small.png
END:VEVENT
BEGIN:VEVENT
DTSTART;TZID=Europe/London:20240124T113000
DTEND;TZID=Europe/London:20240124T130000
DTSTAMP:20260419T153015
CREATED:20240111T155642Z
LAST-MODIFIED:20240111T155733Z
UID:20875-1706095800-1706101200@hcvs.org.uk
SUMMARY:VCS Enabler 2.0 Communications workshop
DESCRIPTION:Have you attended a Hackney CVS specialist interest group\, forum or assembly? Want to help us to support charities to address health inequalities? Join us for this in-person communications workshop.\nHackney CVS’s VCS Enabler Programme aims to bring together VCS and statutory organisations to address health inequalities. We do this through specialist interest groups and forums\, coffee mornings\, the VCS Leadership Group and Health & Social Care Forums. \nHowever\, our independent evaluation of the programme found that the name and how we communicate the work of the programme\, can be confusing. \nThrough this workshop we aim to get your feedback on a new name\, logo and communication channels\, to ensure that those who are interested in the programme feel informed about our work. \nAs this workshop is taking place in-person at Hackney CVS\, places are limited\, so please register online. \nWe’ll provide some light bites and refreshments. \nIf you have any questions about the workshop please contact peter@hcvs.org.uk \nJanuary 24th\, 2024 from 11:30 AM to 1:00 PM \nLocation: Hackney CVS – The Adiaha Antigha Centre\n24-30 Dalston Lane\, E8. \nSign up: https://crm.hcvs.org.uk/civicrm/event/info?reset=1&id=1352
URL:https://hcvs.org.uk/event/vcs-enabler-2-0-communications-workshop/
ATTACH;FMTTYPE=image/jpeg:https://hcvs.org.uk/wp-content/uploads/2023/11/DSCF2559.jpg
END:VEVENT
BEGIN:VEVENT
DTSTART;TZID=Europe/London:20240131T113000
DTEND;TZID=Europe/London:20240131T130000
DTSTAMP:20260419T153015
CREATED:20240116T144128Z
LAST-MODIFIED:20240116T144128Z
UID:20887-1706700600-1706706000@hcvs.org.uk
SUMMARY:Hackney Refugee and Migrant Forum 
DESCRIPTION:Join us at Hackney CVS for our quarterly forum\, where organisations that work with Refugees and Migrants come together to discuss\, planning\, challenges and ongoing agendas.\n31 January. Book here
URL:https://hcvs.org.uk/event/hackney-refugee-and-migrant-forum-3/
CATEGORIES:network
ATTACH;FMTTYPE=image/jpeg:https://hcvs.org.uk/wp-content/uploads/2023/11/DSCF2559.jpg
END:VEVENT
END:VCALENDAR