BEGIN:VCALENDAR
VERSION:2.0
PRODID:-//Hackney CVS - ECPv6.15.20//NONSGML v1.0//EN
CALSCALE:GREGORIAN
METHOD:PUBLISH
X-WR-CALNAME:Hackney CVS
X-ORIGINAL-URL:https://hcvs.org.uk
X-WR-CALDESC:Events for Hackney CVS
REFRESH-INTERVAL;VALUE=DURATION:PT1H
X-Robots-Tag:noindex
X-PUBLISHED-TTL:PT1H
BEGIN:VTIMEZONE
TZID:Europe/London
BEGIN:DAYLIGHT
TZOFFSETFROM:+0000
TZOFFSETTO:+0100
TZNAME:BST
DTSTART:20220327T010000
END:DAYLIGHT
BEGIN:STANDARD
TZOFFSETFROM:+0100
TZOFFSETTO:+0000
TZNAME:GMT
DTSTART:20221030T010000
END:STANDARD
BEGIN:DAYLIGHT
TZOFFSETFROM:+0000
TZOFFSETTO:+0100
TZNAME:BST
DTSTART:20230326T010000
END:DAYLIGHT
BEGIN:STANDARD
TZOFFSETFROM:+0100
TZOFFSETTO:+0000
TZNAME:GMT
DTSTART:20231029T010000
END:STANDARD
BEGIN:DAYLIGHT
TZOFFSETFROM:+0000
TZOFFSETTO:+0100
TZNAME:BST
DTSTART:20240331T010000
END:DAYLIGHT
BEGIN:STANDARD
TZOFFSETFROM:+0100
TZOFFSETTO:+0000
TZNAME:GMT
DTSTART:20241027T010000
END:STANDARD
END:VTIMEZONE
BEGIN:VEVENT
DTSTART;TZID=Europe/London:20231202T120000
DTEND;TZID=Europe/London:20231202T150000
DTSTAMP:20260421T234051
CREATED:20231020T135200Z
LAST-MODIFIED:20231102T150221Z
UID:20304-1701518400-1701529200@hcvs.org.uk
SUMMARY:Woodberry Wetlands Neighbourhood Forum
DESCRIPTION:Woodberry Wetlands Neighbourhood Forum \nThe theme of the next Woodberry Wetlands Forum is a wellbeing day for asylum seekers.The forum is at the Redmond Community Centre\, Kaylani Avenue\, N4 2HF. \nBook here
URL:https://hcvs.org.uk/event/woodberry-wetlands-neighbourhood-forum-3/
CATEGORIES:Neighbourhoods
ATTACH;FMTTYPE=image/jpeg:https://hcvs.org.uk/wp-content/uploads/2023/10/DSC_0009-scaled.jpg
END:VEVENT
BEGIN:VEVENT
DTSTART;TZID=Europe/London:20231205T093000
DTEND;TZID=Europe/London:20231205T130000
DTSTAMP:20260421T234051
CREATED:20231117T153801Z
LAST-MODIFIED:20231128T150450Z
UID:20504-1701768600-1701781200@hcvs.org.uk
SUMMARY:Anti-racist commissioning workshop 2
DESCRIPTION:In this workshop\, we will continue delivering the commissioning model that we have agreed\, focusing on a nominated health inequality. The session could include hearing from community groups delivering in this area of work and what they think would support residents best and doing a vote. However\, it depends on what is decided by the group during the blue-sky thinking workshop. \nPlease note this session will be taking place in-person at Hoxton Hall\, 130 Hoxton Street\, London N1 6SH. \nPlease register your place at https://crm.hcvs.org.uk/civicrm/event/info?id=1294 \nYou can find out more about our anti-racist commissioning work at https://hcvs.org.uk/antiracistcommissioning \nIf you have any questions about this workshop or Hackney CVS’s anti-racist commissioning work\, please email peter@hcvs.org.uk  \nCo-produced project values: \n\nCo-owned / co-produced​\nLearning and impact created throughout the journey​\nValue community resilience and helping communities help themselves​\nPrioritise collaboration ​\nShared power​\nEmphasis on global majority communities​\n\nCo-produced project approach: \n\nNot following ‘typical governance’ framework with structural/systemic racism built in ​\nIdeas proposed for community to deconstruct and improve ​\nBuild on what has been done before and is happening elsewhere\nData to have a ‘reasonable’ influence\nBuild evidence of what works and what doesn’t for communities and the health and care system through evaluation
URL:https://hcvs.org.uk/event/arcworkshop2/
END:VEVENT
BEGIN:VEVENT
DTSTART;TZID=Europe/London:20231206T110000
DTEND;TZID=Europe/London:20231206T123000
DTSTAMP:20260421T234051
CREATED:20230914T151336Z
LAST-MODIFIED:20231129T122127Z
UID:20042-1701860400-1701865800@hcvs.org.uk
SUMMARY:Learning Disabilities and Autism Special Interest Group meeting
DESCRIPTION:Our Learning Disabilities and Autism Special Interest Group meeting provides a forum in Hackney and City for anyone with an interest in the provision of services for people with learning disabilities and autism. \nRegister at https://crm.hcvs.org.uk/civicrm/event/info?id=1284
URL:https://hcvs.org.uk/event/learning-disabilities-and-autism-special-interest-group-meeting-3/
CATEGORIES:network
ATTACH;FMTTYPE=image/jpeg:https://hcvs.org.uk/wp-content/uploads/2023/11/DSCF2559.jpg
ORGANIZER;CN="Hackney CVS":MAILTO:reception@hcvs.org.uk
END:VEVENT
BEGIN:VEVENT
DTSTART;TZID=Europe/London:20231212T093000
DTEND;TZID=Europe/London:20231212T113000
DTSTAMP:20260421T234051
CREATED:20230829T155402Z
LAST-MODIFIED:20231117T152352Z
UID:19930-1702373400-1702380600@hcvs.org.uk
SUMMARY:City of London Coffee and Networking Morning
DESCRIPTION:Join Hackney CVS for an informal but informative coffee morning in the City on Tuesday 12th December 9:30-11:30am at Portsoken Community Centre. \nIt’s an opportunity for local organisations and community groups to meet one another\, share what programmes they’re delivering\, and explore opportunities to collaborate in supporting our communities. We’ve seen some great outcomes\, of statutory providers and the council working with smaller VCS organisations to improve outcomes for marginalised communities across City of London. \nWe’ll provide free refreshments and drinks\, and HCVS staff will be on hand to chat you about our forums and specialist interest groups\, and organisational development services. \nRegister at https://crm.hcvs.org.uk/civicrm/event/info?id=1272 
URL:https://hcvs.org.uk/event/city-of-london-coffee-and-networking-morning-2/
LOCATION:Portsoken Community Centre\, 20 Little Somerset Street\, London\, E1 8AE\, United Kingdom
ATTACH;FMTTYPE=image/jpeg:https://hcvs.org.uk/wp-content/uploads/2023/06/6ef0e78d-fa41-5eee-b328-2013b1b0d9f3-1.jpg
GEO:51.5130082;-0.0750962
X-APPLE-STRUCTURED-LOCATION;VALUE=URI;X-ADDRESS=Portsoken Community Centre 20 Little Somerset Street London E1 8AE United Kingdom;X-APPLE-RADIUS=500;X-TITLE=20 Little Somerset Street:geo:-0.0750962,51.5130082
END:VEVENT
BEGIN:VEVENT
DTSTART;TZID=Europe/London:20231212T110000
DTEND;TZID=Europe/London:20231212T123000
DTSTAMP:20260421T234051
CREATED:20231207T161108Z
LAST-MODIFIED:20231207T161234Z
UID:20661-1702378800-1702384200@hcvs.org.uk
SUMMARY:Hackney Advice Forum
DESCRIPTION:Hackney Advice Forum \nThe Hackney Advice Forum (HAF) provides independent advice agencies a space to improve the quality\, level and co-ordination of their services.\n12 December. Read more
URL:https://hcvs.org.uk/event/hackney-advice-forum-4/
CATEGORIES:network
ATTACH;FMTTYPE=image/jpeg:https://hcvs.org.uk/wp-content/uploads/2023/11/DSCF2648-1.jpg
END:VEVENT
BEGIN:VEVENT
DTSTART;TZID=Europe/London:20231214T133000
DTEND;TZID=Europe/London:20231214T163000
DTSTAMP:20260421T234051
CREATED:20231207T161206Z
LAST-MODIFIED:20231207T161300Z
UID:20663-1702560600-1702571400@hcvs.org.uk
SUMMARY:Introduction to domestic abuse awareness
DESCRIPTION:This half-day online session will help participants understand what ‘domestic violence’ means\, the different types of abuse\, and what to do if you spot the signs of abuse.\n14 December. Register here
URL:https://hcvs.org.uk/event/introduction-to-domestic-abuse-awareness/
CATEGORIES:training
ATTACH;FMTTYPE=image/jpeg:https://hcvs.org.uk/wp-content/uploads/2023/11/IMG_0025-1-scaled.jpg
END:VEVENT
END:VCALENDAR