BEGIN:VCALENDAR
VERSION:2.0
PRODID:-//Hackney CVS - ECPv6.15.20//NONSGML v1.0//EN
CALSCALE:GREGORIAN
METHOD:PUBLISH
X-WR-CALNAME:Hackney CVS
X-ORIGINAL-URL:https://hcvs.org.uk
X-WR-CALDESC:Events for Hackney CVS
REFRESH-INTERVAL;VALUE=DURATION:PT1H
X-Robots-Tag:noindex
X-PUBLISHED-TTL:PT1H
BEGIN:VTIMEZONE
TZID:Europe/London
BEGIN:DAYLIGHT
TZOFFSETFROM:+0000
TZOFFSETTO:+0100
TZNAME:BST
DTSTART:20220327T010000
END:DAYLIGHT
BEGIN:STANDARD
TZOFFSETFROM:+0100
TZOFFSETTO:+0000
TZNAME:GMT
DTSTART:20221030T010000
END:STANDARD
BEGIN:DAYLIGHT
TZOFFSETFROM:+0000
TZOFFSETTO:+0100
TZNAME:BST
DTSTART:20230326T010000
END:DAYLIGHT
BEGIN:STANDARD
TZOFFSETFROM:+0100
TZOFFSETTO:+0000
TZNAME:GMT
DTSTART:20231029T010000
END:STANDARD
BEGIN:DAYLIGHT
TZOFFSETFROM:+0000
TZOFFSETTO:+0100
TZNAME:BST
DTSTART:20240331T010000
END:DAYLIGHT
BEGIN:STANDARD
TZOFFSETFROM:+0100
TZOFFSETTO:+0000
TZNAME:GMT
DTSTART:20241027T010000
END:STANDARD
END:VTIMEZONE
BEGIN:VEVENT
DTSTART;TZID=Europe/London:20231002T093000
DTEND;TZID=Europe/London:20231002T133000
DTSTAMP:20260421T133201
CREATED:20230921T122236Z
LAST-MODIFIED:20230921T122810Z
UID:20095-1696239000-1696253400@hcvs.org.uk
SUMMARY:Bid Writing and Financial Planning
DESCRIPTION:Bid Writing and Financial Planning \nThis half-day training aims to increase the skills and knowledge needed to write a funding proposal and set a budget. \nDuring the session you will learn how to build an overall plan for a bid proposal\, including: \n– How to analyse your organisation and demonstrate need. \n– How to financially plan and set a budget including Full cost recovery \n– How to apply Financial Monitoring and Management \n2 October. Register now
URL:https://hcvs.org.uk/event/bid-writing-and-financial-planning-2/
CATEGORIES:training
ATTACH;FMTTYPE=image/jpeg:https://hcvs.org.uk/wp-content/uploads/2023/09/cfc4f895-73c5-0b50-392c-57a568210f7e.jpeg
END:VEVENT
BEGIN:VEVENT
DTSTART;TZID=Europe/London:20231003T110000
DTEND;TZID=Europe/London:20231003T130000
DTSTAMP:20260421T133201
CREATED:20230914T122125Z
LAST-MODIFIED:20230914T122225Z
UID:20038-1696330800-1696338000@hcvs.org.uk
SUMMARY:VCS Children and Families Forum
DESCRIPTION:VCS Children and Families Forum\nJoin us for the next Children and Families Forum\, which takes place in-person at the Hackney CVS office.\n3 October. Register here
URL:https://hcvs.org.uk/event/vcs-children-and-families-forum-3/
CATEGORIES:network
ATTACH;FMTTYPE=image/jpeg:https://hcvs.org.uk/wp-content/uploads/2023/06/20230615-20230615_1157170.jpg
END:VEVENT
BEGIN:VEVENT
DTSTART;TZID=Europe/London:20231005T150000
DTEND;TZID=Europe/London:20231005T163000
DTSTAMP:20260421T133201
CREATED:20230829T154544Z
LAST-MODIFIED:20231004T065201Z
UID:19924-1696518000-1696523400@hcvs.org.uk
SUMMARY:LGBTQIA+ Special Interest Group
DESCRIPTION:LGBTQIA+ Special Interest Group meeting\nOur LGBTQIA+ SIG meeting is for any organisations in City and Hackney that work with LGBTQIA+ issues. The next meeting will include an update on the Action Plan of the LGBTQIA+ Strategy. \nRegister at https://crm.hcvs.org.uk/civicrm/event/info?id=1276
URL:https://hcvs.org.uk/event/lgbtqia-special-interest-group-meeting-3/
ATTACH;FMTTYPE=image/jpeg:https://hcvs.org.uk/wp-content/uploads/2023/08/IMG_0121-scaled.jpg
ORGANIZER;CN="Hackney CVS":MAILTO:reception@hcvs.org.uk
END:VEVENT
BEGIN:VEVENT
DTSTART;TZID=Europe/London:20231010T093000
DTEND;TZID=Europe/London:20231010T113000
DTSTAMP:20260421T133201
CREATED:20230829T154853Z
LAST-MODIFIED:20230829T155531Z
UID:19927-1696930200-1696937400@hcvs.org.uk
SUMMARY:City of London Coffee and Networking Morning
DESCRIPTION:Join Hackney CVS for an informal but informative coffee morning in the City on Tuesday 10th October 9:30-11:30am at Portsoken Community Centre. \nIt’s an opportunity for local organisations and community groups to meet one another\, share what programmes they’re delivering\, and explore opportunities to collaborate in supporting our communities. We’ve seen some great outcomes\, of statutory providers and the council working with smaller VCS organisations to improve outcomes for marginalised communities across City of London. \nWe’ll provide free refreshments and drinks\, and HCVS staff will be on hand to chat you about our forums and specialist interest groups\, and organisational development services. \nRegister at https://crm.hcvs.org.uk/civicrm/event/info?id=1270 \nNot able to attend the coffee morning in October? We’ll be returning to Portsoken Community Centre on Tuesday 14th November and Tuesday 12th December 9:30-11:30am
URL:https://hcvs.org.uk/event/city-coffee-oct23/
LOCATION:Portsoken Community Centre\, 20 Little Somerset Street\, London\, E1 8AE\, United Kingdom
ATTACH;FMTTYPE=image/jpeg:https://hcvs.org.uk/wp-content/uploads/2023/06/6ef0e78d-fa41-5eee-b328-2013b1b0d9f3-1.jpg
GEO:51.5130082;-0.0750962
X-APPLE-STRUCTURED-LOCATION;VALUE=URI;X-ADDRESS=Portsoken Community Centre 20 Little Somerset Street London E1 8AE United Kingdom;X-APPLE-RADIUS=500;X-TITLE=20 Little Somerset Street:geo:-0.0750962,51.5130082
END:VEVENT
BEGIN:VEVENT
DTSTART;TZID=Europe/London:20231018T130000
DTEND;TZID=Europe/London:20231018T170000
DTSTAMP:20260421T133201
CREATED:20231004T084806Z
LAST-MODIFIED:20231004T084806Z
UID:20142-1697634000-1697648400@hcvs.org.uk
SUMMARY:Black History Season Open Afternoon at Hackney CVS
DESCRIPTION:On 18 October we invite the VCS\, statutory partners and funders to experience our exhibition and to learn about some of the work we are undertaking on EDI and Anti-Racism.The afternoon agenda includes: \n\n1pm-2pm: Lunch\, accompanied by African drumming. Vegetarian and vegan lunch options available.\n2pm-3.30pm: Workshop on Anti-Racism facilitated by BLM London. Followed by an update on Hackney CVS’s EDI and Anti-Racism strategy.\n3.30pm-5.00pm: Drinks reception to close.\n\nWe would very much like you to join us for the event.Register here
URL:https://hcvs.org.uk/event/black-history-season-open-afternoon-at-hackney-cvs/
ATTACH;FMTTYPE=image/png:https://hcvs.org.uk/wp-content/uploads/2023/09/571b34c3-5927-de11-8f3a-310576af3c1a.png
END:VEVENT
BEGIN:VEVENT
DTSTART;TZID=Europe/London:20231025T100000
DTEND;TZID=Europe/London:20231025T130000
DTSTAMP:20260421T133201
CREATED:20231023T095258Z
LAST-MODIFIED:20231023T100006Z
UID:20310-1698228000-1698238800@hcvs.org.uk
SUMMARY:Anti-racist commissioning blue-sky thinking workshop
DESCRIPTION:In this interactive workshop Hackney VCS and statutory partners will come together to be inspired and open their minds about what commissioning and health could look like in our communities if there was no racism.\n\nWe will then deconstruct different commissioning approaches and rebuild a commissioning model that we believe is anti-racist to deliver in the coming weeks. \nPlease note this session will be taking place in-person at Core Clapton. \nRegister at https://crm.hcvs.org.uk/civicrm/event/info?id=1292 \nHere’s an overview of the upcoming Anti-racist Commissioning workshops: \n\n\n\nAnti-racist commissioning blue-sky thinking workshop\nWednesday 25th October 25th 10am-1pm\nRegister at https://crm.hcvs.org.uk/civicrm/event/info?id=1292\n\n\nAnti-racist commissioning workshop 1\nMonday 13th November  1-5pm\nRegister at https://crm.hcvs.org.uk/civicrm/event/info?id=1293\n\n\nAnti-racist commissioning workshop 2\nTuesday 5th December  9:30am-1pm\nRegister at https://crm.hcvs.org.uk/civicrm/event/info?id=1294\n\n\n\nYou can find out more about our anti-racist commissioning work at https://hcvs.org.uk/antiracistcommissioning \nIf you have any questions about this workshop or Hackney CVS’s anti-racist commissioning work\, please email peter@hcvs.org.uk \n  \nCoproduced project values: \n\nCo-owned / co-produced​\nLearning and impact created throughout the journey​\nValue community resilience and helping communities help themselves​\nPrioritise collaboration ​\nShared power​\nEmphasis on global majority communities​\n\nCoproduced project approach: \n\nNot following ‘typical governance’ framework with structural/systemic racism built in ​\nIdeas proposed for community to deconstruct and improve ​\nBuild on what has been done before and is happening elsewhere\nData to have a ‘reasonable’ influence\nBuild evidence of what works and what doesn’t for communities and the health and care system through evaluation
URL:https://hcvs.org.uk/event/antiracistbluesky/
LOCATION:Core Clapton\, 161 Northwold Road\, London\, E5 8RL
CATEGORIES:network
ORGANIZER;CN="Hackney CVS":MAILTO:reception@hcvs.org.uk
GEO:51.5629357;-0.0617621
X-APPLE-STRUCTURED-LOCATION;VALUE=URI;X-ADDRESS=Core Clapton 161 Northwold Road London E5 8RL;X-APPLE-RADIUS=500;X-TITLE=161 Northwold Road:geo:-0.0617621,51.5629357
END:VEVENT
BEGIN:VEVENT
DTSTART;TZID=Europe/London:20231031T093000
DTEND;TZID=Europe/London:20231031T133000
DTSTAMP:20260421T133201
CREATED:20230926T134832Z
LAST-MODIFIED:20231011T175740Z
UID:20098-1698744600-1698759000@hcvs.org.uk
SUMMARY:Introduction to domestic abuse awareness training
DESCRIPTION:This free introductory half-day session will help you to understand what the term ‘domestic violence’ means\, the different types of abuse and what to do if you spot the signs of abuse.\n31 October. Book here
URL:https://hcvs.org.uk/event/introduction-to-domestic-abuse-awareness-training/
CATEGORIES:training
ATTACH;FMTTYPE=image/jpeg:https://hcvs.org.uk/wp-content/uploads/2023/09/cfc4f895-73c5-0b50-392c-57a568210f7e.jpeg
END:VEVENT
BEGIN:VEVENT
DTSTART;TZID=Europe/London:20231031T110000
DTEND;TZID=Europe/London:20231031T130000
DTSTAMP:20260421T133201
CREATED:20231005T163729Z
LAST-MODIFIED:20231005T163729Z
UID:20171-1698750000-1698757200@hcvs.org.uk
SUMMARY:Shoreditch Park and the City Neighbourhood Forum    
DESCRIPTION:Our quarterly forum brings together residents\, health practitioners\, VCS organisations\, and councillors to discuss health priorities and needs of the local area.\n31 October.  Read more
URL:https://hcvs.org.uk/event/shoreditch-park-and-the-city-neighbourhood-forum/
ATTACH;FMTTYPE=image/jpeg:https://hcvs.org.uk/wp-content/uploads/2023/10/20220324_1250450.jpg
END:VEVENT
END:VCALENDAR