BEGIN:VCALENDAR
VERSION:2.0
PRODID:-//Hackney CVS - ECPv6.15.20//NONSGML v1.0//EN
CALSCALE:GREGORIAN
METHOD:PUBLISH
X-WR-CALNAME:Hackney CVS
X-ORIGINAL-URL:https://hcvs.org.uk
X-WR-CALDESC:Events for Hackney CVS
REFRESH-INTERVAL;VALUE=DURATION:PT1H
X-Robots-Tag:noindex
X-PUBLISHED-TTL:PT1H
BEGIN:VTIMEZONE
TZID:Europe/London
BEGIN:DAYLIGHT
TZOFFSETFROM:+0000
TZOFFSETTO:+0100
TZNAME:BST
DTSTART:20220327T010000
END:DAYLIGHT
BEGIN:STANDARD
TZOFFSETFROM:+0100
TZOFFSETTO:+0000
TZNAME:GMT
DTSTART:20221030T010000
END:STANDARD
BEGIN:DAYLIGHT
TZOFFSETFROM:+0000
TZOFFSETTO:+0100
TZNAME:BST
DTSTART:20230326T010000
END:DAYLIGHT
BEGIN:STANDARD
TZOFFSETFROM:+0100
TZOFFSETTO:+0000
TZNAME:GMT
DTSTART:20231029T010000
END:STANDARD
BEGIN:DAYLIGHT
TZOFFSETFROM:+0000
TZOFFSETTO:+0100
TZNAME:BST
DTSTART:20240331T010000
END:DAYLIGHT
BEGIN:STANDARD
TZOFFSETFROM:+0100
TZOFFSETTO:+0000
TZNAME:GMT
DTSTART:20241027T010000
END:STANDARD
END:VTIMEZONE
BEGIN:VEVENT
DTSTART;TZID=Europe/London:20230905T140000
DTEND;TZID=Europe/London:20230905T153000
DTSTAMP:20260420T082357
CREATED:20230817T142636Z
LAST-MODIFIED:20230817T142636Z
UID:19805-1693922400-1693927800@hcvs.org.uk
SUMMARY:Hackney Marshes Neighbourhood Forum Meeting
DESCRIPTION:Finding Mental Health and Wellbeing offers in Hackney Marshes
URL:https://hcvs.org.uk/event/hackney-marshes-neighbourhood-forum-meeting-2/
LOCATION:Chats Palace 42-44 Brooksby’s Walk London\, E9 6DF
END:VEVENT
BEGIN:VEVENT
DTSTART;TZID=Europe/London:20230907T130000
DTEND;TZID=Europe/London:20230907T143000
DTSTAMP:20260420T082357
CREATED:20230907T140831Z
LAST-MODIFIED:20230907T140907Z
UID:20018-1694091600-1694097000@hcvs.org.uk
SUMMARY:Springfield Park Neighbourhood Forum
DESCRIPTION:Our quarterly forum brings together residents\, health practitioners\, VCS organisations\, and councillors to discuss health priorities and needs of the local area.\nAnswering your questions about adult social care\nIn response to the questions raised at our last meeting\, come along to September’s forum to find out about the range of ways in which adult social care can support residents\, how to access help\, and meet your neighbours. \nSeptember 19th\, 2023 1:00 PM through 2:30 PM \nLocation\nThe Boiler House Community Space\nGeorge Downing Estate\, Cazenove Road\nLondon\, N16 6BE \nRegister now \n 
URL:https://hcvs.org.uk/event/springfield-park-neighbourhood-forum-3/
CATEGORIES:Neighbourhoods
ATTACH;FMTTYPE=image/jpeg:https://hcvs.org.uk/wp-content/uploads/2023/06/20230615-WIN_20230615_12_55_45_Pro.jpg
END:VEVENT
BEGIN:VEVENT
DTSTART;TZID=Europe/London:20230912T110000
DTEND;TZID=Europe/London:20230912T123000
DTSTAMP:20260420T082357
CREATED:20230829T154123Z
LAST-MODIFIED:20230829T154123Z
UID:19919-1694516400-1694521800@hcvs.org.uk
SUMMARY:Learning Disabilities and Autism Special Interest Group meeting
DESCRIPTION:Our Learning Disabilities and Autism Special Interest Group meeting provides a forum in Hackney and City for anyone with an interest in the provision of services for people with learning disabilities and autism. \nRegister at https://crm.hcvs.org.uk/civicrm/event/info?id=1274
URL:https://hcvs.org.uk/event/learning-disabilities-and-autism-special-interest-group-meeting-2/
CATEGORIES:network
ORGANIZER;CN="Hackney CVS":MAILTO:reception@hcvs.org.uk
END:VEVENT
BEGIN:VEVENT
DTSTART;TZID=Europe/London:20230912T140000
DTEND;TZID=Europe/London:20230912T140000
DTSTAMP:20260420T082357
CREATED:20230817T152422Z
LAST-MODIFIED:20230906T221158Z
UID:19817-1694527200-1694527200@hcvs.org.uk
SUMMARY:London Fields Neighbourhood Forum
DESCRIPTION:Our quarterly forum brings together residents\, health practitioners\, VCS organisations\, and councillors to discuss health priorities and needs of the local area. \nWhat Do You Think About Health & Care Services in London Fields? \nRegister here:https://crm.hcvs.org.uk/civicrm/event/info?reset=1&id=1262
URL:https://hcvs.org.uk/event/london-fields-neighbourhood-forum-4/
LOCATION:Halkevi Centre 31-33 Dalston Lane London\, E8 3DF
ATTACH;FMTTYPE=image/jpeg:https://hcvs.org.uk/wp-content/uploads/2017/06/what-we-do-e1519397753151.jpg
END:VEVENT
BEGIN:VEVENT
DTSTART;TZID=Europe/London:20230919T110000
DTEND;TZID=Europe/London:20230919T123000
DTSTAMP:20260420T082357
CREATED:20230829T154345Z
LAST-MODIFIED:20230829T154345Z
UID:19922-1695121200-1695126600@hcvs.org.uk
SUMMARY:Hackney Advice Forum 
DESCRIPTION:The Hackney Advice Forum (HAF) is a network of local advice agencies and those involved in advice work. Together\, forum members learn and develop effective ways of working together\, helping the sector obtain the resources it needs. \nRegister at https://crm.hcvs.org.uk/civicrm/event/info?id=1263
URL:https://hcvs.org.uk/event/hackney-advice-forum-6/
CATEGORIES:network
ORGANIZER;CN="Hackney CVS":MAILTO:reception@hcvs.org.uk
END:VEVENT
BEGIN:VEVENT
DTSTART;TZID=Europe/London:20230920T110000
DTEND;TZID=Europe/London:20230920T123000
DTSTAMP:20260420T082357
CREATED:20230911T094929Z
LAST-MODIFIED:20230914T121745Z
UID:19962-1695207600-1695213000@hcvs.org.uk
SUMMARY:Mental Health Special Interest Group meeting
DESCRIPTION:The Mental Health SIG aims to reduce waiting lists and improve access to quality care\, while addressing crisis and preventable suicides. \nRegister at https://crm.hcvs.org.uk/civicrm/event/info?reset=1&id=1273
URL:https://hcvs.org.uk/event/mental-health-special-interest-group-meeting-3/
ORGANIZER;CN="Hackney CVS":MAILTO:reception@hcvs.org.uk
END:VEVENT
BEGIN:VEVENT
DTSTART;TZID=Europe/London:20230921T100000
DTEND;TZID=Europe/London:20230921T170000
DTSTAMP:20260420T082357
CREATED:20230831T112520Z
LAST-MODIFIED:20230831T124409Z
UID:19966-1695290400-1695315600@hcvs.org.uk
SUMMARY:Introduction to youth mentoring - Train the trainer
DESCRIPTION:Introduction to youth mentoring – Train the trainer\nThis one-day introduction to youth mentoring is perfect for volunteer managers\, mentoring programme coordinators and those new to mentoring.\n21 September. Register here
URL:https://hcvs.org.uk/event/introduction-to-youth-mentoring-train-the-trainer-2/
CATEGORIES:training
ATTACH;FMTTYPE=image/jpeg:https://hcvs.org.uk/wp-content/uploads/2023/08/IMG_0032-scaled.jpg
END:VEVENT
BEGIN:VEVENT
DTSTART;TZID=Europe/London:20230926T110000
DTEND;TZID=Europe/London:20230926T120000
DTSTAMP:20260420T082357
CREATED:20230921T093332Z
LAST-MODIFIED:20230921T093332Z
UID:20090-1695726000-1695729600@hcvs.org.uk
SUMMARY:Hackney Giving's How to Apply workshop
DESCRIPTION:Hackney Giving’s How to Apply workshop\nThis workshop will cover the Hackney Giving and LBH Cost of Living Grant programme guidance and how to complete the application form.\n26 September. Book a place
URL:https://hcvs.org.uk/event/hackney-givings-how-to-apply-workshop/
CATEGORIES:training
ATTACH;FMTTYPE=image/jpeg:https://hcvs.org.uk/wp-content/uploads/2023/09/DSCF2667.jpg
END:VEVENT
BEGIN:VEVENT
DTSTART;TZID=Europe/London:20230927T130000
DTEND;TZID=Europe/London:20230927T143000
DTSTAMP:20260420T082357
CREATED:20230921T093806Z
LAST-MODIFIED:20230921T093806Z
UID:20093-1695819600-1695825000@hcvs.org.uk
SUMMARY:Hackney Refugee and Migrant Forum
DESCRIPTION:This quarterly forum is for organisations that work with refugees and migrants. It provides an opportunity for organisations to discuss and plan work together.\n27 September. Register here
URL:https://hcvs.org.uk/event/hackney-refugee-and-migrant-forum-2/
CATEGORIES:network
ATTACH;FMTTYPE=image/jpeg:https://hcvs.org.uk/wp-content/uploads/2023/06/20230615-20230615_1009460.jpg
END:VEVENT
BEGIN:VEVENT
DTSTART;TZID=Europe/London:20230929T093000
DTEND;TZID=Europe/London:20230929T113000
DTSTAMP:20260420T082357
CREATED:20230904T081103Z
LAST-MODIFIED:20230921T093501Z
UID:19976-1695979800-1695987000@hcvs.org.uk
SUMMARY:Hackney CVS Coffee and Networking Morning
DESCRIPTION:Are you an organisation delivering services that support health\, care or well-being in City and Hackney? Join HCVS for a coffee and networking morning. \n9:30-11:30am on Friday 29th September 9:30-11:30am. \nPlease register online at https://crm.hcvs.org.uk/civicrm/event/info?id=1250
URL:https://hcvs.org.uk/event/coffeesept23/
ATTACH;FMTTYPE=image/jpeg:https://hcvs.org.uk/wp-content/uploads/2023/06/6ef0e78d-fa41-5eee-b328-2013b1b0d9f3-1.jpg
END:VEVENT
END:VCALENDAR