BEGIN:VCALENDAR
VERSION:2.0
PRODID:-//Hackney CVS - ECPv6.15.20//NONSGML v1.0//EN
CALSCALE:GREGORIAN
METHOD:PUBLISH
X-ORIGINAL-URL:https://hcvs.org.uk
X-WR-CALDESC:Events for Hackney CVS
REFRESH-INTERVAL;VALUE=DURATION:PT1H
X-Robots-Tag:noindex
X-PUBLISHED-TTL:PT1H
BEGIN:VTIMEZONE
TZID:Europe/London
BEGIN:DAYLIGHT
TZOFFSETFROM:+0000
TZOFFSETTO:+0100
TZNAME:BST
DTSTART:20220327T010000
END:DAYLIGHT
BEGIN:STANDARD
TZOFFSETFROM:+0100
TZOFFSETTO:+0000
TZNAME:GMT
DTSTART:20221030T010000
END:STANDARD
BEGIN:DAYLIGHT
TZOFFSETFROM:+0000
TZOFFSETTO:+0100
TZNAME:BST
DTSTART:20230326T010000
END:DAYLIGHT
BEGIN:STANDARD
TZOFFSETFROM:+0100
TZOFFSETTO:+0000
TZNAME:GMT
DTSTART:20231029T010000
END:STANDARD
BEGIN:DAYLIGHT
TZOFFSETFROM:+0000
TZOFFSETTO:+0100
TZNAME:BST
DTSTART:20240331T010000
END:DAYLIGHT
BEGIN:STANDARD
TZOFFSETFROM:+0100
TZOFFSETTO:+0000
TZNAME:GMT
DTSTART:20241027T010000
END:STANDARD
END:VTIMEZONE
BEGIN:VEVENT
DTSTART;VALUE=DATE:20230704
DTEND;VALUE=DATE:20230705
DTSTAMP:20260419T210634
CREATED:20230628T155431Z
LAST-MODIFIED:20230628T155431Z
UID:19595-1688428800-1688515199@hcvs.org.uk
SUMMARY:Well Street Common Neighbourhood Forum
DESCRIPTION:Well Street Common Neighbourhood Forum  \nJoin the next Well Street Common Neighbourhood Forum when they will discuss: Ageing Well in Well Street Common Neighbourhood.\n4 July. Read more
URL:https://hcvs.org.uk/event/well-street-common-neighbourhood-forum-3/
CATEGORIES:training
ATTACH;FMTTYPE=image/jpeg:https://hcvs.org.uk/wp-content/uploads/2023/06/20230615-20230615_1009460.jpg
END:VEVENT
BEGIN:VEVENT
DTSTART;VALUE=DATE:20230706
DTEND;VALUE=DATE:20230707
DTSTAMP:20260419T210634
CREATED:20230601T104056Z
LAST-MODIFIED:20230601T104421Z
UID:19457-1688601600-1688687999@hcvs.org.uk
SUMMARY:Introduction to youth mentoring - Train the trainer
DESCRIPTION:This one-day introduction to youth mentoring is perfect for volunteer managers\, mentoring programme coordinators and those new to mentoring.\n6 July. Register here
URL:https://hcvs.org.uk/event/introduction-to-youth-mentoring-train-the-trainer/
CATEGORIES:training
END:VEVENT
BEGIN:VEVENT
DTSTART;VALUE=DATE:20230717
DTEND;VALUE=DATE:20230718
DTSTAMP:20260419T210634
CREATED:20230629T102136Z
LAST-MODIFIED:20230629T102136Z
UID:19605-1689552000-1689638399@hcvs.org.uk
SUMMARY:AI conversations for the voluntary and community sector
DESCRIPTION:AI conversations for the voluntary and community sector \nELBA and Hackney CVS are holding a panel discussion and networking event on artificial intelligence (AI) and the voluntary and community sector.\n17 July. Register here
URL:https://hcvs.org.uk/event/ai-conversations-for-the-voluntary-and-community-sector/
END:VEVENT
BEGIN:VEVENT
DTSTART;VALUE=DATE:20230718
DTEND;VALUE=DATE:20230719
DTSTAMP:20260419T210634
CREATED:20230629T102234Z
LAST-MODIFIED:20230629T102234Z
UID:19608-1689638400-1689724799@hcvs.org.uk
SUMMARY:Hackney Downs Neighbourhood Forum meeting
DESCRIPTION:Join this quarterly Neighbourhood Forum for a discussion on improving the health and wellbeing of residents in the Hackney Downs neighbourhood.\n18 July. Book here
URL:https://hcvs.org.uk/event/hackney-downs-neighbourhood-forum-meeting/
CATEGORIES:Neighbourhoods
END:VEVENT
BEGIN:VEVENT
DTSTART;VALUE=DATE:20230719
DTEND;VALUE=DATE:20230720
DTSTAMP:20260419T210634
CREATED:20230628T142637Z
LAST-MODIFIED:20230628T144346Z
UID:19591-1689724800-1689811199@hcvs.org.uk
SUMMARY:Hackney CVS community awards evening
DESCRIPTION:Register Now\n\n\n\n\n\nJoin us at our annual awards event at Dalston Curve Garden. \nThe Adiaha Antigha Community Achievement Awards are held each year to celebrate outstanding achievements in our sector. Winners receive a glass award and a certificate. \nThe Gary Francis Awards are held each year to celebrate young Hackney people who have achieved great things against the odds.\nWinners receive a certificate and an award of between £50 – 250. \nThe event will start at 5.30pm and close at 8.30pm. \nWe are looking forward to sharing a fabulous evening with you. \nIf you have any questions\, accessibility needs or dietary requirements ahead of the event please contact our Director of Communications and VCS Support\, Matt Bray\, e: matt@hcvs.org.uk. \nYou are welcome to join us in the afternoon in our office for an Open Day session where we will be launching our 5 year Strategic Plan and presenting some of our programmes and services. (No booking required for the Open Day). \n\n\nRegister Now\n\n\n\n\n 
URL:https://hcvs.org.uk/event/hackney-cvs-community-awards-evening/
ATTACH;FMTTYPE=image/jpeg:https://hcvs.org.uk/wp-content/uploads/2023/06/Faisal-Pirbhai_Apex-Learning-Hubnj.jpg
END:VEVENT
END:VCALENDAR