BEGIN:VCALENDAR
VERSION:2.0
PRODID:-//Hackney CVS - ECPv6.15.20//NONSGML v1.0//EN
CALSCALE:GREGORIAN
METHOD:PUBLISH
X-ORIGINAL-URL:https://hcvs.org.uk
X-WR-CALDESC:Events for Hackney CVS
REFRESH-INTERVAL;VALUE=DURATION:PT1H
X-Robots-Tag:noindex
X-PUBLISHED-TTL:PT1H
BEGIN:VTIMEZONE
TZID:Europe/London
BEGIN:DAYLIGHT
TZOFFSETFROM:+0000
TZOFFSETTO:+0100
TZNAME:BST
DTSTART:20220327T010000
END:DAYLIGHT
BEGIN:STANDARD
TZOFFSETFROM:+0100
TZOFFSETTO:+0000
TZNAME:GMT
DTSTART:20221030T010000
END:STANDARD
BEGIN:DAYLIGHT
TZOFFSETFROM:+0000
TZOFFSETTO:+0100
TZNAME:BST
DTSTART:20230326T010000
END:DAYLIGHT
BEGIN:STANDARD
TZOFFSETFROM:+0100
TZOFFSETTO:+0000
TZNAME:GMT
DTSTART:20231029T010000
END:STANDARD
BEGIN:DAYLIGHT
TZOFFSETFROM:+0000
TZOFFSETTO:+0100
TZNAME:BST
DTSTART:20240331T010000
END:DAYLIGHT
BEGIN:STANDARD
TZOFFSETFROM:+0100
TZOFFSETTO:+0000
TZNAME:GMT
DTSTART:20241027T010000
END:STANDARD
END:VTIMEZONE
BEGIN:VEVENT
DTSTART;VALUE=DATE:20230605
DTEND;VALUE=DATE:20230606
DTSTAMP:20260421T025929
CREATED:20230525T101836Z
LAST-MODIFIED:20230525T101836Z
UID:19424-1685923200-1686009599@hcvs.org.uk
SUMMARY:Hackney Giving How to apply workshop
DESCRIPTION:Hackney Giving is holding a number of How to Apply workshops. These workshops offer you the chance to hear a bit more about the funding as well as how to complete the application form. Workshops take place on: \n\n5 June\, 11am – book a place
URL:https://hcvs.org.uk/event/hackney-giving-how-to-apply-workshop-2/
ATTACH;FMTTYPE=image/png:https://hcvs.org.uk/wp-content/uploads/2023/05/e3fa41f0-034d-e9c1-9883-7552789c8fcd.png
END:VEVENT
BEGIN:VEVENT
DTSTART;VALUE=DATE:20230606
DTEND;VALUE=DATE:20230607
DTSTAMP:20260421T025929
CREATED:20230531T144729Z
LAST-MODIFIED:20230531T145047Z
UID:19449-1686009600-1686095999@hcvs.org.uk
SUMMARY:﻿London Fields Neighbourhood Forum
DESCRIPTION:The next London Fields Neighbourhood Forum brings together workers and residents to find out about local health needs and priorities.\n6 June. Read more
URL:https://hcvs.org.uk/event/london-fields-neighbourhood-forum-2/
CATEGORIES:Neighbourhoods
END:VEVENT
BEGIN:VEVENT
DTSTART;VALUE=DATE:20230612
DTEND;VALUE=DATE:20230613
DTSTAMP:20260421T025929
CREATED:20230531T144841Z
LAST-MODIFIED:20230531T144841Z
UID:19451-1686528000-1686614399@hcvs.org.uk
SUMMARY:Springfield Park Neighbourhood Forum
DESCRIPTION:The next quarterly forum for the Springfield Park Neighbourhood brings together residents\, health practitioners\, councillors and the voluntary and community sector to discuss the health priorities and needs of the local area.\n12 June. Read more
URL:https://hcvs.org.uk/event/springfield-park-neighbourhood-forum-2/
END:VEVENT
BEGIN:VEVENT
DTSTART;VALUE=DATE:20230615
DTEND;VALUE=DATE:20230616
DTSTAMP:20260421T025929
CREATED:20230601T104345Z
LAST-MODIFIED:20230601T112326Z
UID:19459-1686787200-1686873599@hcvs.org.uk
SUMMARY:Bid writing and financial planning
DESCRIPTION:This half-day training will increase the skills and knowledge needed to write a funding proposal and set a budget. In the session\, you will learn how to build an overall plan for a bid proposal.\n15 June. Register here
URL:https://hcvs.org.uk/event/bid-writing-and-financial-planning/
END:VEVENT
BEGIN:VEVENT
DTSTART;VALUE=DATE:20230616
DTEND;VALUE=DATE:20230617
DTSTAMP:20260421T025929
CREATED:20230608T164135Z
LAST-MODIFIED:20230608T164135Z
UID:19520-1686873600-1686959999@hcvs.org.uk
SUMMARY:Hackney Giving Community Chest - how to apply workshop
DESCRIPTION:This workshop will be covering the programme guidance and how to complete Hackney Giving’s Community Chest grant application form.\n16 June. Register here
URL:https://hcvs.org.uk/event/hackney-giving-community-chest-how-to-apply-workshop/
CATEGORIES:training
END:VEVENT
BEGIN:VEVENT
DTSTART;VALUE=DATE:20230620
DTEND;VALUE=DATE:20230621
DTSTAMP:20260421T025929
CREATED:20230531T144946Z
LAST-MODIFIED:20230531T144946Z
UID:19454-1687219200-1687305599@hcvs.org.uk
SUMMARY:Clissold Park Neighbourhood Forum
DESCRIPTION:The Clissold Park Neighbourhood Forum will bring participants together to discuss and gain insights for improved health and wellbeing for local residents.\n20 June. Read more
URL:https://hcvs.org.uk/event/clissold-park-neighbourhood-forum/
CATEGORIES:Neighbourhoods
END:VEVENT
BEGIN:VEVENT
DTSTART;VALUE=DATE:20230622
DTEND;VALUE=DATE:20230623
DTSTAMP:20260421T025929
CREATED:20230608T164336Z
LAST-MODIFIED:20230608T164336Z
UID:19522-1687392000-1687478399@hcvs.org.uk
SUMMARY:Hackney Giving Community Chest - how to apply workshop
DESCRIPTION:This workshop will be covering the programme guidance and how to complete Hackney Giving’s Community Chest grant application form.\n22 June. Register here
URL:https://hcvs.org.uk/event/hackney-giving-community-chest-how-to-apply-workshop-2/
CATEGORIES:training
END:VEVENT
BEGIN:VEVENT
DTSTART;VALUE=DATE:20230628
DTEND;VALUE=DATE:20230629
DTSTAMP:20260421T025929
CREATED:20230615T125313Z
LAST-MODIFIED:20230615T125313Z
UID:19543-1687910400-1687996799@hcvs.org.uk
SUMMARY:LGBTQIA+ Special Interest Group meeting
DESCRIPTION:LGBTQIA+ Special Interest Group meeting\nOur LGBTQIA+ SIG meeting is for any organisations in City and Hackney that work with LGBTQIA+ issues. The next meeting will include an update on the Action Plan of the LGBTQIA+ Strategy.\n28 June. Register here
URL:https://hcvs.org.uk/event/lgbtqia-special-interest-group-meeting-2/
END:VEVENT
BEGIN:VEVENT
DTSTART;VALUE=DATE:20230629
DTEND;VALUE=DATE:20230630
DTSTAMP:20260421T025929
CREATED:20230615T125451Z
LAST-MODIFIED:20230615T125451Z
UID:19545-1687996800-1688083199@hcvs.org.uk
SUMMARY:Creating a fundraising and income generation strategy
DESCRIPTION:Sign up for this half-day session to find out how to develop a fundraising and income generation strategy.\n29 June. Register here
URL:https://hcvs.org.uk/event/creating-a-fundraising-and-income-generation-strategy/
CATEGORIES:training
END:VEVENT
END:VCALENDAR