BEGIN:VCALENDAR
VERSION:2.0
PRODID:-//Hackney CVS - ECPv6.15.20//NONSGML v1.0//EN
CALSCALE:GREGORIAN
METHOD:PUBLISH
X-WR-CALNAME:Hackney CVS
X-ORIGINAL-URL:https://hcvs.org.uk
X-WR-CALDESC:Events for Hackney CVS
REFRESH-INTERVAL;VALUE=DURATION:PT1H
X-Robots-Tag:noindex
X-PUBLISHED-TTL:PT1H
BEGIN:VTIMEZONE
TZID:Europe/London
BEGIN:DAYLIGHT
TZOFFSETFROM:+0000
TZOFFSETTO:+0100
TZNAME:BST
DTSTART:20220327T010000
END:DAYLIGHT
BEGIN:STANDARD
TZOFFSETFROM:+0100
TZOFFSETTO:+0000
TZNAME:GMT
DTSTART:20221030T010000
END:STANDARD
BEGIN:DAYLIGHT
TZOFFSETFROM:+0000
TZOFFSETTO:+0100
TZNAME:BST
DTSTART:20230326T010000
END:DAYLIGHT
BEGIN:STANDARD
TZOFFSETFROM:+0100
TZOFFSETTO:+0000
TZNAME:GMT
DTSTART:20231029T010000
END:STANDARD
BEGIN:DAYLIGHT
TZOFFSETFROM:+0000
TZOFFSETTO:+0100
TZNAME:BST
DTSTART:20240331T010000
END:DAYLIGHT
BEGIN:STANDARD
TZOFFSETFROM:+0100
TZOFFSETTO:+0000
TZNAME:GMT
DTSTART:20241027T010000
END:STANDARD
END:VTIMEZONE
BEGIN:VEVENT
DTSTART;VALUE=DATE:20230405
DTEND;VALUE=DATE:20230406
DTSTAMP:20260421T233953
CREATED:20230301T150844Z
LAST-MODIFIED:20230301T150844Z
UID:18935-1680652800-1680739199@hcvs.org.uk
SUMMARY:LGBTQIA+ SIG Meeting
DESCRIPTION:LGBTQIA+ SIG Meeting\nRegister Now\n\n\n\n\n\n\n\nOur LGBTQIA+ SIG group is for any members working in City and Hackney organisations around LGBTQIA+ issues. LGBTQIA+ meeting exists to offer a forum in the London Borough of Hackney\, and City of London\, for anyone who has an interest in the LGBTQIA+ provision.\n\nThe purpose of the SIG is:\n– to discuss local issues faced when supporting the community\, share insights with relevant parts of the health and social care system.\n– to share information and updates about current services available.\n– to create networking and collaboration opportunities in the VCS.\n– to create opportunities for statutory and VCS partners to build relationships. \nTopic of this meeting: \n– LGBT+ Pride \n– Inclusive Education- to concede with Pride in Education \nMeeting will be held on teams \nIf you have any questions please email shamima@hcvs.org.uk \, thank you. \n\n\n\nWhen\nApril 5th\, 2023 3:00 PM through  4:30 PM
URL:https://hcvs.org.uk/event/lgbtqia-sig-meeting-2/
CATEGORIES:network
ATTACH;FMTTYPE=image/png:https://hcvs.org.uk/wp-content/uploads/2023/01/Copy-of-Untitled-16.png
END:VEVENT
BEGIN:VEVENT
DTSTART;VALUE=DATE:20230418
DTEND;VALUE=DATE:20230419
DTSTAMP:20260421T233953
CREATED:20230328T090244Z
LAST-MODIFIED:20230328T090441Z
UID:19115-1681776000-1681862399@hcvs.org.uk
SUMMARY:Well Street Common Neighbourhood Forum
DESCRIPTION:A series of Neighbourhood Forums take place across Hackney and the City of London. The forums bring together health\, council\, residents and the voluntary and community sector to agree on health and care priorities. The next forum is at Well Street Common.\n18 April. Book here
URL:https://hcvs.org.uk/event/well-street-common-neighbourhood-forum-2/
CATEGORIES:Neighbourhoods
END:VEVENT
BEGIN:VEVENT
DTSTART;VALUE=DATE:20230425
DTEND;VALUE=DATE:20230426
DTSTAMP:20260421T233953
CREATED:20230412T155635Z
LAST-MODIFIED:20230412T155635Z
UID:19173-1682380800-1682467199@hcvs.org.uk
SUMMARY:Shoreditch Park and City - Neighbourhood Forum
DESCRIPTION:A series of Neighbourhood Forums take place across Hackney and the City of London. The forums bring together health\, council\, residents and the voluntary and community sector to agree on health and care priorities. Book one of the upcoming forums:  \n\nShoreditch Park and City – 25 April. Book here
URL:https://hcvs.org.uk/event/shoreditch-park-and-city-neighbourhood-forum-2/
CATEGORIES:Neighbourhoods
END:VEVENT
BEGIN:VEVENT
DTSTART;VALUE=DATE:20230428
DTEND;VALUE=DATE:20230429
DTSTAMP:20260421T233953
CREATED:20230328T085152Z
LAST-MODIFIED:20230328T085610Z
UID:19113-1682640000-1682726399@hcvs.org.uk
SUMMARY:Hackney CVS coffee and networking morning
DESCRIPTION:Hackney CVS coffee and networking morning \nJoin us for a coffee and networking morning on the last Friday of every month. For local organisations and individuals from the voluntary and community sector\, NHS and council.\nBook here
URL:https://hcvs.org.uk/event/hackney-cvs-coffee-and-networking-morning-3/
ATTACH;FMTTYPE=image/jpeg:https://hcvs.org.uk/wp-content/uploads/2023/01/fee68d1b-354f-d66e-c7c6-760ba574827e.jpg
END:VEVENT
END:VCALENDAR