BEGIN:VCALENDAR
VERSION:2.0
PRODID:-//Hackney CVS - ECPv6.15.20//NONSGML v1.0//EN
CALSCALE:GREGORIAN
METHOD:PUBLISH
X-ORIGINAL-URL:https://hcvs.org.uk
X-WR-CALDESC:Events for Hackney CVS
REFRESH-INTERVAL;VALUE=DURATION:PT1H
X-Robots-Tag:noindex
X-PUBLISHED-TTL:PT1H
BEGIN:VTIMEZONE
TZID:Europe/London
BEGIN:DAYLIGHT
TZOFFSETFROM:+0000
TZOFFSETTO:+0100
TZNAME:BST
DTSTART:20220327T010000
END:DAYLIGHT
BEGIN:STANDARD
TZOFFSETFROM:+0100
TZOFFSETTO:+0000
TZNAME:GMT
DTSTART:20221030T010000
END:STANDARD
BEGIN:DAYLIGHT
TZOFFSETFROM:+0000
TZOFFSETTO:+0100
TZNAME:BST
DTSTART:20230326T010000
END:DAYLIGHT
BEGIN:STANDARD
TZOFFSETFROM:+0100
TZOFFSETTO:+0000
TZNAME:GMT
DTSTART:20231029T010000
END:STANDARD
BEGIN:DAYLIGHT
TZOFFSETFROM:+0000
TZOFFSETTO:+0100
TZNAME:BST
DTSTART:20240331T010000
END:DAYLIGHT
BEGIN:STANDARD
TZOFFSETFROM:+0100
TZOFFSETTO:+0000
TZNAME:GMT
DTSTART:20241027T010000
END:STANDARD
END:VTIMEZONE
BEGIN:VEVENT
DTSTART;VALUE=DATE:20230202
DTEND;VALUE=DATE:20230203
DTSTAMP:20260420T093844
CREATED:20230111T161716Z
LAST-MODIFIED:20230111T161716Z
UID:18700-1675296000-1675382399@hcvs.org.uk
SUMMARY:Developing a Theory of Change
DESCRIPTION:The Theory of Change is a tool to help you describe a situation you are trying to address\, the changes you wish to make and what steps you plan to take. Our training course will provide you with the relevant knowledge to develop your Theory of Change. Free. 2 February. Read more
URL:https://hcvs.org.uk/event/developing-a-theory-of-change-2/
CATEGORIES:training
END:VEVENT
BEGIN:VEVENT
DTSTART;VALUE=DATE:20230207
DTEND;VALUE=DATE:20230208
DTSTAMP:20260420T093844
CREATED:20230119T140833Z
LAST-MODIFIED:20230119T140833Z
UID:18723-1675728000-1675814399@hcvs.org.uk
SUMMARY:Shoreditch Park and City - Neighbourhood Forum
DESCRIPTION:Book a place at one of the upcoming Neighbourhood Forums \nA series of Neighbourhood Forums will be held across Hackney and the City of London. \nThe forums bring together health\, the council\, local residents and the voluntary and community sector (VCS) to agree health and care priorities. This includes how to address health inequalities and how to improve local services. \nShoreditch Park and City – Golden Lane Community Centre and Zoom\, 7 February\, 11am-12.30pm. Book here
URL:https://hcvs.org.uk/event/shoreditch-park-and-city-neighbourhood-forum/
CATEGORIES:Neighbourhoods
ATTACH;FMTTYPE=image/jpeg:https://hcvs.org.uk/wp-content/uploads/2023/01/d556d4f4-dfa7-1dc9-753b-eb7a6b14488f.jpg
END:VEVENT
BEGIN:VEVENT
DTSTART;VALUE=DATE:20230208
DTEND;VALUE=DATE:20230209
DTSTAMP:20260420T093844
CREATED:20230125T160623Z
LAST-MODIFIED:20230125T160623Z
UID:18741-1675814400-1675900799@hcvs.org.uk
SUMMARY:How to effectively measure impact - Doing evaluation in the real world
DESCRIPTION:This second session is about putting basic evaluation principles into practice. We’ll explore how different ways of collecting data produces different types of data\, and how these tell us different things about our work. Free.\n8 February. Book here
URL:https://hcvs.org.uk/event/how-to-effectively-measure-impact-doing-evaluation-in-the-real-world-3/
CATEGORIES:training
ATTACH;FMTTYPE=image/jpeg:https://hcvs.org.uk/wp-content/uploads/2023/01/20221113_181128.jpg
END:VEVENT
BEGIN:VEVENT
DTSTART;VALUE=DATE:20230208
DTEND;VALUE=DATE:20230209
DTSTAMP:20260420T093844
CREATED:20230202T135004Z
LAST-MODIFIED:20230202T135004Z
UID:18779-1675814400-1675900799@hcvs.org.uk
SUMMARY:LGBTQIA+ Special Interest Group meeting
DESCRIPTION:LGBTQIA+ Special Interest Group meeting \nHackney CVS will hold an LGBTQIA+ Special Interest Group (SIG) meeting this month. The meeting is for anyone in Hackney and City who has an interest in LGBTQIA+ provision.\n8 February. Register here
URL:https://hcvs.org.uk/event/lgbtqia-special-interest-group-meeting/
CATEGORIES:network
ATTACH;FMTTYPE=image/png:https://hcvs.org.uk/wp-content/uploads/2023/01/Copy-of-Untitled-16.png
END:VEVENT
BEGIN:VEVENT
DTSTART;VALUE=DATE:20230209
DTEND;VALUE=DATE:20230210
DTSTAMP:20260420T093844
CREATED:20230202T125205Z
LAST-MODIFIED:20230202T125333Z
UID:18777-1675900800-1675987199@hcvs.org.uk
SUMMARY:Leadership and Motivation Skills workshop
DESCRIPTION:Our Leadership and Motivation Skills workshop uses methods and tools that show you how to motivate yourself and your teams.\nThe workshop will help you grow your resilience and understanding of how to be a strong and supportive leader. 9 February.\nhttps://crm.hcvs.org.uk/civicrm/event/info?reset=1&id=1159
URL:https://hcvs.org.uk/event/leadership-and-motivation-skills-workshop/
CATEGORIES:training
END:VEVENT
BEGIN:VEVENT
DTSTART;VALUE=DATE:20230213
DTEND;VALUE=DATE:20230214
DTSTAMP:20260420T093844
CREATED:20230125T161216Z
LAST-MODIFIED:20230125T161216Z
UID:18744-1676246400-1676332799@hcvs.org.uk
SUMMARY:Learning Disability SIG meeting
DESCRIPTION:Networks and Special Interest Group meetings \nHackney CVS coordinates network and Special Interest Group (SIG) meetings for the voluntary and community sector. Sign up for a network meeting today! \n\nLearning Disability SIG meeting – 13 February – Book here
URL:https://hcvs.org.uk/event/learning-disability-sig-meeting/
CATEGORIES:network
ATTACH;FMTTYPE=image/jpeg:https://hcvs.org.uk/wp-content/uploads/2023/01/IMG_1016-scaled.jpg
END:VEVENT
BEGIN:VEVENT
DTSTART;VALUE=DATE:20230214
DTEND;VALUE=DATE:20230215
DTSTAMP:20260420T093844
CREATED:20230125T161424Z
LAST-MODIFIED:20230125T161424Z
UID:18747-1676332800-1676419199@hcvs.org.uk
SUMMARY:Sexual Health SIG meeting
DESCRIPTION:Networks and Special Interest Group meetings \nHackney CVS coordinates network and Special Interest Group (SIG) meetings for the voluntary and community sector. Sign up for a network meeting today! \n\nSexual Health SIG meeting – 14 February – Book here
URL:https://hcvs.org.uk/event/sexual-health-sig-meeting-6/
CATEGORIES:network
ATTACH;FMTTYPE=image/jpeg:https://hcvs.org.uk/wp-content/uploads/2023/01/fee68d1b-354f-d66e-c7c6-760ba574827e.jpg
END:VEVENT
BEGIN:VEVENT
DTSTART;VALUE=DATE:20230222
DTEND;VALUE=DATE:20230223
DTSTAMP:20260420T093844
CREATED:20230202T135516Z
LAST-MODIFIED:20230202T135630Z
UID:18784-1677024000-1677110399@hcvs.org.uk
SUMMARY:How to effectively measure impact - Using data to support your charity
DESCRIPTION:This final session will walk you through some of the issues faced in using data to support your charity’s aims. This can include data to support funding bids\, data to evidence your expertise in a particular area for commissioning\, or data to show your supporters how important your service is to service users. Free. \n22 February\, 10.30am. Book here
URL:https://hcvs.org.uk/event/how-to-effectively-measure-impact-using-data-to-support-your-charity-4/
CATEGORIES:training
END:VEVENT
BEGIN:VEVENT
DTSTART;VALUE=DATE:20230223
DTEND;VALUE=DATE:20230224
DTSTAMP:20260420T093844
CREATED:20230202T145508Z
LAST-MODIFIED:20230202T151035Z
UID:18800-1677110400-1677196799@hcvs.org.uk
SUMMARY:Risk Management
DESCRIPTION:Register Now\n\n\n\n\n\nDo you know what Risk Management is and why it’s important? Are you able to identify different risk types? Join this interactive online training session to learn how you can define and mitigate risk to help stay in control of your project and increase your chances of success.\n\nDuring the session participants will learn:\n•    Fundamentals of risk management\n•    Basic Principles*\n•    Practical tools and techniques\n•    Change management \n* This refers to the Association for Project Management’s (APM) Project and Risk Management methodology (PRAM) \n  \nTrainer\nRobert Foster delivers training on behalf of the award-winning social enterprise Red Ochre. Established in 2002 to help the not for profit to be more successful and sustainable\, Red Ochre has supported thousands of organisations in over 25 countries through workshops\, facilitation\, tool development\, mentoring and consultancy. \n*Please note the date for this training could be subject to change or cancelled if we do not have enough people registered for the session. Email zebina@hcvs.org.uk if you have any queries.  \n  \n\n\n\nWhen\nFebruary 23rd\, 2023 10:00 AM through  1:00 PM
URL:https://hcvs.org.uk/event/risk-management/
CATEGORIES:training
END:VEVENT
BEGIN:VEVENT
DTSTART;VALUE=DATE:20230227
DTEND;VALUE=DATE:20230228
DTSTAMP:20260420T093844
CREATED:20230202T143959Z
LAST-MODIFIED:20230202T144531Z
UID:18787-1677456000-1677542399@hcvs.org.uk
SUMMARY:Hackney Marshes Neighbourhood Forum
DESCRIPTION:Neighbourhood Forum\nA series of Neighbourhood Forums will be held across Hackney and the City of London. The forums bring together health\, council\, residents and the voluntary and community sector (VCS) to agree health and care priorities. \nHackney Marshes\, 27 February. Book here\nhttps://crm.hcvs.org.uk/civicrm/event/info?reset=1&id=1179
URL:https://hcvs.org.uk/event/hackney-marshes-neighbourhood-forum/
CATEGORIES:Neighbourhoods
ATTACH;FMTTYPE=image/png:https://hcvs.org.uk/wp-content/uploads/2023/01/Copy-of-Untitled-16.png
END:VEVENT
BEGIN:VEVENT
DTSTART;VALUE=DATE:20230228
DTEND;VALUE=DATE:20230301
DTSTAMP:20260420T093844
CREATED:20230202T144111Z
LAST-MODIFIED:20230202T144823Z
UID:18789-1677542400-1677628799@hcvs.org.uk
SUMMARY:Woodberry Wetlands Neighbourhood Forum
DESCRIPTION:Book a place at an upcoming Neighbourhood Forum\nA series of Neighbourhood Forums will be held across Hackney and the City of London. The forums bring together health\, council\, residents and the voluntary and community sector (VCS) to agree health and care priorities. \nWoodberry Wetlands\, 28 February. Book here\nhttps://crm.hcvs.org.uk/civicrm/event/info?reset=1&id=1175
URL:https://hcvs.org.uk/event/woodberry-wetlands-neighbourhood-forum/
CATEGORIES:Neighbourhoods
ATTACH;FMTTYPE=image/png:https://hcvs.org.uk/wp-content/uploads/2023/01/Copy-of-Untitled-16.png
END:VEVENT
END:VCALENDAR