BEGIN:VCALENDAR
VERSION:2.0
PRODID:-//Hackney CVS - ECPv6.15.20//NONSGML v1.0//EN
CALSCALE:GREGORIAN
METHOD:PUBLISH
X-ORIGINAL-URL:https://hcvs.org.uk
X-WR-CALDESC:Events for Hackney CVS
REFRESH-INTERVAL;VALUE=DURATION:PT1H
X-Robots-Tag:noindex
X-PUBLISHED-TTL:PT1H
BEGIN:VTIMEZONE
TZID:Europe/London
BEGIN:DAYLIGHT
TZOFFSETFROM:+0000
TZOFFSETTO:+0100
TZNAME:BST
DTSTART:20220327T010000
END:DAYLIGHT
BEGIN:STANDARD
TZOFFSETFROM:+0100
TZOFFSETTO:+0000
TZNAME:GMT
DTSTART:20221030T010000
END:STANDARD
BEGIN:DAYLIGHT
TZOFFSETFROM:+0000
TZOFFSETTO:+0100
TZNAME:BST
DTSTART:20230326T010000
END:DAYLIGHT
BEGIN:STANDARD
TZOFFSETFROM:+0100
TZOFFSETTO:+0000
TZNAME:GMT
DTSTART:20231029T010000
END:STANDARD
BEGIN:DAYLIGHT
TZOFFSETFROM:+0000
TZOFFSETTO:+0100
TZNAME:BST
DTSTART:20240331T010000
END:DAYLIGHT
BEGIN:STANDARD
TZOFFSETFROM:+0100
TZOFFSETTO:+0000
TZNAME:GMT
DTSTART:20241027T010000
END:STANDARD
END:VTIMEZONE
BEGIN:VEVENT
DTSTART;TZID=Europe/London:20230104T100000
DTEND;TZID=Europe/London:20230104T110000
DTSTAMP:20260419T190528
CREATED:20221213T164319Z
LAST-MODIFIED:20221213T164319Z
UID:18597-1672826400-1672830000@hcvs.org.uk
SUMMARY:How to apply - Hackney Giving and Hackney Council Cost of Living programme
DESCRIPTION:How to apply – Hackney Giving and Hackney Council Cost of Living programme \nThere will be three “how to apply” workshops. These workshops offer you the chance to hear a bit more about the funding as well as how to complete the application form. \nTo book a place\, please use the links below: \n\n16 December\, 11am – book a place\n19 December\, 2pm – book a place\n4 January\, 10am – book a place
URL:https://hcvs.org.uk/event/how-to-apply-hackney-giving-and-hackney-council-cost-of-living-programme-3/
ATTACH;FMTTYPE=image/jpeg:https://hcvs.org.uk/wp-content/uploads/2022/12/20221124-20221123_133706-ANIMATIONzzzzzz.jpg
END:VEVENT
BEGIN:VEVENT
DTSTART;VALUE=DATE:20230112
DTEND;VALUE=DATE:20230113
DTSTAMP:20260419T190528
CREATED:20230105T112223Z
LAST-MODIFIED:20230105T112223Z
UID:18671-1673481600-1673567999@hcvs.org.uk
SUMMARY:Developing a Theory of Change 
DESCRIPTION:The Theory of Change is a tool to help you describe a situation you are trying to address\, the changes you wish to make and what steps you plan to take. Our training course will provide you with the relevant knowledge to develop your Theory of Change.\n12 January. Read more
URL:https://hcvs.org.uk/event/developing-a-theory-of-change/
CATEGORIES:training
END:VEVENT
BEGIN:VEVENT
DTSTART;VALUE=DATE:20230118
DTEND;VALUE=DATE:20230119
DTSTAMP:20260419T190528
CREATED:20230111T161518Z
LAST-MODIFIED:20230111T161611Z
UID:18698-1674000000-1674086399@hcvs.org.uk
SUMMARY:Mental Health Special Interest Group meeting
DESCRIPTION:Mental Health Special Interest Group meetings Hackney CVS coordinates network and Special Interest Group (SIG) meetings for the voluntary and community sector. \n\nMental health SIG meeting – 18 January – Book here
URL:https://hcvs.org.uk/event/mental-health-special-interest-group-meeting/
CATEGORIES:network
END:VEVENT
BEGIN:VEVENT
DTSTART;VALUE=DATE:20230119
DTEND;VALUE=DATE:20230120
DTSTAMP:20260419T190528
CREATED:20221214T104910Z
LAST-MODIFIED:20221214T104910Z
UID:18605-1674086400-1674172799@hcvs.org.uk
SUMMARY:Well Street Common Neighbourhood Wellbeing Partnership Forum
DESCRIPTION:The next Well Street Common Neighbourhood Wellbeing Partnership Forum meeting will explore access to services for young people. There will also be opportunities to connect with statutory partners and other VCS organisations in the Neighbourhood.\n19 January. Book here
URL:https://hcvs.org.uk/event/well-street-common-neighbourhood-wellbeing-partnership-forum/
CATEGORIES:Neighbourhoods
ATTACH;FMTTYPE=image/jpeg:https://hcvs.org.uk/wp-content/uploads/2022/11/IMG_0167-scaled.jpg
END:VEVENT
BEGIN:VEVENT
DTSTART;VALUE=DATE:20230126
DTEND;VALUE=DATE:20230127
DTSTAMP:20260419T190528
CREATED:20230105T113047Z
LAST-MODIFIED:20230105T113047Z
UID:18675-1674691200-1674777599@hcvs.org.uk
SUMMARY:How to effectively measure impact: a free introduction 
DESCRIPTION:In this first session of three\, participants will be introduced to some of the concepts used in evaluation\, as well as basic techniques used to collect data. This is an interactive module\, and participants will be given the opportunity to think through the issues and how they apply them to their work.\n26 January. Free. Book here
URL:https://hcvs.org.uk/event/how-to-effectively-measure-impact-a-free-introduction/
CATEGORIES:training
END:VEVENT
BEGIN:VEVENT
DTSTART;TZID=Europe/London:20230127T093000
DTEND;TZID=Europe/London:20230127T113000
DTSTAMP:20260419T190528
CREATED:20221128T122357Z
LAST-MODIFIED:20230222T165658Z
UID:18484-1674811800-1674819000@hcvs.org.uk
SUMMARY:Hackney CVS Coffee and Networking Morning
DESCRIPTION:Hackney CVS Coffee Morning Invite  \nAre you an organisation delivering services that support health\, care or well-being in City and Hackney? \nJoin us for a coffee and networking morning. \n9:30-11:30 am on the Last Friday of every month! \n– An opportunity to network\, build partnerships\, find out about new and ongoing projects and share insights \n– There will be a key-note speaker from the VCS Neighbourhoods team to share the work they are doing and opportunities for VCS organisations \n– We will support organisations to network by facilitating a ‘speed dating’ style activity from 10-11am \nPlease register online. \nFor more information or if you would like to host a coffee morning in your community space\, please contact assembly@hcvs.org.uk \n 
URL:https://hcvs.org.uk/event/hackney-cvs-coffee-and-networking-morning/
END:VEVENT
END:VCALENDAR