BEGIN:VCALENDAR
VERSION:2.0
PRODID:-//Hackney CVS - ECPv6.15.20//NONSGML v1.0//EN
CALSCALE:GREGORIAN
METHOD:PUBLISH
X-ORIGINAL-URL:https://hcvs.org.uk
X-WR-CALDESC:Events for Hackney CVS
REFRESH-INTERVAL;VALUE=DURATION:PT1H
X-Robots-Tag:noindex
X-PUBLISHED-TTL:PT1H
BEGIN:VTIMEZONE
TZID:Europe/London
BEGIN:DAYLIGHT
TZOFFSETFROM:+0000
TZOFFSETTO:+0100
TZNAME:BST
DTSTART:20210328T010000
END:DAYLIGHT
BEGIN:STANDARD
TZOFFSETFROM:+0100
TZOFFSETTO:+0000
TZNAME:GMT
DTSTART:20211031T010000
END:STANDARD
BEGIN:DAYLIGHT
TZOFFSETFROM:+0000
TZOFFSETTO:+0100
TZNAME:BST
DTSTART:20220327T010000
END:DAYLIGHT
BEGIN:STANDARD
TZOFFSETFROM:+0100
TZOFFSETTO:+0000
TZNAME:GMT
DTSTART:20221030T010000
END:STANDARD
BEGIN:DAYLIGHT
TZOFFSETFROM:+0000
TZOFFSETTO:+0100
TZNAME:BST
DTSTART:20230326T010000
END:DAYLIGHT
BEGIN:STANDARD
TZOFFSETFROM:+0100
TZOFFSETTO:+0000
TZNAME:GMT
DTSTART:20231029T010000
END:STANDARD
END:VTIMEZONE
BEGIN:VEVENT
DTSTART;TZID=Europe/London:20220704T093000
DTEND;TZID=Europe/London:20220704T130000
DTSTAMP:20260420T171528
CREATED:20220526T111816Z
LAST-MODIFIED:20220621T071940Z
UID:17262-1656927000-1656939600@hcvs.org.uk
SUMMARY:Safeguarding adults awareness training 
DESCRIPTION:Safeguarding adults awareness training \nJuly 4th\, 2022 9:30 AM through  1:00 PM \nThis training will enable participants to explore why some adults become at risk of abuse and what human rights they have. \nRead more \n\n\n\n\nhttps://crm.hcvs.org.uk/civicrm/event/info?reset=1&id=1036
URL:https://hcvs.org.uk/event/safeguarding-adults-awareness-training/
CATEGORIES:training
ATTACH;FMTTYPE=image/png:https://hcvs.org.uk/wp-content/uploads/2021/08/Copy-of-Untitled-1-e1628249937842.png
END:VEVENT
BEGIN:VEVENT
DTSTART;TZID=Europe/London:20220704T110000
DTEND;TZID=Europe/London:20220704T123000
DTSTAMP:20260420T171528
CREATED:20220629T074244Z
LAST-MODIFIED:20220629T074244Z
UID:17391-1656932400-1656937800@hcvs.org.uk
SUMMARY:Mental Health Special Interest Group 
DESCRIPTION:Mental Health Special Interest Group \nOur next Mental Health SIG will look at issues affecting the mental health sector\, including the Mental Health Act reforms and updates from local organisations.\n4 July. Read more
URL:https://hcvs.org.uk/event/mental-health-special-interest-group/
END:VEVENT
BEGIN:VEVENT
DTSTART;TZID=Europe/London:20220707T110000
DTEND;TZID=Europe/London:20220707T130000
DTSTAMP:20260420T171528
CREATED:20220621T072419Z
LAST-MODIFIED:20220621T072419Z
UID:17355-1657191600-1657198800@hcvs.org.uk
SUMMARY:How to effectively measure impact
DESCRIPTION:How to Effectively Measure Impact- Doing evaluation in the real world\n\n\n\n\n\n\n\n\nRegister Now\n\nThis second session of the three part training course is about putting basic evaluation principles into practice. We’ll explore how different ways of collecting data produce different types of data\, and how these tell us different things about our work. Knowing what you want data for is key\, and we’ll examine how to design evaluations so that they give you the data you want\, and need\, to be an effective charity.\n\n\n\n\n\n\n\nJuly 7th\, 2022 11:00 AM through  1:00 PM \n 
URL:https://hcvs.org.uk/event/how-to-effectively-measure-impact-3/
CATEGORIES:training
END:VEVENT
BEGIN:VEVENT
DTSTART;TZID=Europe/London:20220707T130000
DTEND;TZID=Europe/London:20220707T150000
DTSTAMP:20260420T171528
CREATED:20220629T074429Z
LAST-MODIFIED:20220629T074429Z
UID:17393-1657198800-1657206000@hcvs.org.uk
SUMMARY:Supported Employment Network re-launch event
DESCRIPTION:Supported Employment Network re-launch event\nJoin us for the Supported Employment Network re-launch event. At the event we will have some keynote speakers on the day to share insights about City and Hackney supported employment.\n7 July. Book here
URL:https://hcvs.org.uk/event/supported-employment-network-re-launch-event/
END:VEVENT
BEGIN:VEVENT
DTSTART;TZID=Europe/London:20220711T150000
DTEND;TZID=Europe/London:20220711T160000
DTSTAMP:20260420T171528
CREATED:20220706T164007Z
LAST-MODIFIED:20220706T164007Z
UID:17491-1657551600-1657555200@hcvs.org.uk
SUMMARY:Better Mental Health programme – How to apply workshop
DESCRIPTION:Hackney Giving is open for applications (see below for details). These workshops offer you the chance to hear a bit more about the funding as well as how to complete the application form.\n11 July. Book now \n3:00 PM through  4:00 PM
URL:https://hcvs.org.uk/event/better-mental-health-programme-how-to-apply-workshop-2/
ATTACH;FMTTYPE=image/png:https://hcvs.org.uk/wp-content/uploads/2022/06/48ad41be-59f8-8955-72f7-0763ce2ce1d1.png
END:VEVENT
BEGIN:VEVENT
DTSTART;TZID=Europe/London:20220714T120000
DTEND;TZID=Europe/London:20220714T160000
DTSTAMP:20260420T171528
CREATED:20220621T072715Z
LAST-MODIFIED:20220704T105057Z
UID:17357-1657800000-1657814400@hcvs.org.uk
SUMMARY:VCS Assembly 4: Anti-racist commissioning
DESCRIPTION:VCS Assembly: Anti-racist commissioning in City and Hackney: developing community principles \nAre you interested in developing anti-racist commissioning principles for City and Hackney? Book here \nThe City and Hackney Voluntary and Community Sector (VCS) Assembly invites you to bring your community expertise and participate in an in-person conversation: Anti-racist commissioning in City and Hackney: developing community principles.  \nLunch provided 12:00-13:00 \nAssembly event: 13:00-16:00 \nLocation: Halkevi Turkish and Kurdish Community Centre. Book here
URL:https://hcvs.org.uk/event/vcs-assembly-4/
LOCATION:Halkevi Turkish and Kurdish Community Centre\, 31-33 Dalston Lane\, London\, E8 3DF\, United Kingdom
ATTACH;FMTTYPE=image/jpeg:https://hcvs.org.uk/wp-content/uploads/2021/09/E-RJTryXEAAN1tq.jpg
ORGANIZER;CN="Hackney CVS":MAILTO:reception@hcvs.org.uk
END:VEVENT
BEGIN:VEVENT
DTSTART;TZID=Europe/London:20220719T100000
DTEND;TZID=Europe/London:20220719T120000
DTSTAMP:20260420T171528
CREATED:20220707T112312Z
LAST-MODIFIED:20220707T112435Z
UID:17497-1658224800-1658232000@hcvs.org.uk
SUMMARY:Health and Social Care Forum (HSCF)
DESCRIPTION:Join us at the Health and Social Care Forum (HSCF) on 19 July. \nAt this forum we will ask the voluntary and community sector (VCS) in City and Hackney how they would like to work together as part of North East London Integrated Care System\, and update on relevant changes. \nThe HSCF is a network of voluntary and community sector groups with an interest in health and social care. It is open to any interested individuals or groups. \nThe July event follows on from the forum held in March where we updated organisations on changes in the health system \nA range of questions will be considered at the forum\, including: \n\nWhat would make involvement in the health system meaningful for you?\nWhat is a VCS alliance and what do we want ours to look like?\nHow do you want to ensure you are respected\, equitable\, and following VCS principles as part of a VCS alliance?\nWhat role should HSCF\, network and Special Interest Groups have?\nWhat information would you like to receive from Hackney CVS and the health system on an ongoing basis?\n\nTuesday 19 July\, 10am – 12pm. \nHealth and Social Care Forum
URL:https://hcvs.org.uk/event/health-and-social-care-forum-hscf/
ATTACH;FMTTYPE=image/jpeg:https://hcvs.org.uk/wp-content/uploads/2022/07/IMG_2923-scaled.jpg
END:VEVENT
BEGIN:VEVENT
DTSTART;TZID=Europe/London:20220721T110000
DTEND;TZID=Europe/London:20220721T110000
DTSTAMP:20260420T171528
CREATED:20220713T154920Z
LAST-MODIFIED:20220713T155446Z
UID:17529-1658401200-1658401200@hcvs.org.uk
SUMMARY:How to effectively measure impact - Using data to support your charity
DESCRIPTION:How to effectively measure impact – Using data to support your charity\nThis final session of the three-part course will walk you through some of the issues faced in using data to support your charity.\n21 July. Read more
URL:https://hcvs.org.uk/event/how/
END:VEVENT
BEGIN:VEVENT
DTSTART;TZID=Europe/London:20220726T100000
DTEND;TZID=Europe/London:20220726T130000
DTSTAMP:20260420T171528
CREATED:20220707T111553Z
LAST-MODIFIED:20220707T111553Z
UID:17493-1658829600-1658840400@hcvs.org.uk
SUMMARY:Fire Marshal training
DESCRIPTION:Our Fire Marshal training course is delivered by professional firefighters and is for anyone wishing to obtain the skills\, knowledge and confidence to monitor and control fire safety in any workplace environment. \n26 July 2022\, 10am-1pm. \nCourse outcome\nParticipants will learn basic fire safety procedures in the workplace and how to ensure their organisation is compliant with the law. \nThe Fire Marshal training course covers the following subjects: \nBook a place \n  \n 
URL:https://hcvs.org.uk/event/fire-marshal-training/
END:VEVENT
BEGIN:VEVENT
DTSTART;TZID=Europe/London:20220726T103000
DTEND;TZID=Europe/London:20220726T120000
DTSTAMP:20260420T171528
CREATED:20220713T154959Z
LAST-MODIFIED:20220713T155543Z
UID:17531-1658831400-1658836800@hcvs.org.uk
SUMMARY:Sexual Health Special Interest Group meeting
DESCRIPTION:Sexual Health Special Interest Group meeting\nOur Sexual Health Special Interest Group (SIG) is for any members working in organisations working in sexual health. The meeting\, held on Teams\, will look at ways in which we can work in partnership.\n26 July. Read more
URL:https://hcvs.org.uk/event/sexual-health/
ATTACH;FMTTYPE=image/jpeg:https://hcvs.org.uk/wp-content/uploads/2022/06/20220629_133115z.jpg
END:VEVENT
BEGIN:VEVENT
DTSTART;TZID=Europe/London:20220728T090000
DTEND;TZID=Europe/London:20220728T120000
DTSTAMP:20260420T171528
CREATED:20220720T090258Z
LAST-MODIFIED:20220720T091118Z
UID:17625-1658998800-1659009600@hcvs.org.uk
SUMMARY:Building a voluntary sector alliance as part of northeast London’s ICS
DESCRIPTION:Integrated care systems will be formalised on 1st July. What does this mean for the voluntary sector in northeast London? \n\n\n\n\n\nRegister here \nThe voluntary sector is a key partner in the new structures\, and this will happen through the building of a VCSE alliance across northeast London. Sector leaders have been working on this. \nThe purpose of this workshop is to gain input from local VCSE leaders on some key things we’re working on – the vision and values of the alliance and the proposed alliance structure. Any voluntary organisation operating in any of the northeast London boroughs (Barking & Dagenham\, City of London\, Hackney\, Havering\, Newham\, Redbridge\, Tower Hamlets and Waltham Forest) with an interest in health and care is welcome. Lev Pedro’s article explains what’s changing on 1st July and what will make ICS a success.
URL:https://hcvs.org.uk/event/building-a-voluntary-sector-alliance-as-part-of-northeast-londons-ics/
END:VEVENT
END:VCALENDAR