BEGIN:VCALENDAR
VERSION:2.0
PRODID:-//Hackney CVS - ECPv6.15.20//NONSGML v1.0//EN
CALSCALE:GREGORIAN
METHOD:PUBLISH
X-WR-CALNAME:Hackney CVS
X-ORIGINAL-URL:https://hcvs.org.uk
X-WR-CALDESC:Events for Hackney CVS
REFRESH-INTERVAL;VALUE=DURATION:PT1H
X-Robots-Tag:noindex
X-PUBLISHED-TTL:PT1H
BEGIN:VTIMEZONE
TZID:Europe/London
BEGIN:DAYLIGHT
TZOFFSETFROM:+0000
TZOFFSETTO:+0100
TZNAME:BST
DTSTART:20210328T010000
END:DAYLIGHT
BEGIN:STANDARD
TZOFFSETFROM:+0100
TZOFFSETTO:+0000
TZNAME:GMT
DTSTART:20211031T010000
END:STANDARD
BEGIN:DAYLIGHT
TZOFFSETFROM:+0000
TZOFFSETTO:+0100
TZNAME:BST
DTSTART:20220327T010000
END:DAYLIGHT
BEGIN:STANDARD
TZOFFSETFROM:+0100
TZOFFSETTO:+0000
TZNAME:GMT
DTSTART:20221030T010000
END:STANDARD
BEGIN:DAYLIGHT
TZOFFSETFROM:+0000
TZOFFSETTO:+0100
TZNAME:BST
DTSTART:20230326T010000
END:DAYLIGHT
BEGIN:STANDARD
TZOFFSETFROM:+0100
TZOFFSETTO:+0000
TZNAME:GMT
DTSTART:20231029T010000
END:STANDARD
END:VTIMEZONE
BEGIN:VEVENT
DTSTART;TZID=Europe/London:20220606T110000
DTEND;TZID=Europe/London:20220606T123000
DTSTAMP:20260420T190455
CREATED:20220526T111710Z
LAST-MODIFIED:20220526T111710Z
UID:17260-1654513200-1654518600@hcvs.org.uk
SUMMARY:Mental Health Special Interest Group (SIG) meeting
DESCRIPTION:Mental Health Special Interest Group meeting \nThe Mental Health Special Interest Group (SIG) provides a forum in Hackney and City for anyone with an interest in the provision of mental health services.\n6 June. Read more \nhttps://crm.hcvs.org.uk/civicrm/event/info?reset=1&id=1050
URL:https://hcvs.org.uk/event/mental-health-special-interest-group-sig-meeting-5/
CATEGORIES:network
ATTACH;FMTTYPE=image/png:https://hcvs.org.uk/wp-content/uploads/2022/04/Untitled-design.png
END:VEVENT
BEGIN:VEVENT
DTSTART;TZID=Europe/London:20220609T103000
DTEND;TZID=Europe/London:20220609T130000
DTSTAMP:20260420T190455
CREATED:20220509T100559Z
LAST-MODIFIED:20220509T100830Z
UID:17135-1654770600-1654779600@hcvs.org.uk
SUMMARY:How to effectively measure impact - Using data to support your charity
DESCRIPTION:How to effectively measure impact – Using data to support your charity\nThursday 9 June\, 10.30am. Book here
URL:https://hcvs.org.uk/event/how-to-effectively-measure-impact-using-data-to-support-your-charity-2/
CATEGORIES:training
END:VEVENT
BEGIN:VEVENT
DTSTART;TZID=Europe/London:20220629T100000
DTEND;TZID=Europe/London:20220629T163000
DTSTAMP:20260420T190455
CREATED:20220629T074636Z
LAST-MODIFIED:20220629T074636Z
UID:17395-1656496800-1656520200@hcvs.org.uk
SUMMARY:Emergency First Aid at Work
DESCRIPTION:Emergency First Aid at Work\nThis Emergency First Aid at Work course is designed for anyone who needs to become an accredited emergency first aider in the workplace in accordance with the Health and Safety (First Aid) Regulations 1981.\n12 July. Read more
URL:https://hcvs.org.uk/event/emergency-first-aid-at-work/
CATEGORIES:training
END:VEVENT
BEGIN:VEVENT
DTSTART;TZID=Europe/London:20220629T140000
DTEND;TZID=Europe/London:20220629T150000
DTSTAMP:20260420T190455
CREATED:20220629T073204Z
LAST-MODIFIED:20220629T073246Z
UID:17389-1656511200-1656514800@hcvs.org.uk
SUMMARY:Better Mental Health programme – How to apply workshop
DESCRIPTION:Better Mental Health programme – How to apply workshop\nHackney Giving is open for applications (see below for details). These workshops offer you the chance to hear a bit more about the funding as well as how to complete the application form.\n29 June\, 2pm – Book here
URL:https://hcvs.org.uk/event/better-mental-health-programme-how-to-apply-workshop/
CATEGORIES:training
ATTACH;FMTTYPE=image/png:https://hcvs.org.uk/wp-content/uploads/2022/06/48ad41be-59f8-8955-72f7-0763ce2ce1d1.png
END:VEVENT
END:VCALENDAR