BEGIN:VCALENDAR
VERSION:2.0
PRODID:-//Hackney CVS - ECPv6.15.20//NONSGML v1.0//EN
CALSCALE:GREGORIAN
METHOD:PUBLISH
X-WR-CALNAME:Hackney CVS
X-ORIGINAL-URL:https://hcvs.org.uk
X-WR-CALDESC:Events for Hackney CVS
REFRESH-INTERVAL;VALUE=DURATION:PT1H
X-Robots-Tag:noindex
X-PUBLISHED-TTL:PT1H
BEGIN:VTIMEZONE
TZID:UTC
BEGIN:STANDARD
TZOFFSETFROM:+0000
TZOFFSETTO:+0000
TZNAME:UTC
DTSTART:20210101T000000
END:STANDARD
END:VTIMEZONE
BEGIN:VTIMEZONE
TZID:Europe/London
BEGIN:DAYLIGHT
TZOFFSETFROM:+0000
TZOFFSETTO:+0100
TZNAME:BST
DTSTART:20210328T010000
END:DAYLIGHT
BEGIN:STANDARD
TZOFFSETFROM:+0100
TZOFFSETTO:+0000
TZNAME:GMT
DTSTART:20211031T010000
END:STANDARD
BEGIN:DAYLIGHT
TZOFFSETFROM:+0000
TZOFFSETTO:+0100
TZNAME:BST
DTSTART:20220327T010000
END:DAYLIGHT
BEGIN:STANDARD
TZOFFSETFROM:+0100
TZOFFSETTO:+0000
TZNAME:GMT
DTSTART:20221030T010000
END:STANDARD
BEGIN:DAYLIGHT
TZOFFSETFROM:+0000
TZOFFSETTO:+0100
TZNAME:BST
DTSTART:20230326T010000
END:DAYLIGHT
BEGIN:STANDARD
TZOFFSETFROM:+0100
TZOFFSETTO:+0000
TZNAME:GMT
DTSTART:20231029T010000
END:STANDARD
END:VTIMEZONE
BEGIN:VEVENT
DTSTART;TZID=UTC:20220308T140000
DTEND;TZID=UTC:20220308T150000
DTSTAMP:20260421T233954
CREATED:20220224T131847Z
LAST-MODIFIED:20220225T134051Z
UID:16336-1646748000-1646751600@hcvs.org.uk
SUMMARY:How to effectively measure impact - Doing evaluation in the real world
DESCRIPTION:This second session of the three-part training course is about putting basic evaluation principles into practice. We’ll explore how different ways of collecting data produce different types of data\, and how these tell us different things about our work. Knowing what you want data for is key\, and we’ll examine how to design evaluations so that they give you the data you want\, and need\, to be an effective charity.\n\n\nApply here
URL:https://hcvs.org.uk/event/how-to-effectively-measure-impact-doing-evaluation-in-the-real-world/
CATEGORIES:training
END:VEVENT
BEGIN:VEVENT
DTSTART;TZID=Europe/London:20220310T140000
DTEND;TZID=Europe/London:20220310T150000
DTSTAMP:20260421T233954
CREATED:20220225T134249Z
LAST-MODIFIED:20220225T134249Z
UID:16349-1646920800-1646924400@hcvs.org.uk
SUMMARY:How to apply session: Hackney council's Project Grants
DESCRIPTION:How to apply session: Hackney council’s Project Grants\nHackney CVS is working in partnership with Hackney council to deliver a ‘How to Apply’ session on Hackney council’s Project Grants fund\n10 March. Read more
URL:https://hcvs.org.uk/event/how-to-apply-session-hackney-councils-project-grants/
END:VEVENT
BEGIN:VEVENT
DTSTART;TZID=Europe/London:20220316T093000
DTEND;TZID=Europe/London:20220316T113000
DTSTAMP:20260421T233954
CREATED:20220309T072714Z
LAST-MODIFIED:20220309T072737Z
UID:16409-1647423000-1647430200@hcvs.org.uk
SUMMARY:Hackney CVS coffee morning for health and wellbeing services
DESCRIPTION:Hackney CVS coffee morning for health and wellbeing servicesAre you a voluntary or community organisation delivering services that help health\, care or wellbeing in City and Hackney? Join us at Hackney CVS for a drop-in coffee and networking morning from 9.30am to 11.30am: \n\n16 March – Register here
URL:https://hcvs.org.uk/event/hackney-cvs-coffee-morning-for-health-and-wellbeing-services/
ATTACH;FMTTYPE=image/jpeg:https://hcvs.org.uk/wp-content/uploads/2022/03/IMG_1989c-scaled.jpg
END:VEVENT
BEGIN:VEVENT
DTSTART;TZID=Europe/London:20220316T140000
DTEND;TZID=Europe/London:20220316T150000
DTSTAMP:20260421T233954
CREATED:20220301T151754Z
LAST-MODIFIED:20220301T151754Z
UID:16363-1647439200-1647442800@hcvs.org.uk
SUMMARY:How to Apply session: Hackney Community Infrastructure Grants
DESCRIPTION:Register Now\n\n\n\n\n\n\n\nHackney CVS is working in partnership with Hackney Council to deliver an information session on ‘How to Apply’ to the Hackney Community Infrastructure Grants\n\nThis session will: \n\nProvide an overview of the Hackney Grants programme\nGive details on the application process\nFundraising support available by Hackney CVS and East London Business Alliance for organisations applying for the funding.\nIntroductions to the key components of successful funding applications.\n\n\n\n\nWhen\nMarch 16th\, 2022 2:00 PM through  3:00 PM
URL:https://hcvs.org.uk/event/how-to-apply-session-hackney-community-infrastructure-grants/
END:VEVENT
BEGIN:VEVENT
DTSTART;TZID=UTC:20220322T103000
DTEND;TZID=UTC:20220322T130000
DTSTAMP:20260421T233954
CREATED:20220301T152048Z
LAST-MODIFIED:20220301T152427Z
UID:16365-1647945000-1647954000@hcvs.org.uk
SUMMARY:How to Effectively Measure Impact- Using data to support your charity
DESCRIPTION:This final session of the three part course will walk you through some of the issues faced in using data to support your charity. This can be data to support funding bids\, data to evidence your expertise in a particular area for commissioning\, or data to show your supporters how important your service us to people using it. This is an interactive session\, and you’ll have an opportunity to address some of the challenges facing your own charities.
URL:https://hcvs.org.uk/event/how-to-effectively-measure-impact-using-data-to-support-your-charity/
CATEGORIES:training
END:VEVENT
BEGIN:VEVENT
DTSTART;TZID=Europe/London:20220323T110000
DTEND;TZID=Europe/London:20220323T133000
DTSTAMP:20260421T233954
CREATED:20220314T144833Z
LAST-MODIFIED:20220314T144933Z
UID:16430-1648033200-1648042200@hcvs.org.uk
SUMMARY:Welcome to City and Hackney Neighbourhoods event
DESCRIPTION:Join us at the Welcome to City and Hackney Neighbourhoods online event \non Wednesday 23 March from 11am to 1.30pm. \nhttps://crm.hcvs.org.uk/civicrm/event/info?reset=1&id=1014 \n 
URL:https://hcvs.org.uk/event/welcome-to-city-and-hackney-neighbourhoods-event/
CATEGORIES:Neighbourhoods
ATTACH;FMTTYPE=image/jpeg:https://hcvs.org.uk/wp-content/uploads/2022/03/FGKN42OX0AAq2tf-scaled-e1647269354435.jpg
END:VEVENT
BEGIN:VEVENT
DTSTART;TZID=Europe/London:20220324T140000
DTEND;TZID=Europe/London:20220324T150000
DTSTAMP:20260421T233954
CREATED:20220301T152810Z
LAST-MODIFIED:20220301T152810Z
UID:16370-1648130400-1648134000@hcvs.org.uk
SUMMARY:How to Apply session: Hackney VCS Grants - Community Chest
DESCRIPTION:Register Now\n\n\n\n\n\n\n\nHackney CVS is working in partnership with Hackney Council to deliver an information session on ‘How to Apply’ to the Hackney VCS Grants – Community Chest Fund.\n\nThis session will: \n\nProvide an overview of the Hackney VCS Community Chest Fund programme\nGive details on the application process
URL:https://hcvs.org.uk/event/how-to-apply-session-hackney-vcs-grants-community-chest/
CATEGORIES:training
END:VEVENT
BEGIN:VEVENT
DTSTART;TZID=Europe/London:20220325T093000
DTEND;TZID=Europe/London:20220325T113000
DTSTAMP:20260421T233954
CREATED:20220309T072854Z
LAST-MODIFIED:20220309T072921Z
UID:16412-1648200600-1648207800@hcvs.org.uk
SUMMARY:Hackney CVS coffee morning for health and wellbeing services
DESCRIPTION:Hackney CVS coffee morning for health and wellbeing servicesAre you a voluntary or community organisation delivering services that help health\, care or wellbeing in City and Hackney? Join us at Hackney CVS for a drop-in coffee and networking morning from 9.30am to 11.30am: \n\n\n\n25 March – Register here
URL:https://hcvs.org.uk/event/hackney-cvs-coffee-morning-for-health-and-wellbeing-services-2/
ATTACH;FMTTYPE=image/jpeg:https://hcvs.org.uk/wp-content/uploads/2022/03/IMG_1989c-scaled.jpg
END:VEVENT
END:VCALENDAR