BEGIN:VCALENDAR
VERSION:2.0
PRODID:-//Hackney CVS - ECPv6.15.20//NONSGML v1.0//EN
CALSCALE:GREGORIAN
METHOD:PUBLISH
X-WR-CALNAME:Hackney CVS
X-ORIGINAL-URL:https://hcvs.org.uk
X-WR-CALDESC:Events for Hackney CVS
REFRESH-INTERVAL;VALUE=DURATION:PT1H
X-Robots-Tag:noindex
X-PUBLISHED-TTL:PT1H
BEGIN:VTIMEZONE
TZID:Europe/London
BEGIN:DAYLIGHT
TZOFFSETFROM:+0000
TZOFFSETTO:+0100
TZNAME:BST
DTSTART:20190331T010000
END:DAYLIGHT
BEGIN:STANDARD
TZOFFSETFROM:+0100
TZOFFSETTO:+0000
TZNAME:GMT
DTSTART:20191027T010000
END:STANDARD
BEGIN:DAYLIGHT
TZOFFSETFROM:+0000
TZOFFSETTO:+0100
TZNAME:BST
DTSTART:20200329T010000
END:DAYLIGHT
BEGIN:STANDARD
TZOFFSETFROM:+0100
TZOFFSETTO:+0000
TZNAME:GMT
DTSTART:20201025T010000
END:STANDARD
BEGIN:DAYLIGHT
TZOFFSETFROM:+0000
TZOFFSETTO:+0100
TZNAME:BST
DTSTART:20210328T010000
END:DAYLIGHT
BEGIN:STANDARD
TZOFFSETFROM:+0100
TZOFFSETTO:+0000
TZNAME:GMT
DTSTART:20211031T010000
END:STANDARD
END:VTIMEZONE
BEGIN:VEVENT
DTSTART;TZID=Europe/London:20200203T180000
DTEND;TZID=Europe/London:20200203T200000
DTSTAMP:20260419T155332
CREATED:20200114T104443Z
LAST-MODIFIED:20200114T104443Z
UID:11488-1580752800-1580760000@hcvs.org.uk
SUMMARY:Community building/community bridging
DESCRIPTION:Ella Baker School Of Transformative Organising is launching a specific initiative in Hackney called ‘Community building/community bridging’\, designed to bring communities together. The objective is to bring together people from Hackney’s diverse communities. If you are from Hackney then do sign up for the first meeting on Monday 3 February.
URL:https://hcvs.org.uk/event/community-building-community-bridging/
ATTACH;FMTTYPE=image/jpeg:https://hcvs.org.uk/wp-content/uploads/2019/11/work-2-e1587475377358.jpg
END:VEVENT
BEGIN:VEVENT
DTSTART;TZID=Europe/London:20200208T130000
DTEND;TZID=Europe/London:20200208T170000
DTSTAMP:20260419T155332
CREATED:20200128T173955Z
LAST-MODIFIED:20200204T111721Z
UID:11620-1581166800-1581181200@hcvs.org.uk
SUMMARY:Zero Tolerance to Female Genital Mutilation
DESCRIPTION:Zero Tolerance to Female Genital Mutilation event on Saturday 8th February 2020. \nRead more
URL:https://hcvs.org.uk/event/zero-tolerance-to-female-gential-mutilation/
END:VEVENT
BEGIN:VEVENT
DTSTART;TZID=Europe/London:20200211T173000
DTEND;TZID=Europe/London:20200211T203000
DTSTAMP:20260419T155332
CREATED:20200108T155426Z
LAST-MODIFIED:20200108T155426Z
UID:11438-1581442200-1581453000@hcvs.org.uk
SUMMARY:Hackney CVS community awards night 2020
DESCRIPTION:Join us for an inspirational evening as we celebrate both Hackney’s young people and the local voluntary and community sector. \n \n\nGary Francis awards will be given to local young people who have achieved against the odds.\nAdiaha Antigha awards will be given to individuals or organisations from Hackney’s voluntary and community sector. This year’s categories are for the best work to:\n– challenge discrimination\n– bring communities together\n– empower disabled people\n– outreach to engage new people.\n\nRegister here.
URL:https://hcvs.org.uk/event/hackney-cvs-community-awards-night-2020/
ATTACH;FMTTYPE=image/jpeg:https://hcvs.org.uk/wp-content/uploads/2017/11/9.jpg
END:VEVENT
END:VCALENDAR