BEGIN:VCALENDAR
VERSION:2.0
PRODID:-//Hackney CVS - ECPv6.15.20//NONSGML v1.0//EN
CALSCALE:GREGORIAN
METHOD:PUBLISH
X-WR-CALNAME:Hackney CVS
X-ORIGINAL-URL:https://hcvs.org.uk
X-WR-CALDESC:Events for Hackney CVS
REFRESH-INTERVAL;VALUE=DURATION:PT1H
X-Robots-Tag:noindex
X-PUBLISHED-TTL:PT1H
BEGIN:VTIMEZONE
TZID:UTC
BEGIN:STANDARD
TZOFFSETFROM:+0000
TZOFFSETTO:+0000
TZNAME:UTC
DTSTART:20170101T000000
END:STANDARD
END:VTIMEZONE
BEGIN:VEVENT
DTSTART;TZID=UTC:20181105T083000
DTEND;TZID=UTC:20181105T100000
DTSTAMP:20260419T185414
CREATED:20181022T110627Z
LAST-MODIFIED:20181031T104729Z
UID:7383-1541406600-1541412000@hcvs.org.uk
SUMMARY:London Living Wage Event - Living Wage Week 2018
DESCRIPTION:Living Wage Week is the annual celebration of the Living Wage movement in the UK and as ever\, we’ll be celebrating with a series of flagship celebrations across the UK. \nWe invite you to join us on the morning of 5th November\, at the Barbican Centre in central London\, for the announcement of the London Living Wage 2018. You’ll meet others in our movement who support the real Living Wage and go further than the government minimum to pay it to all their staff because they believe\, like us\, that fair day’s work should mean a fair day’s pay. \nConfirmed speakers: \n\nSadiq Khan\, Mayor of London\nBaroness Bull (Deborah Bull)\, Vice President & Vice-Principal King’s College London\nStuart Wright\, Group Property & Facilities Director\, Aviva plc & Chair\, Living Wage Foundation Advisory Council\nTess Lanning\, Director\, Living Wage Foundation\n\nRegister here.
URL:https://hcvs.org.uk/event/london-living-wage-event-living-wage-week-2018/
END:VEVENT
BEGIN:VEVENT
DTSTART;TZID=UTC:20181107T100000
DTEND;TZID=UTC:20181107T160000
DTSTAMP:20260419T185414
CREATED:20181002T092329Z
LAST-MODIFIED:20181031T104819Z
UID:7045-1541584800-1541606400@hcvs.org.uk
SUMMARY:Supporting and including LGBTQ young people in Hackney & The City
DESCRIPTION:This training aims to support participants to increase understanding and confidence around LGBTQ terminology\, definitions and experience. The course will address homophobia\, biphobia and transphobia and support workers to develop strategies to address these and to support and include LGBTQ young people in their services. \nFree to professionals working in Hackney & The City. If you are work outside of Hackey & The City there will be a charge for attendance. Priority will be given to professionals working in Hackney & The City.
URL:https://hcvs.org.uk/event/supporting-including-lgbtq-young-people-hackney-city-3/
ATTACH;FMTTYPE=image/jpeg:https://hcvs.org.uk/wp-content/uploads/2018/03/WAD-display-of-Condoms-e1520945497202.jpg
END:VEVENT
BEGIN:VEVENT
DTSTART;TZID=UTC:20181107T120000
DTEND;TZID=UTC:20181107T143000
DTSTAMP:20260419T185414
CREATED:20181002T102328Z
LAST-MODIFIED:20181002T102328Z
UID:7049-1541592000-1541601000@hcvs.org.uk
SUMMARY:Children and Families Forum: Obesity Reflection Session: 
DESCRIPTION:Hackney CVS is working with Hackney Council to create a 5 year plan which has a focus on improving healthy eating and the reduction of childhood obesity. \nAs part of the consultation\, VCS organisations that directly work with low income families are invited to shed light on preventative approaches\, principles and  key policy’s that need to change. For example – should there be a limit on licences awarded to shops that sell fast food (Chicken Shops)?  Why can’t we have more access to friendly spaces to grow quality food for low income households? \nCome and be part of the discussion of the most important elements that should be included in the plan? \n  \nClick here to register: https://crm.hcvs.org.uk/civicrm/event/info?id=226&reset=1
URL:https://hcvs.org.uk/event/children-families-forum-obesity-reflection-session-2/
END:VEVENT
BEGIN:VEVENT
DTSTART;TZID=UTC:20181108T094500
DTEND;TZID=UTC:20181108T130000
DTSTAMP:20260419T185414
CREATED:20180416T142314Z
LAST-MODIFIED:20181031T105012Z
UID:4656-1541670300-1541682000@hcvs.org.uk
SUMMARY:Implementing PQASSO
DESCRIPTION:This 3-hour training course will provide you with a step-by-step guide on how to successfully implement PQASSO. By the end of the course\, you will have a better understanding of the PQASSO self-assessment process and how you can strategically implement quality within your organisation.\n\nYou will leave the course with an increased knowledge of: \n\nPQASSO and the self-assessment process;\nhow to successfully implement PQASSO within your organisation;\nthe roles and responsibilities of key stakeholders and ways of getting them involved in the process;\nhow to identify the key elements to be considered in the planning process of the implementation of PQASSO within your organisation.\n\nRegister here.
URL:https://hcvs.org.uk/event/implementing-pqasso/
LOCATION:Hackney CVS\, 24-30 Dalston Lane\, London\, E8 3AZ\, United Kingdom
END:VEVENT
BEGIN:VEVENT
DTSTART;TZID=UTC:20181112T100000
DTEND;TZID=UTC:20181112T170000
DTSTAMP:20260419T185414
CREATED:20181002T091755Z
LAST-MODIFIED:20181002T091755Z
UID:7041-1542016800-1542042000@hcvs.org.uk
SUMMARY:Non Violent Resistance Training
DESCRIPTION:4 Days Parent Champion Training (Mon 12\, Tues 13\, Thurs 22 & Fr 23 November 2018 10-5pm) \nWould you like to see more parents equipped to address the trend of violence visible from child to adulthood?\nAre you a community organiser or champion ready to skill up and support parents during the challenging years? \nThe NVRT programme is for parents and carers to help prevent or address violent\, destructive and harmful behaviours in adolescents. It also supports caring and respectful relationships in the family and the wider communities. \nFrontline community organisations active in the Parent Engagement and outcomes for African heritage Young men are particularly encouraged to nominate potential participants. \nDownload the form here. \nEnrol onto the 4 day NVR Parent Wellbeing Champions course here.
URL:https://hcvs.org.uk/event/non-violent-resistance-training/
LOCATION:Hackney CVS\, 24-30 Dalston Lane\, London\, E8 3AZ\, United Kingdom
END:VEVENT
BEGIN:VEVENT
DTSTART;TZID=UTC:20181113T170000
DTEND;TZID=UTC:20181113T200000
DTSTAMP:20260419T185414
CREATED:20181022T103834Z
LAST-MODIFIED:20181031T105109Z
UID:7381-1542128400-1542139200@hcvs.org.uk
SUMMARY:Hackney CVS Trustees' week event
DESCRIPTION:Trustees of Hackney charities are invited to an informal evening of networking and learning. Come and hear short presentations on some of the key issues that trustees need to be thinking about\, and meet and develop relationships with your fellow Hackney trustees. Date:13 November. Read more
URL:https://hcvs.org.uk/event/hackney-cvs-trustees-week-event/
LOCATION:Hackney CVS\, 24-30 Dalston Lane\, London\, E8 3AZ\, United Kingdom
ATTACH;FMTTYPE=image/png:https://hcvs.org.uk/wp-content/uploads/2018/05/Screen-Shot-2018-05-22-at-14.57.41.png
END:VEVENT
BEGIN:VEVENT
DTSTART;TZID=UTC:20181115T080000
DTEND;TZID=UTC:20181115T170000
DTSTAMP:20260419T185414
CREATED:20181107T160240Z
LAST-MODIFIED:20181107T160240Z
UID:7687-1542268800-1542301200@hcvs.org.uk
SUMMARY:
DESCRIPTION:Hackney: A Social Enterprise Borough Conference. The second annual conference celebrating Hackney’s rising social enterprise movement. Date: 15 November. Read more
URL:https://hcvs.org.uk/event/7687/
END:VEVENT
BEGIN:VEVENT
DTSTART;TZID=UTC:20181127T110000
DTEND;TZID=UTC:20181127T150000
DTSTAMP:20260419T185414
CREATED:20181126T125010Z
LAST-MODIFIED:20181126T125010Z
UID:7973-1543316400-1543330800@hcvs.org.uk
SUMMARY:Winter Warmer showcase
DESCRIPTION:Food\, live cabaret\, and lots of advice on keeping warm\, healthy and happy over the coming colder months. The event takes place in the Assembly Rooms at the Hackney Town Hall in Reading Lane.
URL:https://hcvs.org.uk/event/winter-warmer-showcase/
END:VEVENT
BEGIN:VEVENT
DTSTART;TZID=UTC:20181128T093000
DTEND;TZID=UTC:20181128T163000
DTSTAMP:20260419T185414
CREATED:20181126T124348Z
LAST-MODIFIED:20181127T151825Z
UID:7965-1543397400-1543422600@hcvs.org.uk
SUMMARY:Bi-annual Domestic Abuse and Violence Against Women and Girls Practitioners' Forum
DESCRIPTION:This practitioners forum will cover a range of topics from working with young people\, supporting survivors of sexual violence\, supporting survivors with problematic substance misuse\, and engaging perpetrators.\nThe Tomlinson Centre\, Queensbridge Road\, E8 3ND\, 9.30am-4.30pm\nFor further information email HCYPS.Training@Hackney.gov.uk
URL:https://hcvs.org.uk/event/bi-annual-domestic-abuse-violence-women-girls-practitioners-forum/
END:VEVENT
BEGIN:VEVENT
DTSTART;TZID=UTC:20181129T040000
DTEND;TZID=UTC:20181129T180000
DTSTAMP:20260419T185414
CREATED:20181107T160047Z
LAST-MODIFIED:20181122T115507Z
UID:7685-1543464000-1543514400@hcvs.org.uk
SUMMARY:What is a healthy weight?
DESCRIPTION:Healthy weight – enjoy life in your Neighbourhood. Residents around Upper Clapton or Rectory Road can share their views on what a healthy weight means to them and how local people can be supported. Date 29 November. Read more
URL:https://hcvs.org.uk/event/7685/
END:VEVENT
END:VCALENDAR