BEGIN:VCALENDAR
VERSION:2.0
PRODID:-//Hackney CVS - ECPv6.15.20//NONSGML v1.0//EN
CALSCALE:GREGORIAN
METHOD:PUBLISH
X-WR-CALNAME:Hackney CVS
X-ORIGINAL-URL:https://hcvs.org.uk
X-WR-CALDESC:Events for Hackney CVS
REFRESH-INTERVAL;VALUE=DURATION:PT1H
X-Robots-Tag:noindex
X-PUBLISHED-TTL:PT1H
BEGIN:VTIMEZONE
TZID:UTC
BEGIN:STANDARD
TZOFFSETFROM:+0000
TZOFFSETTO:+0000
TZNAME:UTC
DTSTART:20170101T000000
END:STANDARD
END:VTIMEZONE
BEGIN:VEVENT
DTSTART;TZID=UTC:20180803T190000
DTEND;TZID=UTC:20180803T230000
DTSTAMP:20260419T190202
CREATED:20180801T131115Z
LAST-MODIFIED:20180801T131115Z
UID:6249-1533322800-1533337200@hcvs.org.uk
SUMMARY:'THE LAST GUARDIANS' SH FILMS FOR ACTION SCREENING
DESCRIPTION:Join Sustainable Hackney once again for a SPECIAL film screening event in partnership with La Wayaka Current. \nLa Wayaka Current is a group of artists and creative minds exploring arts\, cultural and environmental diversity across the planet and in turn reflect on our own communities\, habitats and ourselves.
URL:https://hcvs.org.uk/event/last-guardians-sh-films-action-screening/
END:VEVENT
BEGIN:VEVENT
DTSTART;TZID=UTC:20180808T100000
DTEND;TZID=UTC:20180808T133000
DTSTAMP:20260419T190202
CREATED:20180702T150748Z
LAST-MODIFIED:20180702T150748Z
UID:5842-1533722400-1533735000@hcvs.org.uk
SUMMARY:Hackney Main Grants 'How to Apply' session
DESCRIPTION:Hackney CVS is working in partnership with Hackney Council to deliver a workshop on ‘How to Apply’ to Hackney Main Grants which have seen a number of changes to the application process.\n\nThis interactive workshop will: \n\nProvide an overview of the London Borough of Hackney Main Grants programme\nProvide you with in-depth details on the application process\nProvide you with a practical session on completing the application workbook.
URL:https://hcvs.org.uk/event/hackney-main-grants-apply-session-2/
LOCATION:Hackney CVS\, 24-30 Dalston Lane\, London\, E8 3AZ\, United Kingdom
END:VEVENT
BEGIN:VEVENT
DTSTART;TZID=UTC:20180808T100000
DTEND;TZID=UTC:20180808T160000
DTSTAMP:20260419T190202
CREATED:20180801T130603Z
LAST-MODIFIED:20180801T130603Z
UID:6245-1533722400-1533744000@hcvs.org.uk
SUMMARY:Supporting and including LGBTQ young people in Hackney & The City
DESCRIPTION:This training aims to support participants to increase understanding and confidence around LGBTQ terminology\, definitions and experience. The course will address homophobia\, biphobia and transphobia and support workers to develop strategies to address these and to support and include LGBTQ young people in their services. \nFree to professionals working in Hackney & The City. If you are work outside of Hackey & The City there will be a charge for attendance. Priority will be given to professionals working in Hackney & The City.
URL:https://hcvs.org.uk/event/supporting-including-lgbtq-young-people-hackney-city-2/
END:VEVENT
BEGIN:VEVENT
DTSTART;TZID=UTC:20180811T110000
DTEND;TZID=UTC:20180811T150000
DTSTAMP:20260419T190202
CREATED:20180801T124632Z
LAST-MODIFIED:20180801T124632Z
UID:6239-1533985200-1533999600@hcvs.org.uk
SUMMARY:Northwold table-top sale and funday
DESCRIPTION:Come and bag a bargain and have some fun. Barbecue\, home-made cakes and refreshments on sale.  \nAge group: All ages.  \nNorthwold Estate\, 131 Upper Clapton Road\, Hackney\, London E5 9SA.  \nDisabled access: yes.  \nContact: Deborah McManamon . Email: Debmcm@aol.com
URL:https://hcvs.org.uk/event/northwold-table-top-sale-funday/
END:VEVENT
BEGIN:VEVENT
DTSTART;TZID=UTC:20180812T140000
DTEND;TZID=UTC:20180812T163000
DTSTAMP:20260419T190202
CREATED:20180801T130750Z
LAST-MODIFIED:20180801T130750Z
UID:6247-1534082400-1534091400@hcvs.org.uk
SUMMARY:Relax & Restore - Herbal Remedy Making
DESCRIPTION:Join us for a hands-on session where we will be showing you how to make your own herbal goodies. The workshop will guide you through the basics of how we turn herbs into natural products\, focusing on the restorative properties of a number of herbs. You will learn how to make a calendula infused lip balm\, a rejuvenating bath salt soak and a relaxation spray with herbs and essential oils. You’ll take home a set of personalised goodies to enjoy at home.
URL:https://hcvs.org.uk/event/relax-restore-herbal-remedy-making/
END:VEVENT
BEGIN:VEVENT
DTSTART;TZID=UTC:20180821T100000
DTEND;TZID=UTC:20180821T170000
DTSTAMP:20260419T190202
CREATED:20180717T111917Z
LAST-MODIFIED:20180817T110111Z
UID:6036-1534845600-1534870800@hcvs.org.uk
SUMMARY:Introduction to Sexual Health and Condom Distribution Training
DESCRIPTION:Brook invites you to free training sessions at Positive East. They will help professionals expand their knowledge of sexual health and ways of supporting young people. \nIntroduction to Sexual Health and Condom Distribution Training\, 21 – 22 August – read more and register here.
URL:https://hcvs.org.uk/event/introduction-sexual-health-condom-distribution-training/
ATTACH;FMTTYPE=image/jpeg:https://hcvs.org.uk/wp-content/uploads/2018/03/WAD-display-of-Condoms-e1520945497202.jpg
END:VEVENT
BEGIN:VEVENT
DTSTART;TZID=UTC:20180825T120000
DTEND;TZID=UTC:20180825T160000
DTSTAMP:20260419T190202
CREATED:20180801T124524Z
LAST-MODIFIED:20180817T110426Z
UID:6237-1535198400-1535212800@hcvs.org.uk
SUMMARY:A family summer fair and craft fair
DESCRIPTION:This is a free entry event for the community. The holiday summer break is coming to an end. Come\, have fun and celebrate the last few days of this holiday break at a family summer fair. Browse through the variety of stalls and view the decorative items on display.  \nStoke Newington Methodist Church\, 106A Stoke Newington High Street. Hackney N16 7NY.  \nDisabled access: yes.  \nContact: Suzanne Asphall. Email: designsbysuzanne01@hotmail.com. Telephone: 07956905730.
URL:https://hcvs.org.uk/event/family-summer-fair-craft-fair/
ATTACH;FMTTYPE=image/jpeg:https://hcvs.org.uk/wp-content/uploads/2017/09/DSC00222-e1527088914157.jpg
END:VEVENT
BEGIN:VEVENT
DTSTART;TZID=UTC:20180826T140000
DTEND;TZID=UTC:20180826T163000
DTSTAMP:20260419T190202
CREATED:20180801T125937Z
LAST-MODIFIED:20180817T110522Z
UID:6241-1535292000-1535301000@hcvs.org.uk
SUMMARY:St Augustine's Tower open day
DESCRIPTION:Hackney’s oldest building will be open to the public. Discover the history of the building and climb the 135 stairs for the best view of Hackney.  \nDisabled access to ground floor.  \nAdmission free.   \nSt Augustine’s Tower\, Mare Street\, Hackne E8 1HR \n Contact: Laurie Elks. Email: l.elks@btconnect.com 
URL:https://hcvs.org.uk/event/st-augustines-tower-open-day/
ATTACH;FMTTYPE=image/png:https://hcvs.org.uk/wp-content/uploads/2018/05/Screen-Shot-2018-05-22-at-14.57.41.png
END:VEVENT
BEGIN:VEVENT
DTSTART;TZID=UTC:20180830T130000
DTEND;TZID=UTC:20180830T160000
DTSTAMP:20260419T190202
CREATED:20180829T102242Z
LAST-MODIFIED:20180829T102242Z
UID:6688-1535634000-1535644800@hcvs.org.uk
SUMMARY:Next Steps Careers Festival
DESCRIPTION:Just got your results and unsure about what to do next? Young Hackney have got you covered… \nNext Steps Careers Festival is an event focused on helping you work out what you want to do next. If you’re struggling to make some decisions and just need that extra help\, it’s okay! \nAt the event you will get: \n\nOne-to-one expert support\nGet info about courses on offer at local colleges\nSpeak to professional careers advisers\nRegister for an apprenticeship\nFind out about training opportunities.\n\n  \nHackney Town Hall \n 
URL:https://hcvs.org.uk/event/next-steps-careers-festival/
END:VEVENT
END:VCALENDAR