BEGIN:VCALENDAR
VERSION:2.0
PRODID:-//Hackney CVS - ECPv6.15.20//NONSGML v1.0//EN
CALSCALE:GREGORIAN
METHOD:PUBLISH
X-ORIGINAL-URL:https://hcvs.org.uk
X-WR-CALDESC:Events for Hackney CVS
REFRESH-INTERVAL;VALUE=DURATION:PT1H
X-Robots-Tag:noindex
X-PUBLISHED-TTL:PT1H
BEGIN:VTIMEZONE
TZID:UTC
BEGIN:STANDARD
TZOFFSETFROM:+0000
TZOFFSETTO:+0000
TZNAME:UTC
DTSTART:20170101T000000
END:STANDARD
END:VTIMEZONE
BEGIN:VEVENT
DTSTART;TZID=UTC:20180609T120000
DTEND;TZID=UTC:20180609T160000
DTSTAMP:20260420T152921
CREATED:20180404T093204Z
LAST-MODIFIED:20180404T093204Z
UID:4424-1528545600-1528560000@hcvs.org.uk
SUMMARY:Art\, design and craft fair
DESCRIPTION:This is a free entry event for the community with a creative flair. There will be decorative items from local businesses\, designers\, artist and craft makers. Browse through the variety of stalls\, to view the creative and decorative items on display. Please contact for further information and stall bookings.   \nWhere? Stoke Newington Methodist Church\, 106a Stoke Newington High Street\, Stoke Newington\, Hackney N16 7NY \nContact: Suzanne Asphall\,  e-mail: designsbysuzanne01@hotmail.com  \nTelephone: 07956905730
URL:https://hcvs.org.uk/event/art-design-craft-fair/2018-06-09/
END:VEVENT
BEGIN:VEVENT
DTSTART;TZID=UTC:20180619T100000
DTEND;TZID=UTC:20180619T130000
DTSTAMP:20260420T152921
CREATED:20180524T093643Z
LAST-MODIFIED:20180524T093643Z
UID:5354-1529402400-1529413200@hcvs.org.uk
SUMMARY:Basic Risk Assessment
DESCRIPTION:Do you want to know how to carry out a risk assessment? Do you have responsibility for managing health and safety? This 3-hour basic risk assessment training could be what you are looking for. \nDate: 19 June 2018 Time: 10.00am – 1.00pm Venue: Adiaha Antigha Centre\, 24-30 Dalston Lane\, E8 3AZ\nFor further information and to book click here.
URL:https://hcvs.org.uk/event/basic-risk-assessment-2/
LOCATION:Hackney CVS\, 24-30 Dalston Lane\, London\, E8 3AZ\, United Kingdom
END:VEVENT
BEGIN:VEVENT
DTSTART;TZID=UTC:20180621T193000
DTEND;TZID=UTC:20180621T210000
DTSTAMP:20260420T152921
CREATED:20180404T093956Z
LAST-MODIFIED:20180404T094054Z
UID:4429-1529609400-1529614800@hcvs.org.uk
SUMMARY:Hackney swift walk
DESCRIPTION:To celebrate National Swift Week\, come on a fascinating guided walk visiting some of the summer haunts of Hackney’s swifts. See their acrobatics and listen to their ‘screaming parties’.  \nSuggested donation £5.  \nTo book email debeauvoirswifts@gmail.com.  \nWhere? The Star by Hackney Downs\, 35 Queensdown Rd Hackney E5 8JQ  \nContact: Hackney Swifts\, e-mail: hackneyswifts@gmail.com
URL:https://hcvs.org.uk/event/hackney-swift-walk/
ATTACH;FMTTYPE=image/jpeg:https://hcvs.org.uk/wp-content/uploads/2017/12/canal.jpg
END:VEVENT
BEGIN:VEVENT
DTSTART;TZID=UTC:20180626T100000
DTEND;TZID=UTC:20180626T120000
DTSTAMP:20260420T152921
CREATED:20180619T112739Z
LAST-MODIFIED:20180619T112739Z
UID:5676-1530007200-1530014400@hcvs.org.uk
SUMMARY:Partnership meeting with Job Centre Plus (JCP) and Hackney Advice Forum (HAF)
DESCRIPTION:Hackney Advice Forum welcomes anyone who works in the advice field in Hackney to attend their next meeting on 26 June at Hackney CVS\, starting at 10am.
URL:https://hcvs.org.uk/event/partnership-meeting-job-centre-plus-jcp-hackney-advice-forum-haf/
LOCATION:Hackney CVS\, 24-30 Dalston Lane\, London\, E8 3AZ\, United Kingdom
END:VEVENT
BEGIN:VEVENT
DTSTART;TZID=UTC:20180627T150000
DTEND;TZID=UTC:20180627T170000
DTSTAMP:20260420T152921
CREATED:20180619T112357Z
LAST-MODIFIED:20180619T112357Z
UID:5674-1530111600-1530118800@hcvs.org.uk
SUMMARY:ICT Digital Platform Open Consultation
DESCRIPTION:There is currently a gap in the connectivity of the East London Patient Record System where the voluntary sector is concerned. This is because there is no mechanism for enabling health and social care workers and social prescribers to share patient / service user referral information with each other. Currently healthcare professionals are able to record\, share and use vital information in order to provide more efficient care via EMIS; which is a clinical system for delivering integrated healthcare. However the voluntary sector does not have access to EMIS and as a result there is no record of many of the valuable interactions which occur with patients / service users. \nThe aim is to provide the voluntary sector\, access to a digital platform\, which is integrated with the various directory of services (DoS)\, to populate services automatically as an integrated DoS. This will bridge the connectivity gap and enable the entire path of a patient’s / service user’s referral to be tracked and accessed by all necessary parties via EMIS. \nThe proposed digital platform will work as a referral pathway tracker between Healthcare services and Social prescription service providers. The referrals will be populated from EMIS and health and wellbeing data which has been input onto the platform by SP providers. This information will update  EMIS\, which will in turn update Homerton Health Information Exchange (HIE). \nBenefits: The implementation of a digital platform would improve the patient experience\, improve communication and collaboration and in general deliver a service that better meets the needs of the patients/ service users in a multitude of ways: \n\nPatient safety: supporting safer and more informed treatment by providing clinicians with timely access to accurate and up to date information\nEfficiency: reducing the time\, effort and resources required to obtain relevant information regarding patient care\, e.g. avoiding repeat test requests\nEffectiveness: supporting the delivery of appropriate care to patients\nPatient experience: reducing the need for patients to recall or repeat relevant information which also supports people with communication difficulties\nAccess to data for clinical audit and quality improvement.\n\nRegister here.
URL:https://hcvs.org.uk/event/ict-digital-platform-open-consultation/
LOCATION:Hackney CVS\, 24-30 Dalston Lane\, London\, E8 3AZ\, United Kingdom
END:VEVENT
BEGIN:VEVENT
DTSTART;TZID=UTC:20180628T100000
DTEND;TZID=UTC:20180628T170000
DTSTAMP:20260420T152921
CREATED:20180524T093744Z
LAST-MODIFIED:20180524T093744Z
UID:5356-1530180000-1530205200@hcvs.org.uk
SUMMARY:Emergency First Aid at Work
DESCRIPTION:This course is designed for anyone who needs to or would like to become an accredited emergency first aider in the workplace in accordance with the Health and Safety (First Aid) Regulations. Date: 28 June. \nDate: 28 June Time: 10.00am – 5.00pm Venue: Adiaha Antigha Centre\, 24-30 Dalston Lane\, E8 3AZ\nFor further information and to book click here.
URL:https://hcvs.org.uk/event/emergency-first-aid-work/
LOCATION:Hackney CVS\, 24-30 Dalston Lane\, London\, E8 3AZ\, United Kingdom
END:VEVENT
END:VCALENDAR