BEGIN:VCALENDAR
VERSION:2.0
PRODID:-//Hackney CVS - ECPv6.15.20//NONSGML v1.0//EN
CALSCALE:GREGORIAN
METHOD:PUBLISH
X-ORIGINAL-URL:https://hcvs.org.uk
X-WR-CALDESC:Events for Hackney CVS
REFRESH-INTERVAL;VALUE=DURATION:PT1H
X-Robots-Tag:noindex
X-PUBLISHED-TTL:PT1H
BEGIN:VTIMEZONE
TZID:UTC
BEGIN:STANDARD
TZOFFSETFROM:+0000
TZOFFSETTO:+0000
TZNAME:UTC
DTSTART:20170101T000000
END:STANDARD
END:VTIMEZONE
BEGIN:VEVENT
DTSTART;TZID=UTC:20180415T140000
DTEND;TZID=UTC:20180415T170000
DTSTAMP:20260420T004415
CREATED:20180404T090107Z
LAST-MODIFIED:20180404T090107Z
UID:4417-1523800800-1523811600@hcvs.org.uk
SUMMARY:Stamford Hill walking tour
DESCRIPTION:An expert guide Rabbi Mendy Korer’s special tour includes a bakery\, an all-girls school\, lunch at a falafel bar\, sometimes even a private home\, and is full of stories of Stamford Hill’s people and the Chasidic way of life. Tickets £10.  \nRegister here.   \nWhere? Stamford Hill Library\, 120 Stamford Hill\, Hackney N16 6QT  \nContact: Rabbi Mendy Korer  \nEmail: info@jewishislington.co.uk
URL:https://hcvs.org.uk/event/stamford-hill-walking-tour/
END:VEVENT
BEGIN:VEVENT
DTSTART;TZID=UTC:20180417T180000
DTEND;TZID=UTC:20180417T200000
DTSTAMP:20260420T004415
CREATED:20180327T134133Z
LAST-MODIFIED:20180327T134133Z
UID:4314-1523988000-1523995200@hcvs.org.uk
SUMMARY:Making Every Contact Count in Health and Care
DESCRIPTION:A new service is being designed to allow health and care staff in City & Hackney to: \n\nhave conversations about non-medical issues affecting people’s health\,\ngive brief advice and signpost people to other sources of information/advice and support they may need.\n\nThis is a great opportunity for residents to have a real say in the design of this service with the commissioners designing the service. \nMore information
URL:https://hcvs.org.uk/event/making-every-contact-count-health-care/
LOCATION:Pembury Community Centre\, 1 Atkins Square\, Dalston Lane\, London\, E8 1HL\, United Kingdom
ATTACH;FMTTYPE=image/jpeg:https://hcvs.org.uk/wp-content/uploads/2017/12/workshop.jpg
GEO:51.5498454;-0.0581902
X-APPLE-STRUCTURED-LOCATION;VALUE=URI;X-ADDRESS=Pembury Community Centre 1 Atkins Square Dalston Lane London E8 1HL United Kingdom;X-APPLE-RADIUS=500;X-TITLE=1 Atkins Square\, Dalston Lane:geo:-0.0581902,51.5498454
END:VEVENT
BEGIN:VEVENT
DTSTART;TZID=UTC:20180418T100000
DTEND;TZID=UTC:20180418T120000
DTSTAMP:20260420T004415
CREATED:20180416T141114Z
LAST-MODIFIED:20180416T141114Z
UID:4641-1524045600-1524052800@hcvs.org.uk
SUMMARY:Meet the funders
DESCRIPTION:We are lucky to be joined by City Bridge Trust and The Big Lottery for an interactive session on their funding priorities and support available for voluntary and community groups.\n\nCity Bridge Trust has finalised a new strategy for 2018 to 2023 – Bridging Divides.  Bridging Divides is a vision and values led strategy taking a ‘total assets’ approach to achieving this vision\, meaning that as well as its £100 million of funding over five years CBT will also ensure the best use of its other non-monetary resources: including the links it has to civil society\, other funders and the wider funding ecology\, and the expertise of its trustee the CoLC and their links to local\, regional and national Government and the private sector. \nThe Big Lottery has implemented a temporary pause on their Reaching Communities programme whilst a restructure is taking place as well as embedding new ways of working with voluntary and community groups. Reaching Communities will reopen on Monday 2 April\, all the changes will be shared at Meet the Funders Session hosted by Hackney CVS on 18 April 10-12pm. \n\nRegister here.
URL:https://hcvs.org.uk/event/meet-the-funders/
LOCATION:Hackney CVS\, 24-30 Dalston Lane\, London\, E8 3AZ\, United Kingdom
END:VEVENT
BEGIN:VEVENT
DTSTART;TZID=UTC:20180419T103000
DTEND;TZID=UTC:20180419T133000
DTSTAMP:20260420T004415
CREATED:20180416T141321Z
LAST-MODIFIED:20180416T141321Z
UID:4644-1524133800-1524144600@hcvs.org.uk
SUMMARY:How to Apply session – Hackney Council Community Grants
DESCRIPTION:Hackney CVS is working in partnership with Hackney Council to deliver a workshop on ‘How to Apply’ to the Hackney Small Grants up to £5\,000.\n\nThe 2nd Round of Small grants open on 3rd April and close on Monday 14th May\, so you better get your applications ready. \nThis workshop will: \n\nProvide an overview of the Hackney Small Grants programme\nGive details on the application process\n\nBy the end of the workshop participants will be able to: \n\nGain a better understanding of the way to identify and evidence needs\nDemonstrate a better understanding of the London Borough Hackney Outcomes and Safeguarding questions.\n\nRegister here.
URL:https://hcvs.org.uk/event/apply-session-hackney-council-community-grants/
LOCATION:Hackney CVS\, 24-30 Dalston Lane\, London\, E8 3AZ\, United Kingdom
END:VEVENT
BEGIN:VEVENT
DTSTART;TZID=UTC:20180419T133000
DTEND;TZID=UTC:20180419T163000
DTSTAMP:20260420T004415
CREATED:20180416T141509Z
LAST-MODIFIED:20180416T141509Z
UID:4646-1524144600-1524155400@hcvs.org.uk
SUMMARY:Best Practice in Volunteer Management
DESCRIPTION:Good volunteer recruitment and management not only increases your organisations capacity and impact\, but also ensures that the time you give to supporting volunteers makes a real difference to their skills and confidence.\n\nWho is this course is for? \nFor micro\, small to medium community and voluntary groups interested in working with volunteers – for one off events\, projects or longer ongoing volunteer placements. This session is an overview covering all the Best Practice essentials\, but will be tailored towards participants’ previous engagement and experience with volunteers (via pre-course survey). \n\nRegister here
URL:https://hcvs.org.uk/event/best-practice-volunteer-management-2/
LOCATION:Hackney CVS\, 24-30 Dalston Lane\, London\, E8 3AZ\, United Kingdom
END:VEVENT
BEGIN:VEVENT
DTSTART;TZID=UTC:20180424T100000
DTEND;TZID=UTC:20180424T130000
DTSTAMP:20260420T004415
CREATED:20180416T141639Z
LAST-MODIFIED:20180416T141639Z
UID:4648-1524564000-1524574800@hcvs.org.uk
SUMMARY:GDPR Compliance – Get Ready!
DESCRIPTION:The General Data Protection Regulation (GDPR) comes into effect on 25 May 2018 and most organisations in all sectors will need to make some changes in order to comply.\n\nThis intensive workshop aims to provide you with in-depth knowledge on how to be GDPR compliant by May 2018. This includes how it should be applied in practice and the importance for data controllers and data processors holding personal information to ensure that correct frameworks and systems are in place in order to comply. \nRegister here.
URL:https://hcvs.org.uk/event/gdpr-compliance-get-ready-2/
LOCATION:Hackney CVS\, 24-30 Dalston Lane\, London\, E8 3AZ\, United Kingdom
END:VEVENT
BEGIN:VEVENT
DTSTART;TZID=UTC:20180424T130000
DTEND;TZID=UTC:20180424T160000
DTSTAMP:20260420T004415
CREATED:20180417T151459Z
LAST-MODIFIED:20180417T151525Z
UID:4705-1524574800-1524585600@hcvs.org.uk
SUMMARY:Rainbow Grow - planting session
DESCRIPTION:Rainbow Grow – Hackney-based LGBTQI+ gardening group – will be having a mini-garden at RHS Hampton Court Palace Flower Show. Help them plant pansies for this event at Hackney CVS on 24 April at 1pm. All are welcome to attend. Read more
URL:https://hcvs.org.uk/event/rainbow-frow-planting-session/
LOCATION:Hackney CVS\, 24-30 Dalston Lane\, London\, E8 3AZ\, United Kingdom
END:VEVENT
BEGIN:VEVENT
DTSTART;TZID=UTC:20180425T093000
DTEND;TZID=UTC:20180425T130000
DTSTAMP:20260420T004415
CREATED:20180327T135320Z
LAST-MODIFIED:20180327T135519Z
UID:4317-1524648600-1524661200@hcvs.org.uk
SUMMARY:HSCF Transformation Forum
DESCRIPTION:You are invite to Health and social Care Forum  joint meeting ‘Big meeting’. Where all the Health and Social care groups will meet under one roof. \nIt will involve of an hour of SIG meeting\, then groups will split into  transformation work streams (Prevention\, Planned Care\, Unplanned Care and Children & Young People)\,  and meet for an hour followed by HSCF Forum meeting. \nTime & Date: 25th April 2018 at 9.30 to 1pm \nVenue: The Tomlinson Centre \nRegister here
URL:https://hcvs.org.uk/event/hscf-transformation-forum/
LOCATION:Tomlinson Centre\, Queensbridge Rd\, London\, E8 3ND
ATTACH;FMTTYPE=image/jpeg:https://hcvs.org.uk/wp-content/uploads/2018/03/what-we-do.jpg
END:VEVENT
BEGIN:VEVENT
DTSTART;TZID=UTC:20180429T140000
DTEND;TZID=UTC:20180429T160000
DTSTAMP:20260420T004415
CREATED:20180425T085607Z
LAST-MODIFIED:20180425T085607Z
UID:4804-1525010400-1525017600@hcvs.org.uk
SUMMARY:Hackney Mayoral Election Hustings 2018
DESCRIPTION:Political rivals will vie for votes at the Arcola Theatre\, where residents will get the chance to quiz Hackney’s incumbent Mayor Philip Glanville and challengers for what is arguably the most influential job in the borough. \nAhead of next month’s mayoral election the Hackney Citizen is hosting a free debate at the Dalston venue from 2pm-4pm. \nThe event will be a chance for residents to hear from representatives from parties fielding candidates in the Mayoral election about issues the council is responsible for. \nFor more information please email your query to editor@hackneycitizen.co.uk. \nRegister here.
URL:https://hcvs.org.uk/event/hackney-mayoral-election-hustings-2018/
END:VEVENT
END:VCALENDAR