BEGIN:VCALENDAR
VERSION:2.0
PRODID:-//Hackney CVS - ECPv6.15.20//NONSGML v1.0//EN
CALSCALE:GREGORIAN
METHOD:PUBLISH
X-WR-CALNAME:Hackney CVS
X-ORIGINAL-URL:https://hcvs.org.uk
X-WR-CALDESC:Events for Hackney CVS
REFRESH-INTERVAL;VALUE=DURATION:PT1H
X-Robots-Tag:noindex
X-PUBLISHED-TTL:PT1H
BEGIN:VTIMEZONE
TZID:Europe/London
BEGIN:DAYLIGHT
TZOFFSETFROM:+0000
TZOFFSETTO:+0100
TZNAME:BST
DTSTART:20240331T010000
END:DAYLIGHT
BEGIN:STANDARD
TZOFFSETFROM:+0100
TZOFFSETTO:+0000
TZNAME:GMT
DTSTART:20241027T010000
END:STANDARD
BEGIN:DAYLIGHT
TZOFFSETFROM:+0000
TZOFFSETTO:+0100
TZNAME:BST
DTSTART:20250330T010000
END:DAYLIGHT
BEGIN:STANDARD
TZOFFSETFROM:+0100
TZOFFSETTO:+0000
TZNAME:GMT
DTSTART:20251026T010000
END:STANDARD
BEGIN:DAYLIGHT
TZOFFSETFROM:+0000
TZOFFSETTO:+0100
TZNAME:BST
DTSTART:20260329T010000
END:DAYLIGHT
BEGIN:STANDARD
TZOFFSETFROM:+0100
TZOFFSETTO:+0000
TZNAME:GMT
DTSTART:20261025T010000
END:STANDARD
END:VTIMEZONE
BEGIN:VEVENT
DTSTART;TZID=Europe/London:20250311T150000
DTEND;TZID=Europe/London:20250311T163000
DTSTAMP:20260423T171127
CREATED:20250220T135717Z
LAST-MODIFIED:20250220T140011Z
UID:22877-1741705200-1741710600@hcvs.org.uk
SUMMARY:Well Street Common Neighbourhood Forum
DESCRIPTION:Well Street Common Neighbourhood Forum\nJoin this Neighbourhood Forum to discuss: access to support for long-term health conditions and disability.\n11 March. Book here
URL:https://hcvs.org.uk/event/well-street-common-neighbourhood-forum-4/
CATEGORIES:Neighbourhoods
ATTACH;FMTTYPE=image/jpeg:https://hcvs.org.uk/wp-content/uploads/2025/01/2ed696aa-9724-3d56-1361-d7ecf26692d3.jpg
END:VEVENT
BEGIN:VEVENT
DTSTART;TZID=Europe/London:20250315T103000
DTEND;TZID=Europe/London:20250315T143000
DTSTAMP:20260423T171127
CREATED:20250220T135802Z
LAST-MODIFIED:20250306T111309Z
UID:22880-1742034600-1742049000@hcvs.org.uk
SUMMARY:Hackney Downs Neighbourhood Forum
DESCRIPTION:This Neighbourhood Forum is themed: More action\, more energy! The event is aimed at families and young people.\n15 March. Book here \n 
URL:https://hcvs.org.uk/event/hackney-downs-neighbourhood-forum-2/
CATEGORIES:Neighbourhoods
ATTACH;FMTTYPE=image/jpeg:https://hcvs.org.uk/wp-content/uploads/2025/01/2ed696aa-9724-3d56-1361-d7ecf26692d3.jpg
END:VEVENT
BEGIN:VEVENT
DTSTART;TZID=Europe/London:20250319T140000
DTEND;TZID=Europe/London:20250319T160000
DTSTAMP:20260423T171127
CREATED:20250220T135849Z
LAST-MODIFIED:20250306T105805Z
UID:22882-1742392800-1742400000@hcvs.org.uk
SUMMARY:Clissold Park Neighbourhood Forum
DESCRIPTION:Take part in this Neighbourhood Forum to discuss the theme: financial support in our community.\n19 March. Register here \n 
URL:https://hcvs.org.uk/event/clissold-park-neighbourhood-forum-4/
CATEGORIES:Neighbourhoods
ATTACH;FMTTYPE=image/jpeg:https://hcvs.org.uk/wp-content/uploads/2025/01/2ed696aa-9724-3d56-1361-d7ecf26692d3.jpg
END:VEVENT
END:VCALENDAR