BEGIN:VCALENDAR
VERSION:2.0
PRODID:-//Hackney CVS - ECPv6.15.20//NONSGML v1.0//EN
CALSCALE:GREGORIAN
METHOD:PUBLISH
X-ORIGINAL-URL:https://hcvs.org.uk
X-WR-CALDESC:Events for Hackney CVS
REFRESH-INTERVAL;VALUE=DURATION:PT1H
X-Robots-Tag:noindex
X-PUBLISHED-TTL:PT1H
BEGIN:VTIMEZONE
TZID:Europe/London
BEGIN:DAYLIGHT
TZOFFSETFROM:+0000
TZOFFSETTO:+0100
TZNAME:BST
DTSTART:20240331T010000
END:DAYLIGHT
BEGIN:STANDARD
TZOFFSETFROM:+0100
TZOFFSETTO:+0000
TZNAME:GMT
DTSTART:20241027T010000
END:STANDARD
BEGIN:DAYLIGHT
TZOFFSETFROM:+0000
TZOFFSETTO:+0100
TZNAME:BST
DTSTART:20250330T010000
END:DAYLIGHT
BEGIN:STANDARD
TZOFFSETFROM:+0100
TZOFFSETTO:+0000
TZNAME:GMT
DTSTART:20251026T010000
END:STANDARD
BEGIN:DAYLIGHT
TZOFFSETFROM:+0000
TZOFFSETTO:+0100
TZNAME:BST
DTSTART:20260329T010000
END:DAYLIGHT
BEGIN:STANDARD
TZOFFSETFROM:+0100
TZOFFSETTO:+0000
TZNAME:GMT
DTSTART:20261025T010000
END:STANDARD
END:VTIMEZONE
BEGIN:VEVENT
DTSTART;TZID=Europe/London:20250701T100000
DTEND;TZID=Europe/London:20250701T120000
DTSTAMP:20260422T034551
CREATED:20250619T122729Z
LAST-MODIFIED:20250619T122729Z
UID:23282-1751364000-1751371200@hcvs.org.uk
SUMMARY:VCSquared summer networking brunch
DESCRIPTION:VCSquared summer networking brunch\nReflect\, connect and shape what’s next. We’re wrapping up the first phase of VCSquared\, our City of London project. Join us for good food\, great company and some big-picture thinking.\n1 July. Register here
URL:https://hcvs.org.uk/event/vcsquared-summer-networking-brunch/
CATEGORIES:network
ATTACH;FMTTYPE=image/jpeg:https://hcvs.org.uk/wp-content/uploads/2025/03/1fbbb6fe-b471-b7f4-c350-586c623958a2-540x350-1.jpg
END:VEVENT
BEGIN:VEVENT
DTSTART;TZID=Europe/London:20250701T100000
DTEND;TZID=Europe/London:20250701T170000
DTSTAMP:20260422T034551
CREATED:20250612T115207Z
LAST-MODIFIED:20250612T115207Z
UID:23270-1751364000-1751389200@hcvs.org.uk
SUMMARY:Communication and leadership workshop
DESCRIPTION:Join our full-day training programme\, designed to build confidence\, enhance communication\, and strengthen leadership in Hackney’s voluntary and community sector (VCS).\n1 July. Book here
URL:https://hcvs.org.uk/event/communication-and-leadership-workshop/
CATEGORIES:training
ATTACH;FMTTYPE=image/png:https://hcvs.org.uk/wp-content/uploads/2025/06/1-1.png
END:VEVENT
END:VCALENDAR