BEGIN:VCALENDAR
VERSION:2.0
PRODID:-//Hackney CVS - ECPv6.15.20//NONSGML v1.0//EN
CALSCALE:GREGORIAN
METHOD:PUBLISH
X-WR-CALNAME:Hackney CVS
X-ORIGINAL-URL:https://hcvs.org.uk
X-WR-CALDESC:Events for Hackney CVS
REFRESH-INTERVAL;VALUE=DURATION:PT1H
X-Robots-Tag:noindex
X-PUBLISHED-TTL:PT1H
BEGIN:VTIMEZONE
TZID:Europe/London
BEGIN:DAYLIGHT
TZOFFSETFROM:+0000
TZOFFSETTO:+0100
TZNAME:BST
DTSTART:20240331T010000
END:DAYLIGHT
BEGIN:STANDARD
TZOFFSETFROM:+0100
TZOFFSETTO:+0000
TZNAME:GMT
DTSTART:20241027T010000
END:STANDARD
BEGIN:DAYLIGHT
TZOFFSETFROM:+0000
TZOFFSETTO:+0100
TZNAME:BST
DTSTART:20250330T010000
END:DAYLIGHT
BEGIN:STANDARD
TZOFFSETFROM:+0100
TZOFFSETTO:+0000
TZNAME:GMT
DTSTART:20251026T010000
END:STANDARD
BEGIN:DAYLIGHT
TZOFFSETFROM:+0000
TZOFFSETTO:+0100
TZNAME:BST
DTSTART:20260329T010000
END:DAYLIGHT
BEGIN:STANDARD
TZOFFSETFROM:+0100
TZOFFSETTO:+0000
TZNAME:GMT
DTSTART:20261025T010000
END:STANDARD
END:VTIMEZONE
BEGIN:VEVENT
DTSTART;TZID=Europe/London:20250628T100000
DTEND;TZID=Europe/London:20250628T150000
DTSTAMP:20260421T233911
CREATED:20250604T103253Z
LAST-MODIFIED:20250609T115430Z
UID:23212-1751104800-1751122800@hcvs.org.uk
SUMMARY:Hackney Downs Neighbourhood Forum
DESCRIPTION:The next forum topic is: Healthy living\, healthy lifestyles. The event features a physical activity workshop\, a canal boat ride and opportunities to connect with local organisations about healthy eating\, health and wellbeing.\n28 June. Register here \n \n 
URL:https://hcvs.org.uk/event/hackney-downs-neighbourhood-forum-3/
CATEGORIES:Neighbourhoods
ATTACH;FMTTYPE=image/jpeg:https://hcvs.org.uk/wp-content/uploads/2025/04/20231212-Screenshot_20231212_103333_Photos.jpg
END:VEVENT
END:VCALENDAR