BEGIN:VCALENDAR
VERSION:2.0
PRODID:-//Hackney CVS - ECPv6.15.20//NONSGML v1.0//EN
CALSCALE:GREGORIAN
METHOD:PUBLISH
X-WR-CALNAME:Hackney CVS
X-ORIGINAL-URL:https://hcvs.org.uk
X-WR-CALDESC:Events for Hackney CVS
REFRESH-INTERVAL;VALUE=DURATION:PT1H
X-Robots-Tag:noindex
X-PUBLISHED-TTL:PT1H
BEGIN:VTIMEZONE
TZID:Europe/London
BEGIN:DAYLIGHT
TZOFFSETFROM:+0000
TZOFFSETTO:+0100
TZNAME:BST
DTSTART:20240331T010000
END:DAYLIGHT
BEGIN:STANDARD
TZOFFSETFROM:+0100
TZOFFSETTO:+0000
TZNAME:GMT
DTSTART:20241027T010000
END:STANDARD
BEGIN:DAYLIGHT
TZOFFSETFROM:+0000
TZOFFSETTO:+0100
TZNAME:BST
DTSTART:20250330T010000
END:DAYLIGHT
BEGIN:STANDARD
TZOFFSETFROM:+0100
TZOFFSETTO:+0000
TZNAME:GMT
DTSTART:20251026T010000
END:STANDARD
BEGIN:DAYLIGHT
TZOFFSETFROM:+0000
TZOFFSETTO:+0100
TZNAME:BST
DTSTART:20260329T010000
END:DAYLIGHT
BEGIN:STANDARD
TZOFFSETFROM:+0100
TZOFFSETTO:+0000
TZNAME:GMT
DTSTART:20261025T010000
END:STANDARD
END:VTIMEZONE
BEGIN:VEVENT
DTSTART;TZID=Europe/London:20250624T100000
DTEND;TZID=Europe/London:20250624T123000
DTSTAMP:20260422T084102
CREATED:20250605T103629Z
LAST-MODIFIED:20250605T103655Z
UID:23221-1750759200-1750768200@hcvs.org.uk
SUMMARY:Monitoring and evaluation training 
DESCRIPTION:This session will equip you with essential monitoring and evaluation techniques to assess effectiveness\, improve outcomes and demonstrate success to stakeholders. The training is for organisations in the City of London.\n24 June. Book here
URL:https://hcvs.org.uk/event/monitoring-and-evaluation-training/
CATEGORIES:training
ATTACH;FMTTYPE=image/jpeg:https://hcvs.org.uk/wp-content/uploads/2025/01/20250211-20250211_1130500zz.jpg
END:VEVENT
BEGIN:VEVENT
DTSTART;TZID=Europe/London:20250624T110000
DTEND;TZID=Europe/London:20250624T130000
DTSTAMP:20260422T084102
CREATED:20250605T111258Z
LAST-MODIFIED:20250605T111258Z
UID:23223-1750762800-1750770000@hcvs.org.uk
SUMMARY:Children and Families Forum
DESCRIPTION:Join us to understand the current challenges\, services\, and support available for children and families navigating special educational needs (SEN) services in Hackney.\n24 June. Register here
URL:https://hcvs.org.uk/event/children-and-families-forum-2/
CATEGORIES:network
ATTACH;FMTTYPE=image/jpeg:https://hcvs.org.uk/wp-content/uploads/2025/06/Pram-2-1-2-1z.jpg
END:VEVENT
BEGIN:VEVENT
DTSTART;TZID=Europe/London:20250624T141500
DTEND;TZID=Europe/London:20250624T141500
DTSTAMP:20260422T084102
CREATED:20250612T120444Z
LAST-MODIFIED:20250612T120444Z
UID:23272-1750774500-1750774500@hcvs.org.uk
SUMMARY:Charedi cultural awareness training
DESCRIPTION:Join this insightful cultural training focused on health and wellbeing within the Charedi community. The interactive session will provide insights into the unique aspects of the Charedi community.\n24 June. Read more
URL:https://hcvs.org.uk/event/charedi-cultural-awareness-training/
ATTACH;FMTTYPE=image/jpeg:https://hcvs.org.uk/wp-content/uploads/2025/04/aaaa6b12-6713-2daa-c42c-7a4cc0f79fb2.jpg
END:VEVENT
END:VCALENDAR