BEGIN:VCALENDAR
VERSION:2.0
PRODID:-//Hackney CVS - ECPv6.15.20//NONSGML v1.0//EN
CALSCALE:GREGORIAN
METHOD:PUBLISH
X-ORIGINAL-URL:https://hcvs.org.uk
X-WR-CALDESC:Events for Hackney CVS
REFRESH-INTERVAL;VALUE=DURATION:PT1H
X-Robots-Tag:noindex
X-PUBLISHED-TTL:PT1H
BEGIN:VTIMEZONE
TZID:Europe/London
BEGIN:DAYLIGHT
TZOFFSETFROM:+0000
TZOFFSETTO:+0100
TZNAME:BST
DTSTART:20240331T010000
END:DAYLIGHT
BEGIN:STANDARD
TZOFFSETFROM:+0100
TZOFFSETTO:+0000
TZNAME:GMT
DTSTART:20241027T010000
END:STANDARD
BEGIN:DAYLIGHT
TZOFFSETFROM:+0000
TZOFFSETTO:+0100
TZNAME:BST
DTSTART:20250330T010000
END:DAYLIGHT
BEGIN:STANDARD
TZOFFSETFROM:+0100
TZOFFSETTO:+0000
TZNAME:GMT
DTSTART:20251026T010000
END:STANDARD
BEGIN:DAYLIGHT
TZOFFSETFROM:+0000
TZOFFSETTO:+0100
TZNAME:BST
DTSTART:20260329T010000
END:DAYLIGHT
BEGIN:STANDARD
TZOFFSETFROM:+0100
TZOFFSETTO:+0000
TZNAME:GMT
DTSTART:20261025T010000
END:STANDARD
END:VTIMEZONE
BEGIN:VEVENT
DTSTART;TZID=Europe/London:20250606T140000
DTEND;TZID=Europe/London:20250606T170000
DTSTAMP:20260422T014752
CREATED:20250528T162620Z
LAST-MODIFIED:20250529T115636Z
UID:23193-1749218400-1749229200@hcvs.org.uk
SUMMARY:Hackney Marshes Neighbourhood Forum 
DESCRIPTION:Join this forum to have a say on how to improve the health and wellbeing of people in Hackney Marshes. The topic of this forum is: Help to manage diabetes.\n6 June. Register here
URL:https://hcvs.org.uk/event/hackney-marshes-neighbourhood-forum-4/
CATEGORIES:Neighbourhoods
ATTACH;FMTTYPE=image/jpeg:https://hcvs.org.uk/wp-content/uploads/2025/04/20231212-Screenshot_20231212_103333_Photos.jpg
END:VEVENT
END:VCALENDAR