BEGIN:VCALENDAR
VERSION:2.0
PRODID:-//Hackney CVS - ECPv6.15.20//NONSGML v1.0//EN
CALSCALE:GREGORIAN
METHOD:PUBLISH
X-ORIGINAL-URL:https://hcvs.org.uk
X-WR-CALDESC:Events for Hackney CVS
REFRESH-INTERVAL;VALUE=DURATION:PT1H
X-Robots-Tag:noindex
X-PUBLISHED-TTL:PT1H
BEGIN:VTIMEZONE
TZID:Europe/London
BEGIN:DAYLIGHT
TZOFFSETFROM:+0000
TZOFFSETTO:+0100
TZNAME:BST
DTSTART:20220327T010000
END:DAYLIGHT
BEGIN:STANDARD
TZOFFSETFROM:+0100
TZOFFSETTO:+0000
TZNAME:GMT
DTSTART:20221030T010000
END:STANDARD
BEGIN:DAYLIGHT
TZOFFSETFROM:+0000
TZOFFSETTO:+0100
TZNAME:BST
DTSTART:20230326T010000
END:DAYLIGHT
BEGIN:STANDARD
TZOFFSETFROM:+0100
TZOFFSETTO:+0000
TZNAME:GMT
DTSTART:20231029T010000
END:STANDARD
BEGIN:DAYLIGHT
TZOFFSETFROM:+0000
TZOFFSETTO:+0100
TZNAME:BST
DTSTART:20240331T010000
END:DAYLIGHT
BEGIN:STANDARD
TZOFFSETFROM:+0100
TZOFFSETTO:+0000
TZNAME:GMT
DTSTART:20241027T010000
END:STANDARD
END:VTIMEZONE
BEGIN:VEVENT
DTSTART;TZID=Europe/London:20231003T110000
DTEND;TZID=Europe/London:20231003T130000
DTSTAMP:20260421T134712
CREATED:20230914T122125Z
LAST-MODIFIED:20230914T122225Z
UID:20038-1696330800-1696338000@hcvs.org.uk
SUMMARY:VCS Children and Families Forum
DESCRIPTION:VCS Children and Families Forum\nJoin us for the next Children and Families Forum\, which takes place in-person at the Hackney CVS office.\n3 October. Register here
URL:https://hcvs.org.uk/event/vcs-children-and-families-forum-3/
CATEGORIES:network
ATTACH;FMTTYPE=image/jpeg:https://hcvs.org.uk/wp-content/uploads/2023/06/20230615-20230615_1157170.jpg
END:VEVENT
END:VCALENDAR