BEGIN:VCALENDAR
VERSION:2.0
PRODID:-//Hackney CVS - ECPv6.15.20//NONSGML v1.0//EN
CALSCALE:GREGORIAN
METHOD:PUBLISH
X-WR-CALNAME:Hackney CVS
X-ORIGINAL-URL:https://hcvs.org.uk
X-WR-CALDESC:Events for Hackney CVS
REFRESH-INTERVAL;VALUE=DURATION:PT1H
X-Robots-Tag:noindex
X-PUBLISHED-TTL:PT1H
BEGIN:VTIMEZONE
TZID:Europe/London
BEGIN:DAYLIGHT
TZOFFSETFROM:+0000
TZOFFSETTO:+0100
TZNAME:BST
DTSTART:20220327T010000
END:DAYLIGHT
BEGIN:STANDARD
TZOFFSETFROM:+0100
TZOFFSETTO:+0000
TZNAME:GMT
DTSTART:20221030T010000
END:STANDARD
BEGIN:DAYLIGHT
TZOFFSETFROM:+0000
TZOFFSETTO:+0100
TZNAME:BST
DTSTART:20230326T010000
END:DAYLIGHT
BEGIN:STANDARD
TZOFFSETFROM:+0100
TZOFFSETTO:+0000
TZNAME:GMT
DTSTART:20231029T010000
END:STANDARD
BEGIN:DAYLIGHT
TZOFFSETFROM:+0000
TZOFFSETTO:+0100
TZNAME:BST
DTSTART:20240331T010000
END:DAYLIGHT
BEGIN:STANDARD
TZOFFSETFROM:+0100
TZOFFSETTO:+0000
TZNAME:GMT
DTSTART:20241027T010000
END:STANDARD
END:VTIMEZONE
BEGIN:VEVENT
DTSTART;TZID=Europe/London:20231002T093000
DTEND;TZID=Europe/London:20231002T133000
DTSTAMP:20260421T234046
CREATED:20230921T122236Z
LAST-MODIFIED:20230921T122810Z
UID:20095-1696239000-1696253400@hcvs.org.uk
SUMMARY:Bid Writing and Financial Planning
DESCRIPTION:Bid Writing and Financial Planning \nThis half-day training aims to increase the skills and knowledge needed to write a funding proposal and set a budget. \nDuring the session you will learn how to build an overall plan for a bid proposal\, including: \n– How to analyse your organisation and demonstrate need. \n– How to financially plan and set a budget including Full cost recovery \n– How to apply Financial Monitoring and Management \n2 October. Register now
URL:https://hcvs.org.uk/event/bid-writing-and-financial-planning-2/
CATEGORIES:training
ATTACH;FMTTYPE=image/jpeg:https://hcvs.org.uk/wp-content/uploads/2023/09/cfc4f895-73c5-0b50-392c-57a568210f7e.jpeg
END:VEVENT
END:VCALENDAR