BEGIN:VCALENDAR
VERSION:2.0
PRODID:-//Hackney CVS - ECPv6.15.20//NONSGML v1.0//EN
CALSCALE:GREGORIAN
METHOD:PUBLISH
X-WR-CALNAME:Hackney CVS
X-ORIGINAL-URL:https://hcvs.org.uk
X-WR-CALDESC:Events for Hackney CVS
REFRESH-INTERVAL;VALUE=DURATION:PT1H
X-Robots-Tag:noindex
X-PUBLISHED-TTL:PT1H
BEGIN:VTIMEZONE
TZID:Europe/London
BEGIN:DAYLIGHT
TZOFFSETFROM:+0000
TZOFFSETTO:+0100
TZNAME:BST
DTSTART:20220327T010000
END:DAYLIGHT
BEGIN:STANDARD
TZOFFSETFROM:+0100
TZOFFSETTO:+0000
TZNAME:GMT
DTSTART:20221030T010000
END:STANDARD
BEGIN:DAYLIGHT
TZOFFSETFROM:+0000
TZOFFSETTO:+0100
TZNAME:BST
DTSTART:20230326T010000
END:DAYLIGHT
BEGIN:STANDARD
TZOFFSETFROM:+0100
TZOFFSETTO:+0000
TZNAME:GMT
DTSTART:20231029T010000
END:STANDARD
BEGIN:DAYLIGHT
TZOFFSETFROM:+0000
TZOFFSETTO:+0100
TZNAME:BST
DTSTART:20240331T010000
END:DAYLIGHT
BEGIN:STANDARD
TZOFFSETFROM:+0100
TZOFFSETTO:+0000
TZNAME:GMT
DTSTART:20241027T010000
END:STANDARD
END:VTIMEZONE
BEGIN:VEVENT
DTSTART;VALUE=DATE:20230517
DTEND;VALUE=DATE:20230518
DTSTAMP:20260422T012835
CREATED:20230330T151459Z
LAST-MODIFIED:20230426T071437Z
UID:19127-1684281600-1684367999@hcvs.org.uk
SUMMARY:Learning Disabilities and Autism Special Interest Group meeting
DESCRIPTION:Our Learning Disabilities and Autism Special Interest Group meeting provides a forum in Hackney and City for anyone with an interest in the provision of services for people with learning disabilities and autism. \nThis meeting will be held in-person at St Mary’s Secret Garden. \nBook here: https://crm.hcvs.org.uk/civicrm/event/info?reset=1&id=1203
URL:https://hcvs.org.uk/event/learning-disabilities-and-autism-special-interest-group-meeting/
CATEGORIES:network
END:VEVENT
BEGIN:VEVENT
DTSTART;VALUE=DATE:20230517
DTEND;VALUE=DATE:20230518
DTSTAMP:20260422T012835
CREATED:20230510T151359Z
LAST-MODIFIED:20230510T151359Z
UID:19393-1684281600-1684367999@hcvs.org.uk
SUMMARY:Woodberry Wetlands Neighbourhood Forum
DESCRIPTION:Our quarterly forum brings together residents\, health practitioners\, voluntary and community sector organisations and councillors to discuss health priorities and needs of the local area. \n17 May. Book here
URL:https://hcvs.org.uk/event/woodberry-wetlands-neighbourhood-forum-2/
CATEGORIES:Neighbourhoods
END:VEVENT
END:VCALENDAR