BEGIN:VCALENDAR
VERSION:2.0
PRODID:-//Hackney CVS - ECPv6.15.20//NONSGML v1.0//EN
CALSCALE:GREGORIAN
METHOD:PUBLISH
X-WR-CALNAME:Hackney CVS
X-ORIGINAL-URL:https://hcvs.org.uk
X-WR-CALDESC:Events for Hackney CVS
REFRESH-INTERVAL;VALUE=DURATION:PT1H
X-Robots-Tag:noindex
X-PUBLISHED-TTL:PT1H
BEGIN:VTIMEZONE
TZID:Europe/London
BEGIN:DAYLIGHT
TZOFFSETFROM:+0000
TZOFFSETTO:+0100
TZNAME:BST
DTSTART:20220327T010000
END:DAYLIGHT
BEGIN:STANDARD
TZOFFSETFROM:+0100
TZOFFSETTO:+0000
TZNAME:GMT
DTSTART:20221030T010000
END:STANDARD
BEGIN:DAYLIGHT
TZOFFSETFROM:+0000
TZOFFSETTO:+0100
TZNAME:BST
DTSTART:20230326T010000
END:DAYLIGHT
BEGIN:STANDARD
TZOFFSETFROM:+0100
TZOFFSETTO:+0000
TZNAME:GMT
DTSTART:20231029T010000
END:STANDARD
BEGIN:DAYLIGHT
TZOFFSETFROM:+0000
TZOFFSETTO:+0100
TZNAME:BST
DTSTART:20240331T010000
END:DAYLIGHT
BEGIN:STANDARD
TZOFFSETFROM:+0100
TZOFFSETTO:+0000
TZNAME:GMT
DTSTART:20241027T010000
END:STANDARD
END:VTIMEZONE
BEGIN:VEVENT
DTSTART;VALUE=DATE:20230302
DTEND;VALUE=DATE:20230303
DTSTAMP:20260420T112529
CREATED:20230202T145248Z
LAST-MODIFIED:20230301T150721Z
UID:18798-1677715200-1677801599@hcvs.org.uk
SUMMARY:Marketing and social media for the not-for-profit sector
DESCRIPTION:Register Now\n\n\n\n\n\n\n\n\nDuring the session\, participants will: \n\nLearn the fundamentals of branding\, marketing\, sales\, and fundraising\nTake a practical approach to marketing and communications and learn about:\n-delivering key messages\n-targeting key audiences\n-identifying key channels\n-checking assumptions – research and testing\, including social listening and search listening\n-social and network marketing\, including storytelling and its relationship to other forms of engagement such as crowdfunding\n\nTrainer\nRobert Foster delivers training on behalf of the award-winning social enterprise Red Ochre. Established in 2002 to help the not for profit to be more successful and sustainable\, Red Ochre has supported thousands of organisations in over 25 countries through workshops\, facilitation\, tool development\, mentoring and consultancy. \n\n\n\nWhen\nMarch 2nd\, 2023 10:00 AM through  1:00 PM
URL:https://hcvs.org.uk/event/marketing-and-social-media-for-the-not-for-profit-sector/
CATEGORIES:training
END:VEVENT
END:VCALENDAR