BEGIN:VCALENDAR
VERSION:2.0
PRODID:-//Hackney CVS - ECPv6.15.20//NONSGML v1.0//EN
CALSCALE:GREGORIAN
METHOD:PUBLISH
X-ORIGINAL-URL:https://hcvs.org.uk
X-WR-CALDESC:Events for Hackney CVS
REFRESH-INTERVAL;VALUE=DURATION:PT1H
X-Robots-Tag:noindex
X-PUBLISHED-TTL:PT1H
BEGIN:VTIMEZONE
TZID:Europe/London
BEGIN:DAYLIGHT
TZOFFSETFROM:+0000
TZOFFSETTO:+0100
TZNAME:BST
DTSTART:20220327T010000
END:DAYLIGHT
BEGIN:STANDARD
TZOFFSETFROM:+0100
TZOFFSETTO:+0000
TZNAME:GMT
DTSTART:20221030T010000
END:STANDARD
BEGIN:DAYLIGHT
TZOFFSETFROM:+0000
TZOFFSETTO:+0100
TZNAME:BST
DTSTART:20230326T010000
END:DAYLIGHT
BEGIN:STANDARD
TZOFFSETFROM:+0100
TZOFFSETTO:+0000
TZNAME:GMT
DTSTART:20231029T010000
END:STANDARD
BEGIN:DAYLIGHT
TZOFFSETFROM:+0000
TZOFFSETTO:+0100
TZNAME:BST
DTSTART:20240331T010000
END:DAYLIGHT
BEGIN:STANDARD
TZOFFSETFROM:+0100
TZOFFSETTO:+0000
TZNAME:GMT
DTSTART:20241027T010000
END:STANDARD
END:VTIMEZONE
BEGIN:VEVENT
DTSTART;TZID=Europe/London:20230127T093000
DTEND;TZID=Europe/London:20230127T113000
DTSTAMP:20260422T014748
CREATED:20221128T122357Z
LAST-MODIFIED:20230222T165658Z
UID:18484-1674811800-1674819000@hcvs.org.uk
SUMMARY:Hackney CVS Coffee and Networking Morning
DESCRIPTION:Hackney CVS Coffee Morning Invite  \nAre you an organisation delivering services that support health\, care or well-being in City and Hackney? \nJoin us for a coffee and networking morning. \n9:30-11:30 am on the Last Friday of every month! \n– An opportunity to network\, build partnerships\, find out about new and ongoing projects and share insights \n– There will be a key-note speaker from the VCS Neighbourhoods team to share the work they are doing and opportunities for VCS organisations \n– We will support organisations to network by facilitating a ‘speed dating’ style activity from 10-11am \nPlease register online. \nFor more information or if you would like to host a coffee morning in your community space\, please contact assembly@hcvs.org.uk \n 
URL:https://hcvs.org.uk/event/hackney-cvs-coffee-and-networking-morning/
END:VEVENT
END:VCALENDAR