BEGIN:VCALENDAR
VERSION:2.0
PRODID:-//Hackney CVS - ECPv6.15.20//NONSGML v1.0//EN
CALSCALE:GREGORIAN
METHOD:PUBLISH
X-WR-CALNAME:Hackney CVS
X-ORIGINAL-URL:https://hcvs.org.uk
X-WR-CALDESC:Events for Hackney CVS
REFRESH-INTERVAL;VALUE=DURATION:PT1H
X-Robots-Tag:noindex
X-PUBLISHED-TTL:PT1H
BEGIN:VTIMEZONE
TZID:Europe/London
BEGIN:DAYLIGHT
TZOFFSETFROM:+0000
TZOFFSETTO:+0100
TZNAME:BST
DTSTART:20210328T010000
END:DAYLIGHT
BEGIN:STANDARD
TZOFFSETFROM:+0100
TZOFFSETTO:+0000
TZNAME:GMT
DTSTART:20211031T010000
END:STANDARD
BEGIN:DAYLIGHT
TZOFFSETFROM:+0000
TZOFFSETTO:+0100
TZNAME:BST
DTSTART:20220327T010000
END:DAYLIGHT
BEGIN:STANDARD
TZOFFSETFROM:+0100
TZOFFSETTO:+0000
TZNAME:GMT
DTSTART:20221030T010000
END:STANDARD
BEGIN:DAYLIGHT
TZOFFSETFROM:+0000
TZOFFSETTO:+0100
TZNAME:BST
DTSTART:20230326T010000
END:DAYLIGHT
BEGIN:STANDARD
TZOFFSETFROM:+0100
TZOFFSETTO:+0000
TZNAME:GMT
DTSTART:20231029T010000
END:STANDARD
END:VTIMEZONE
BEGIN:VEVENT
DTSTART;TZID=Europe/London:20221209T100000
DTEND;TZID=Europe/London:20221209T110000
DTSTAMP:20260420T171507
CREATED:20221207T120740Z
LAST-MODIFIED:20221207T151341Z
UID:18534-1670580000-1670583600@hcvs.org.uk
SUMMARY:How to apply workshops
DESCRIPTION:How to apply workshops\nThere will be three “how to apply” workshops. These workshops offer you the chance to hear a bit more about the funding as well as how to complete the application form. \n\n9 December\, 10am – book a place\n13 December\, 2pm – book a place\n20 December\, 2pm – book a place\n\nIf you have any questions about this funding round\, please contact Sarah Watson on 07494 800 727 or email Sarah.
URL:https://hcvs.org.uk/event/how-to-apply-workshops/
ATTACH;FMTTYPE=image/jpeg:https://hcvs.org.uk/wp-content/uploads/2022/11/20221124-20221123_133706-ANIMATION.jpg
END:VEVENT
END:VCALENDAR