BEGIN:VCALENDAR
VERSION:2.0
PRODID:-//Hackney CVS - ECPv6.15.20//NONSGML v1.0//EN
CALSCALE:GREGORIAN
METHOD:PUBLISH
X-ORIGINAL-URL:https://hcvs.org.uk
X-WR-CALDESC:Events for Hackney CVS
REFRESH-INTERVAL;VALUE=DURATION:PT1H
X-Robots-Tag:noindex
X-PUBLISHED-TTL:PT1H
BEGIN:VTIMEZONE
TZID:Europe/London
BEGIN:DAYLIGHT
TZOFFSETFROM:+0000
TZOFFSETTO:+0100
TZNAME:BST
DTSTART:20210328T010000
END:DAYLIGHT
BEGIN:STANDARD
TZOFFSETFROM:+0100
TZOFFSETTO:+0000
TZNAME:GMT
DTSTART:20211031T010000
END:STANDARD
BEGIN:DAYLIGHT
TZOFFSETFROM:+0000
TZOFFSETTO:+0100
TZNAME:BST
DTSTART:20220327T010000
END:DAYLIGHT
BEGIN:STANDARD
TZOFFSETFROM:+0100
TZOFFSETTO:+0000
TZNAME:GMT
DTSTART:20221030T010000
END:STANDARD
BEGIN:DAYLIGHT
TZOFFSETFROM:+0000
TZOFFSETTO:+0100
TZNAME:BST
DTSTART:20230326T010000
END:DAYLIGHT
BEGIN:STANDARD
TZOFFSETFROM:+0100
TZOFFSETTO:+0000
TZNAME:GMT
DTSTART:20231029T010000
END:STANDARD
END:VTIMEZONE
BEGIN:VEVENT
DTSTART;VALUE=DATE:20221208
DTEND;VALUE=DATE:20221209
DTSTAMP:20260420T190627
CREATED:20221116T102042Z
LAST-MODIFIED:20221116T102042Z
UID:18368-1670457600-1670543999@hcvs.org.uk
SUMMARY:Meet the Funder - City Bridge and the National Lottery Community Fund
DESCRIPTION:Join our Meet the Funder event with City Bridge Trust and the National Lottery Community Fund.\n8 December. Read more
URL:https://hcvs.org.uk/event/meet-the-funder-city-bridge-and-the-national-lottery-community-fund/
CATEGORIES:training
ATTACH;FMTTYPE=image/jpeg:https://hcvs.org.uk/wp-content/uploads/2022/11/25eba554-824b-ac62-7d5f-0c8ebbdb53c6-1-1-e1668594107805.jpg
END:VEVENT
BEGIN:VEVENT
DTSTART;TZID=Europe/London:20221208T080000
DTEND;TZID=Europe/London:20221208T170000
DTSTAMP:20260420T190627
CREATED:20221116T132036Z
LAST-MODIFIED:20221116T132036Z
UID:18414-1670486400-1670518800@hcvs.org.uk
SUMMARY:How to effectively measure impact - Advanced course 
DESCRIPTION:How to effectively measure impact – Advanced course \nJoin us on this advanced course about measuring impact.\n8 December. Read more
URL:https://hcvs.org.uk/event/how-to-effectively-measure-impact-advanced-course/
CATEGORIES:training
END:VEVENT
END:VCALENDAR