BEGIN:VCALENDAR
VERSION:2.0
PRODID:-//Hackney CVS - ECPv6.15.20//NONSGML v1.0//EN
CALSCALE:GREGORIAN
METHOD:PUBLISH
X-WR-CALNAME:Hackney CVS
X-ORIGINAL-URL:https://hcvs.org.uk
X-WR-CALDESC:Events for Hackney CVS
REFRESH-INTERVAL;VALUE=DURATION:PT1H
X-Robots-Tag:noindex
X-PUBLISHED-TTL:PT1H
BEGIN:VTIMEZONE
TZID:Europe/London
BEGIN:DAYLIGHT
TZOFFSETFROM:+0000
TZOFFSETTO:+0100
TZNAME:BST
DTSTART:20210328T010000
END:DAYLIGHT
BEGIN:STANDARD
TZOFFSETFROM:+0100
TZOFFSETTO:+0000
TZNAME:GMT
DTSTART:20211031T010000
END:STANDARD
BEGIN:DAYLIGHT
TZOFFSETFROM:+0000
TZOFFSETTO:+0100
TZNAME:BST
DTSTART:20220327T010000
END:DAYLIGHT
BEGIN:STANDARD
TZOFFSETFROM:+0100
TZOFFSETTO:+0000
TZNAME:GMT
DTSTART:20221030T010000
END:STANDARD
BEGIN:DAYLIGHT
TZOFFSETFROM:+0000
TZOFFSETTO:+0100
TZNAME:BST
DTSTART:20230326T010000
END:DAYLIGHT
BEGIN:STANDARD
TZOFFSETFROM:+0100
TZOFFSETTO:+0000
TZNAME:GMT
DTSTART:20231029T010000
END:STANDARD
END:VTIMEZONE
BEGIN:VEVENT
DTSTART;TZID=Europe/London:20221121T110000
DTEND;TZID=Europe/London:20221121T123000
DTSTAMP:20260422T070118
CREATED:20221026T155057Z
LAST-MODIFIED:20221026T155538Z
UID:18219-1669028400-1669033800@hcvs.org.uk
SUMMARY:Hackney CVS strategy development - VCS Frontline workers
DESCRIPTION:Hackney CVS strategy development – final consultation phase\nWe need your views on our strategic direction – join us online for a roundtable discussion. We are in process of developing our new strategy for 2023-28. Our strategy will set out our vision and core priorities for delivering our work as the local VCS infrastructure body – for the benefit of the VCS\, statutory partners\, and the wider community. In our initial stakeholder consultation phase we undertook a survey seeking views on three draft strategic goals. Now\, for our final stakeholder consultation\, we are hosting a series of targeted roundtable discussions to share what you told us and to get your final views in order to fine tune our strategy so that it truly reflects the needs of our stakeholders.\nThe targeted roundtable discussions are scheduled on Zoom for:\n1. VCS frontline workers\, 21 November\, 11am-12.30pm\, book here\n2. VCS CEOs/directors\, 21 November\, 2pm-3.30pm\, book here\n3. VCS Leadership Group members\, 22 November\, 11am-12.30pm\, book here\n4. VCS frontline workers \, 22 November\, 2pm-3.30pm\, book here\n5. Statutory sector partners\, 24 November\, 11am-12.30pm\, book here
URL:https://hcvs.org.uk/event/hackney-cvs-strategy-development/
END:VEVENT
BEGIN:VEVENT
DTSTART;TZID=Europe/London:20221121T140000
DTEND;TZID=Europe/London:20221121T153000
DTSTAMP:20260422T070118
CREATED:20221026T155153Z
LAST-MODIFIED:20221026T155628Z
UID:18221-1669039200-1669044600@hcvs.org.uk
SUMMARY:Hackney CVS strategy development - VCS CEOs and directors
DESCRIPTION:Hackney CVS strategy development – final consultation phase\nWe need your views on our strategic direction – join us online for a roundtable discussion. We are in process of developing our new strategy for 2023-28. Our strategy will set out our vision and core priorities for delivering our work as the local VCS infrastructure body – for the benefit of the VCS\, statutory partners\, and the wider community. In our initial stakeholder consultation phase we undertook a survey seeking views on three draft strategic goals. Now\, for our final stakeholder consultation\, we are hosting a series of targeted roundtable discussions to share what you told us and to get your final views in order to fine tune our strategy so that it truly reflects the needs of our stakeholders.\nThe targeted roundtable discussions are scheduled on Zoom for:\n1. VCS frontline workers\, 21 November\, 11am-12.30pm\, book here\n2. VCS CEOs/directors\, 21 November\, 2pm-3.30pm\, book here\n3. VCS Leadership Group members\, 22 November\, 11am-12.30pm\, book here\n4. VCS frontline workers \, 22 November\, 2pm-3.30pm\, book here\n5. Statutory sector partners\, 24 November\, 11am-12.30pm\, book here
URL:https://hcvs.org.uk/event/hackney-cvs-strategy-development-2/
END:VEVENT
END:VCALENDAR