BEGIN:VCALENDAR
VERSION:2.0
PRODID:-//Hackney CVS - ECPv6.15.20//NONSGML v1.0//EN
CALSCALE:GREGORIAN
METHOD:PUBLISH
X-ORIGINAL-URL:https://hcvs.org.uk
X-WR-CALDESC:Events for Hackney CVS
REFRESH-INTERVAL;VALUE=DURATION:PT1H
X-Robots-Tag:noindex
X-PUBLISHED-TTL:PT1H
BEGIN:VTIMEZONE
TZID:Europe/London
BEGIN:DAYLIGHT
TZOFFSETFROM:+0000
TZOFFSETTO:+0100
TZNAME:BST
DTSTART:20210328T010000
END:DAYLIGHT
BEGIN:STANDARD
TZOFFSETFROM:+0100
TZOFFSETTO:+0000
TZNAME:GMT
DTSTART:20211031T010000
END:STANDARD
BEGIN:DAYLIGHT
TZOFFSETFROM:+0000
TZOFFSETTO:+0100
TZNAME:BST
DTSTART:20220327T010000
END:DAYLIGHT
BEGIN:STANDARD
TZOFFSETFROM:+0100
TZOFFSETTO:+0000
TZNAME:GMT
DTSTART:20221030T010000
END:STANDARD
BEGIN:DAYLIGHT
TZOFFSETFROM:+0000
TZOFFSETTO:+0100
TZNAME:BST
DTSTART:20230326T010000
END:DAYLIGHT
BEGIN:STANDARD
TZOFFSETFROM:+0100
TZOFFSETTO:+0000
TZNAME:GMT
DTSTART:20231029T010000
END:STANDARD
END:VTIMEZONE
BEGIN:VEVENT
DTSTART;TZID=Europe/London:20220926T140000
DTEND;TZID=Europe/London:20220926T153000
DTSTAMP:20260419T224149
CREATED:20220920T110340Z
LAST-MODIFIED:20220920T110435Z
UID:18002-1664200800-1664206200@hcvs.org.uk
SUMMARY:Securing funding
DESCRIPTION:  \nSecuring funding: The dos and don’ts of writing a fundraising application  \nThis online training session will provide you with the basics in writing fundraising applications. It is perfect for those who are new to fundraising or who need more confidence in writing fundraising applications.\n26 September\, 2-3.30pm. \n  \nRead more and book a place \n 
URL:https://hcvs.org.uk/event/18002/
CATEGORIES:training
ATTACH;FMTTYPE=image/jpeg:https://hcvs.org.uk/wp-content/uploads/2022/09/z-office-zz.jpg
END:VEVENT
END:VCALENDAR