BEGIN:VCALENDAR
VERSION:2.0
PRODID:-//Hackney CVS - ECPv6.15.20//NONSGML v1.0//EN
CALSCALE:GREGORIAN
METHOD:PUBLISH
X-WR-CALNAME:Hackney CVS
X-ORIGINAL-URL:https://hcvs.org.uk
X-WR-CALDESC:Events for Hackney CVS
REFRESH-INTERVAL;VALUE=DURATION:PT1H
X-Robots-Tag:noindex
X-PUBLISHED-TTL:PT1H
BEGIN:VTIMEZONE
TZID:Europe/London
BEGIN:DAYLIGHT
TZOFFSETFROM:+0000
TZOFFSETTO:+0100
TZNAME:BST
DTSTART:20210328T010000
END:DAYLIGHT
BEGIN:STANDARD
TZOFFSETFROM:+0100
TZOFFSETTO:+0000
TZNAME:GMT
DTSTART:20211031T010000
END:STANDARD
BEGIN:DAYLIGHT
TZOFFSETFROM:+0000
TZOFFSETTO:+0100
TZNAME:BST
DTSTART:20220327T010000
END:DAYLIGHT
BEGIN:STANDARD
TZOFFSETFROM:+0100
TZOFFSETTO:+0000
TZNAME:GMT
DTSTART:20221030T010000
END:STANDARD
BEGIN:DAYLIGHT
TZOFFSETFROM:+0000
TZOFFSETTO:+0100
TZNAME:BST
DTSTART:20230326T010000
END:DAYLIGHT
BEGIN:STANDARD
TZOFFSETFROM:+0100
TZOFFSETTO:+0000
TZNAME:GMT
DTSTART:20231029T010000
END:STANDARD
END:VTIMEZONE
BEGIN:VEVENT
DTSTART;TZID=Europe/London:20220921T140000
DTEND;TZID=Europe/London:20220921T140000
DTSTAMP:20260422T070131
CREATED:20220914T103154Z
LAST-MODIFIED:20220914T103253Z
UID:17948-1663768800-1663768800@hcvs.org.uk
SUMMARY:Supported Employment Network
DESCRIPTION:Supported Employment Network\nThe next Supported Employment Network Meeting will include keynote speakers to share insights into the current picture of City and Hackney supported employment.\n21 September. Read more
URL:https://hcvs.org.uk/event/supported-employment-network/
ATTACH;FMTTYPE=image/jpeg:https://hcvs.org.uk/wp-content/uploads/2022/08/20220713_105108-1bv.jpg
END:VEVENT
BEGIN:VEVENT
DTSTART;TZID=Europe/London:20220921T170000
DTEND;TZID=Europe/London:20220921T180000
DTSTAMP:20260422T070131
CREATED:20220914T151610Z
LAST-MODIFIED:20220914T151610Z
UID:17968-1663779600-1663783200@hcvs.org.uk
SUMMARY:Zumba sessions at Hackney CVS
DESCRIPTION:Zumba sessions at Hackney CVS’s conference room \nJoin us for Zumba with Carol at the Conference Room at Hackney CVS. This subsidised class takes place every Wednesday at 5pm until 19 October. The cost is just £5 a session. Contact Vicky for details. Email Vicky
URL:https://hcvs.org.uk/event/zumba-sessions-at-hackney-cvs/
END:VEVENT
END:VCALENDAR