BEGIN:VCALENDAR
VERSION:2.0
PRODID:-//Hackney CVS - ECPv6.15.20//NONSGML v1.0//EN
CALSCALE:GREGORIAN
METHOD:PUBLISH
X-ORIGINAL-URL:https://hcvs.org.uk
X-WR-CALDESC:Events for Hackney CVS
REFRESH-INTERVAL;VALUE=DURATION:PT1H
X-Robots-Tag:noindex
X-PUBLISHED-TTL:PT1H
BEGIN:VTIMEZONE
TZID:Europe/London
BEGIN:DAYLIGHT
TZOFFSETFROM:+0000
TZOFFSETTO:+0100
TZNAME:BST
DTSTART:20200329T010000
END:DAYLIGHT
BEGIN:STANDARD
TZOFFSETFROM:+0100
TZOFFSETTO:+0000
TZNAME:GMT
DTSTART:20201025T010000
END:STANDARD
BEGIN:DAYLIGHT
TZOFFSETFROM:+0000
TZOFFSETTO:+0100
TZNAME:BST
DTSTART:20210328T010000
END:DAYLIGHT
BEGIN:STANDARD
TZOFFSETFROM:+0100
TZOFFSETTO:+0000
TZNAME:GMT
DTSTART:20211031T010000
END:STANDARD
BEGIN:DAYLIGHT
TZOFFSETFROM:+0000
TZOFFSETTO:+0100
TZNAME:BST
DTSTART:20220327T010000
END:DAYLIGHT
BEGIN:STANDARD
TZOFFSETFROM:+0100
TZOFFSETTO:+0000
TZNAME:GMT
DTSTART:20221030T010000
END:STANDARD
END:VTIMEZONE
BEGIN:VEVENT
DTSTART;TZID=Europe/London:20211129T110000
DTEND;TZID=Europe/London:20211129T123000
DTSTAMP:20260421T234630
CREATED:20211027T130029Z
LAST-MODIFIED:20211027T130117Z
UID:15629-1638183600-1638189000@hcvs.org.uk
SUMMARY:Mental Health Special Interest Group (SIG) Meeting
DESCRIPTION:Mental Health Special Interest Group (SIG) meeting \nMonday 29th November\, 11am-12.30pm \nRegister Now \nAgenda- being revised. If you wish to present please email shamima@hcvs.org.uk \nJoin Zoom Meeting\nhttps://us02web.zoom.us/j/81872992754 \nMeeting ID: 818 7299 2754\nPasscode: 5976 \nWhen \nNovember 29th\, 2021 11:00 AM through 12:30 PM \n 
URL:https://hcvs.org.uk/event/mental-health-special-interest-group-sig-meeting-2/
ATTACH;FMTTYPE=image/png:https://hcvs.org.uk/wp-content/uploads/2021/08/Untitled-design-42-e1628250044190.png
END:VEVENT
END:VCALENDAR