BEGIN:VCALENDAR
VERSION:2.0
PRODID:-//Hackney CVS - ECPv6.15.20//NONSGML v1.0//EN
CALSCALE:GREGORIAN
METHOD:PUBLISH
X-ORIGINAL-URL:https://hcvs.org.uk
X-WR-CALDESC:Events for Hackney CVS
REFRESH-INTERVAL;VALUE=DURATION:PT1H
X-Robots-Tag:noindex
X-PUBLISHED-TTL:PT1H
BEGIN:VTIMEZONE
TZID:Europe/London
BEGIN:DAYLIGHT
TZOFFSETFROM:+0000
TZOFFSETTO:+0100
TZNAME:BST
DTSTART:20200329T010000
END:DAYLIGHT
BEGIN:STANDARD
TZOFFSETFROM:+0100
TZOFFSETTO:+0000
TZNAME:GMT
DTSTART:20201025T010000
END:STANDARD
BEGIN:DAYLIGHT
TZOFFSETFROM:+0000
TZOFFSETTO:+0100
TZNAME:BST
DTSTART:20210328T010000
END:DAYLIGHT
BEGIN:STANDARD
TZOFFSETFROM:+0100
TZOFFSETTO:+0000
TZNAME:GMT
DTSTART:20211031T010000
END:STANDARD
BEGIN:DAYLIGHT
TZOFFSETFROM:+0000
TZOFFSETTO:+0100
TZNAME:BST
DTSTART:20220327T010000
END:DAYLIGHT
BEGIN:STANDARD
TZOFFSETFROM:+0100
TZOFFSETTO:+0000
TZNAME:GMT
DTSTART:20221030T010000
END:STANDARD
END:VTIMEZONE
BEGIN:VEVENT
DTSTART;TZID=Europe/London:20211123T133000
DTEND;TZID=Europe/London:20211123T150000
DTSTAMP:20260421T214141
CREATED:20211103T071630Z
LAST-MODIFIED:20211103T110753Z
UID:15656-1637674200-1637679600@hcvs.org.uk
SUMMARY:Hackney Downs: Neighbourhood Conversation
DESCRIPTION:Join your local Neighbourhood Conversation to make connections and find out what’s going on locally\, to share your insights\, expertise and to learn from others. Neighbourhood Conversations are coming up in the following City and Hackney Neighbourhoods: \n\nHackney Downs: 23 November\, 1.30 – 3pm\n\nEmail Zebina for details or sign up here to get regular updates on the Neighbourhoods you support.
URL:https://hcvs.org.uk/event/hackney-downs-neighbourhood-conversation/
CATEGORIES:Neighbourhoods
END:VEVENT
END:VCALENDAR