BEGIN:VCALENDAR
VERSION:2.0
PRODID:-//Hackney CVS - ECPv6.15.20//NONSGML v1.0//EN
CALSCALE:GREGORIAN
METHOD:PUBLISH
X-WR-CALNAME:Hackney CVS
X-ORIGINAL-URL:https://hcvs.org.uk
X-WR-CALDESC:Events for Hackney CVS
REFRESH-INTERVAL;VALUE=DURATION:PT1H
X-Robots-Tag:noindex
X-PUBLISHED-TTL:PT1H
BEGIN:VTIMEZONE
TZID:Europe/London
BEGIN:DAYLIGHT
TZOFFSETFROM:+0000
TZOFFSETTO:+0100
TZNAME:BST
DTSTART:20200329T010000
END:DAYLIGHT
BEGIN:STANDARD
TZOFFSETFROM:+0100
TZOFFSETTO:+0000
TZNAME:GMT
DTSTART:20201025T010000
END:STANDARD
BEGIN:DAYLIGHT
TZOFFSETFROM:+0000
TZOFFSETTO:+0100
TZNAME:BST
DTSTART:20210328T010000
END:DAYLIGHT
BEGIN:STANDARD
TZOFFSETFROM:+0100
TZOFFSETTO:+0000
TZNAME:GMT
DTSTART:20211031T010000
END:STANDARD
BEGIN:DAYLIGHT
TZOFFSETFROM:+0000
TZOFFSETTO:+0100
TZNAME:BST
DTSTART:20220327T010000
END:DAYLIGHT
BEGIN:STANDARD
TZOFFSETFROM:+0100
TZOFFSETTO:+0000
TZNAME:GMT
DTSTART:20221030T010000
END:STANDARD
END:VTIMEZONE
BEGIN:VEVENT
DTSTART;TZID=Europe/London:20210929T094500
DTEND;TZID=Europe/London:20210929T130000
DTSTAMP:20260421T213254
CREATED:20210806T122928Z
LAST-MODIFIED:20210806T125736Z
UID:15036-1632908700-1632920400@hcvs.org.uk
SUMMARY:Evaluating outcomes and impact
DESCRIPTION:Register Now\n\n\n\n\n\nAs access to funding pots become harder\, being able to demonstrate the need for your project has never been more important. This training session will introduce you to the principles of collecting and presenting crucial evidence to support the work of your organisation.\n\n\nSeptember 29th\, 2021 9:45 AM through  1:00 PM\n\n\n\n\nZoom online “Training”\n\n\n\n\n\n\n\n\n\nEvent Fee(s) apply.
URL:https://hcvs.org.uk/event/evaluating-outcomes-and-impact/
CATEGORIES:training
ATTACH;FMTTYPE=image/png:https://hcvs.org.uk/wp-content/uploads/2021/08/Copy-of-Copy-of-Copy-of-Copy-of-Untitled-1.png
END:VEVENT
END:VCALENDAR