BEGIN:VCALENDAR
VERSION:2.0
PRODID:-//Hackney CVS - ECPv6.15.20//NONSGML v1.0//EN
CALSCALE:GREGORIAN
METHOD:PUBLISH
X-WR-CALNAME:Hackney CVS
X-ORIGINAL-URL:https://hcvs.org.uk
X-WR-CALDESC:Events for Hackney CVS
REFRESH-INTERVAL;VALUE=DURATION:PT1H
X-Robots-Tag:noindex
X-PUBLISHED-TTL:PT1H
BEGIN:VTIMEZONE
TZID:Europe/London
BEGIN:DAYLIGHT
TZOFFSETFROM:+0000
TZOFFSETTO:+0100
TZNAME:BST
DTSTART:20200329T010000
END:DAYLIGHT
BEGIN:STANDARD
TZOFFSETFROM:+0100
TZOFFSETTO:+0000
TZNAME:GMT
DTSTART:20201025T010000
END:STANDARD
BEGIN:DAYLIGHT
TZOFFSETFROM:+0000
TZOFFSETTO:+0100
TZNAME:BST
DTSTART:20210328T010000
END:DAYLIGHT
BEGIN:STANDARD
TZOFFSETFROM:+0100
TZOFFSETTO:+0000
TZNAME:GMT
DTSTART:20211031T010000
END:STANDARD
BEGIN:DAYLIGHT
TZOFFSETFROM:+0000
TZOFFSETTO:+0100
TZNAME:BST
DTSTART:20220327T010000
END:DAYLIGHT
BEGIN:STANDARD
TZOFFSETFROM:+0100
TZOFFSETTO:+0000
TZNAME:GMT
DTSTART:20221030T010000
END:STANDARD
END:VTIMEZONE
BEGIN:VEVENT
DTSTART;TZID=Europe/London:20210928T103000
DTEND;TZID=Europe/London:20210928T120000
DTSTAMP:20260421T234049
CREATED:20210903T134402Z
LAST-MODIFIED:20210903T134424Z
UID:15223-1632825000-1632830400@hcvs.org.uk
SUMMARY:Children and Families Forum meeting 
DESCRIPTION:Children and Families Forum meeting \nHackney CVS will be hosting the next Children and Families Forum Meeting on 28 September at 10:30am on Zoom. A draft agenda will be shared soon.\n28 September. Register here
URL:https://hcvs.org.uk/event/children-and-families-forum-meeting/
ATTACH;FMTTYPE=image/png:https://hcvs.org.uk/wp-content/uploads/2021/08/Copy-of-Untitled-1-e1628249937842.png
END:VEVENT
END:VCALENDAR