BEGIN:VCALENDAR
VERSION:2.0
PRODID:-//Hackney CVS - ECPv6.15.20//NONSGML v1.0//EN
CALSCALE:GREGORIAN
METHOD:PUBLISH
X-ORIGINAL-URL:https://hcvs.org.uk
X-WR-CALDESC:Events for Hackney CVS
REFRESH-INTERVAL;VALUE=DURATION:PT1H
X-Robots-Tag:noindex
X-PUBLISHED-TTL:PT1H
BEGIN:VTIMEZONE
TZID:Europe/London
BEGIN:DAYLIGHT
TZOFFSETFROM:+0000
TZOFFSETTO:+0100
TZNAME:BST
DTSTART:20200329T010000
END:DAYLIGHT
BEGIN:STANDARD
TZOFFSETFROM:+0100
TZOFFSETTO:+0000
TZNAME:GMT
DTSTART:20201025T010000
END:STANDARD
BEGIN:DAYLIGHT
TZOFFSETFROM:+0000
TZOFFSETTO:+0100
TZNAME:BST
DTSTART:20210328T010000
END:DAYLIGHT
BEGIN:STANDARD
TZOFFSETFROM:+0100
TZOFFSETTO:+0000
TZNAME:GMT
DTSTART:20211031T010000
END:STANDARD
BEGIN:DAYLIGHT
TZOFFSETFROM:+0000
TZOFFSETTO:+0100
TZNAME:BST
DTSTART:20220327T010000
END:DAYLIGHT
BEGIN:STANDARD
TZOFFSETFROM:+0100
TZOFFSETTO:+0000
TZNAME:GMT
DTSTART:20221030T010000
END:STANDARD
END:VTIMEZONE
BEGIN:VEVENT
DTSTART;TZID=Europe/London:20210914T100000
DTEND;TZID=Europe/London:20210914T130000
DTSTAMP:20260422T013934
CREATED:20210806T112852Z
LAST-MODIFIED:20210806T112852Z
UID:15028-1631613600-1631624400@hcvs.org.uk
SUMMARY:Safeguarding adults
DESCRIPTION:Register Now \n\n\n\nSafeguarding is the responsibility of us all. This training will allow delegates to explore why some adults become at risk of abuse and what human rights they have. The aim of the session is to increase the VCS’ workforce ability to conduct risk assessment for service users needs and to help them consider what role you can play in preventing people being abused at work and as members of their local communities.\n\nLearning Outcomes:\nBy the end of the session the participants will:\n1) Understand how to use the safeguarding audit tool and\n2) Be better able to describe the safeguarding issues that affect their service users\n3) Be able to use the principles of the Care Act 2014\n4) Know how to apply Making Safeguarding Personal within their setting \n\n\n\n\nSeptember 14th\, 2021 10:00 AM through  1:00 PM\n\n\n\nLocation\n\nZoom online “Training” \n\n\n\n\n\nContact\n\nPhone: 07377502474\nPhone: 020 7923 1962\nEmail: zebina@hcvs.org.uk\n\n\n\n\nEvent Fee(s) apply
URL:https://hcvs.org.uk/event/safeguarding-adults/
CATEGORIES:training
ATTACH;FMTTYPE=image/png:https://hcvs.org.uk/wp-content/uploads/2021/08/Copy-of-Untitled-1-e1628249937842.png
END:VEVENT
END:VCALENDAR