BEGIN:VCALENDAR
VERSION:2.0
PRODID:-//Hackney CVS - ECPv6.15.20//NONSGML v1.0//EN
CALSCALE:GREGORIAN
METHOD:PUBLISH
X-ORIGINAL-URL:https://hcvs.org.uk
X-WR-CALDESC:Events for Hackney CVS
REFRESH-INTERVAL;VALUE=DURATION:PT1H
X-Robots-Tag:noindex
X-PUBLISHED-TTL:PT1H
BEGIN:VTIMEZONE
TZID:Europe/London
BEGIN:DAYLIGHT
TZOFFSETFROM:+0000
TZOFFSETTO:+0100
TZNAME:BST
DTSTART:20200329T010000
END:DAYLIGHT
BEGIN:STANDARD
TZOFFSETFROM:+0100
TZOFFSETTO:+0000
TZNAME:GMT
DTSTART:20201025T010000
END:STANDARD
BEGIN:DAYLIGHT
TZOFFSETFROM:+0000
TZOFFSETTO:+0100
TZNAME:BST
DTSTART:20210328T010000
END:DAYLIGHT
BEGIN:STANDARD
TZOFFSETFROM:+0100
TZOFFSETTO:+0000
TZNAME:GMT
DTSTART:20211031T010000
END:STANDARD
BEGIN:DAYLIGHT
TZOFFSETFROM:+0000
TZOFFSETTO:+0100
TZNAME:BST
DTSTART:20220327T010000
END:DAYLIGHT
BEGIN:STANDARD
TZOFFSETFROM:+0100
TZOFFSETTO:+0000
TZNAME:GMT
DTSTART:20221030T010000
END:STANDARD
END:VTIMEZONE
BEGIN:VEVENT
DTSTART;TZID=Europe/London:20210909T100000
DTEND;TZID=Europe/London:20210909T110000
DTSTAMP:20260421T195853
CREATED:20210903T142325Z
LAST-MODIFIED:20210903T143458Z
UID:15228-1631181600-1631185200@hcvs.org.uk
SUMMARY:How to Apply workshop\, Coronavirus Response Fund\, Equitable Vaccine Uptake Round 2
DESCRIPTION:How to Apply workshop\, Coronavirus Response Fund\, Equitable Vaccine Uptake Round 2\n\n\n\n\n\n\nRegister Now \n\n\n\nWorkshop covering how to apply for the Coronavirus Response Fund\, Equitable Vaccine Uptake Round 2 programme that is currently open for applications.\n\nIs your organisation a voluntary and community sector (VCSE) group working with people most affected by the coronavirus pandemic in Hackney and/or the City of London? We want to fund VCSE organisations to provide information and practical support to communities in order to increase COVID-19 vaccination uptake. \nGrants of up to £10\,000 are available for single organisations or up to £20\,000 for organisations delivering in partnership. \nContact – paul.turley@hcvs.org.uk \n  \n\n\nWhen\nSeptember 9th\, 2021 10:00 AM through 11:00 AM
URL:https://hcvs.org.uk/event/how-to-apply-workshop-coronavirus-response-fund-equitable-vaccine-uptake-round-2-2/
ATTACH;FMTTYPE=image/png:https://hcvs.org.uk/wp-content/uploads/2021/08/Copy-of-Copy-of-Copy-of-Untitled.png
END:VEVENT
END:VCALENDAR