BEGIN:VCALENDAR
VERSION:2.0
PRODID:-//Hackney CVS - ECPv6.15.20//NONSGML v1.0//EN
CALSCALE:GREGORIAN
METHOD:PUBLISH
X-WR-CALNAME:Hackney CVS
X-ORIGINAL-URL:https://hcvs.org.uk
X-WR-CALDESC:Events for Hackney CVS
REFRESH-INTERVAL;VALUE=DURATION:PT1H
X-Robots-Tag:noindex
X-PUBLISHED-TTL:PT1H
BEGIN:VTIMEZONE
TZID:Europe/London
BEGIN:DAYLIGHT
TZOFFSETFROM:+0000
TZOFFSETTO:+0100
TZNAME:BST
DTSTART:20200329T010000
END:DAYLIGHT
BEGIN:STANDARD
TZOFFSETFROM:+0100
TZOFFSETTO:+0000
TZNAME:GMT
DTSTART:20201025T010000
END:STANDARD
BEGIN:DAYLIGHT
TZOFFSETFROM:+0000
TZOFFSETTO:+0100
TZNAME:BST
DTSTART:20210328T010000
END:DAYLIGHT
BEGIN:STANDARD
TZOFFSETFROM:+0100
TZOFFSETTO:+0000
TZNAME:GMT
DTSTART:20211031T010000
END:STANDARD
BEGIN:DAYLIGHT
TZOFFSETFROM:+0000
TZOFFSETTO:+0100
TZNAME:BST
DTSTART:20220327T010000
END:DAYLIGHT
BEGIN:STANDARD
TZOFFSETFROM:+0100
TZOFFSETTO:+0000
TZNAME:GMT
DTSTART:20221030T010000
END:STANDARD
END:VTIMEZONE
BEGIN:VEVENT
DTSTART;TZID=Europe/London:20210708T093000
DTEND;TZID=Europe/London:20210708T123000
DTSTAMP:20260425T185725
CREATED:20210705T095905Z
LAST-MODIFIED:20210705T100139Z
UID:14851-1625736600-1625747400@hcvs.org.uk
SUMMARY:FREE Neighbourhoods Equality\, Racial and Cultural identity training
DESCRIPTION:Two- part: 8th July & 13 July.  We are pleased to be working with Mabadiliko to offer this important FREE training opportunity to all 8 Hackney and City Neighbourhoods.  A chance to open up thinking and support practical insight towards achieving greater equality in our work and relationship with others.  3 places are available to voluntary and community sector organisations per Neighbourhood (limited to one place per organisation) on a first come first served basis. You will need to be able to attend both workshops. \nFor more information and to register your interest click here
URL:https://hcvs.org.uk/event/free-neighbourhoods-equality-racial-and-cultural-identity-training/
END:VEVENT
END:VCALENDAR