BEGIN:VCALENDAR
VERSION:2.0
PRODID:-//Hackney CVS - ECPv6.15.20//NONSGML v1.0//EN
CALSCALE:GREGORIAN
METHOD:PUBLISH
X-WR-CALNAME:Hackney CVS
X-ORIGINAL-URL:https://hcvs.org.uk
X-WR-CALDESC:Events for Hackney CVS
REFRESH-INTERVAL;VALUE=DURATION:PT1H
X-Robots-Tag:noindex
X-PUBLISHED-TTL:PT1H
BEGIN:VTIMEZONE
TZID:Europe/London
BEGIN:DAYLIGHT
TZOFFSETFROM:+0000
TZOFFSETTO:+0100
TZNAME:BST
DTSTART:20200329T010000
END:DAYLIGHT
BEGIN:STANDARD
TZOFFSETFROM:+0100
TZOFFSETTO:+0000
TZNAME:GMT
DTSTART:20201025T010000
END:STANDARD
BEGIN:DAYLIGHT
TZOFFSETFROM:+0000
TZOFFSETTO:+0100
TZNAME:BST
DTSTART:20210328T010000
END:DAYLIGHT
BEGIN:STANDARD
TZOFFSETFROM:+0100
TZOFFSETTO:+0000
TZNAME:GMT
DTSTART:20211031T010000
END:STANDARD
BEGIN:DAYLIGHT
TZOFFSETFROM:+0000
TZOFFSETTO:+0100
TZNAME:BST
DTSTART:20220327T010000
END:DAYLIGHT
BEGIN:STANDARD
TZOFFSETFROM:+0100
TZOFFSETTO:+0000
TZNAME:GMT
DTSTART:20221030T010000
END:STANDARD
END:VTIMEZONE
BEGIN:VEVENT
DTSTART;TZID=Europe/London:20210513T140000
DTEND;TZID=Europe/London:20210513T160000
DTSTAMP:20260425T155717
CREATED:20210427T063038Z
LAST-MODIFIED:20210427T063038Z
UID:14578-1620914400-1620921600@hcvs.org.uk
SUMMARY:Building resilience and wellbeing - a method to de-stress 
DESCRIPTION:Building resilience and wellbeing – a method to de-stress \nTake a nourishing afternoon out of your busy schedule to bring self-care into your life with our Wellbeing Resilience With the Alexander Technique workshop.\nMay 13. Book here
URL:https://hcvs.org.uk/event/building-resilience-and-wellbeing-a-method-to-de-stress/
ORGANIZER;CN="Hackney CVS":MAILTO:reception@hcvs.org.uk
END:VEVENT
END:VCALENDAR