BEGIN:VCALENDAR
VERSION:2.0
PRODID:-//Hackney CVS - ECPv6.15.20//NONSGML v1.0//EN
CALSCALE:GREGORIAN
METHOD:PUBLISH
X-WR-CALNAME:Hackney CVS
X-ORIGINAL-URL:https://hcvs.org.uk
X-WR-CALDESC:Events for Hackney CVS
REFRESH-INTERVAL;VALUE=DURATION:PT1H
X-Robots-Tag:noindex
X-PUBLISHED-TTL:PT1H
BEGIN:VTIMEZONE
TZID:Europe/London
BEGIN:DAYLIGHT
TZOFFSETFROM:+0000
TZOFFSETTO:+0100
TZNAME:BST
DTSTART:20190331T010000
END:DAYLIGHT
BEGIN:STANDARD
TZOFFSETFROM:+0100
TZOFFSETTO:+0000
TZNAME:GMT
DTSTART:20191027T010000
END:STANDARD
BEGIN:DAYLIGHT
TZOFFSETFROM:+0000
TZOFFSETTO:+0100
TZNAME:BST
DTSTART:20200329T010000
END:DAYLIGHT
BEGIN:STANDARD
TZOFFSETFROM:+0100
TZOFFSETTO:+0000
TZNAME:GMT
DTSTART:20201025T010000
END:STANDARD
BEGIN:DAYLIGHT
TZOFFSETFROM:+0000
TZOFFSETTO:+0100
TZNAME:BST
DTSTART:20210328T010000
END:DAYLIGHT
BEGIN:STANDARD
TZOFFSETFROM:+0100
TZOFFSETTO:+0000
TZNAME:GMT
DTSTART:20211031T010000
END:STANDARD
END:VTIMEZONE
BEGIN:VEVENT
DTSTART;TZID=Europe/London:20200304T093000
DTEND;TZID=Europe/London:20200304T153000
DTSTAMP:20260421T234431
CREATED:20200226T144345Z
LAST-MODIFIED:20200226T144345Z
UID:11867-1583314200-1583335800@hcvs.org.uk
SUMMARY:Safeguarding and the Digital Thread
DESCRIPTION:The CHSCP Conference: Safeguarding and the Digital Thread. The Conference is free to attend for all staff and volunteers working with children and young people in either the City of London and/or the London Borough of Hackney. This year’s Conference will cover safeguarding children and young people in the context of technology and social media. Date: 4 March. Read more
URL:https://hcvs.org.uk/event/safeguarding-and-the-digital-thread/
ATTACH;FMTTYPE=image/jpeg:https://hcvs.org.uk/wp-content/uploads/2020/02/design-2.jpg
END:VEVENT
END:VCALENDAR