BEGIN:VCALENDAR
VERSION:2.0
PRODID:-//Hackney CVS - ECPv6.15.20//NONSGML v1.0//EN
CALSCALE:GREGORIAN
METHOD:PUBLISH
X-WR-CALNAME:Hackney CVS
X-ORIGINAL-URL:https://hcvs.org.uk
X-WR-CALDESC:Events for Hackney CVS
REFRESH-INTERVAL;VALUE=DURATION:PT1H
X-Robots-Tag:noindex
X-PUBLISHED-TTL:PT1H
BEGIN:VTIMEZONE
TZID:Europe/London
BEGIN:DAYLIGHT
TZOFFSETFROM:+0000
TZOFFSETTO:+0100
TZNAME:BST
DTSTART:20190331T010000
END:DAYLIGHT
BEGIN:STANDARD
TZOFFSETFROM:+0100
TZOFFSETTO:+0000
TZNAME:GMT
DTSTART:20191027T010000
END:STANDARD
BEGIN:DAYLIGHT
TZOFFSETFROM:+0000
TZOFFSETTO:+0100
TZNAME:BST
DTSTART:20200329T010000
END:DAYLIGHT
BEGIN:STANDARD
TZOFFSETFROM:+0100
TZOFFSETTO:+0000
TZNAME:GMT
DTSTART:20201025T010000
END:STANDARD
BEGIN:DAYLIGHT
TZOFFSETFROM:+0000
TZOFFSETTO:+0100
TZNAME:BST
DTSTART:20210328T010000
END:DAYLIGHT
BEGIN:STANDARD
TZOFFSETFROM:+0100
TZOFFSETTO:+0000
TZNAME:GMT
DTSTART:20211031T010000
END:STANDARD
END:VTIMEZONE
BEGIN:VEVENT
DTSTART;TZID=Europe/London:20200130T100000
DTEND;TZID=Europe/London:20200130T160000
DTSTAMP:20260419T172942
CREATED:20200114T104805Z
LAST-MODIFIED:20200114T104805Z
UID:11492-1580378400-1580400000@hcvs.org.uk
SUMMARY:Smokefree Hackney
DESCRIPTION:Come to training sessions organised by Smokefree Hackney. Level 1 or ‘Very Brief Advice’: a 2-hour training that equips healthcare professionals with basic skills/knowledge to offer smokers brief advice and then signpost to Hackney’s Stop Smoking Service. Date: 24 January. Level 2 Advisor: applicable for professionals who want to become a specialist Stop Smoking Advisor. Date: 30 January. Read more
URL:https://hcvs.org.uk/event/smokefree-hackney/
ATTACH;FMTTYPE=image/png:https://hcvs.org.uk/wp-content/uploads/2019/09/Screen-Shot-2019-09-02-at-12.32.57.png
END:VEVENT
BEGIN:VEVENT
DTSTART;TZID=Europe/London:20200130T170000
DTEND;TZID=Europe/London:20200130T190000
DTSTAMP:20260419T172942
CREATED:20200108T143254Z
LAST-MODIFIED:20200108T143254Z
UID:11434-1580403600-1580410800@hcvs.org.uk
SUMMARY:Volunteer Fair
DESCRIPTION:The next Volunteer Fair organised by Volunteer Centre Hackney will be taking place in January 2020\, and is a great way for anyone interested in social action or volunteering to meet local people and charities who are seeking volunteers. \nTotally free and open to all\, if you live\, work or play in Hackney and are looking to give your time to good causes\, then drop by and meet local organisations offering roles including administration\, befriending\, mentoring and more.Organisations attending on the day include: City Year\, Hackney Museum\, Headway East London\, BlindAid\, FoodDrop and Virgin Sports amongst many more. \nRead more
URL:https://hcvs.org.uk/event/volunteer-fair/
ATTACH;FMTTYPE=image/jpeg:https://hcvs.org.uk/wp-content/uploads/2019/03/art-smaller.jpg
END:VEVENT
BEGIN:VEVENT
DTSTART;TZID=Europe/London:20200130T180000
DTEND;TZID=Europe/London:20200130T200000
DTSTAMP:20260419T172942
CREATED:20200114T134648Z
LAST-MODIFIED:20200114T134648Z
UID:11504-1580407200-1580414400@hcvs.org.uk
SUMMARY:Ending violence against women and girls
DESCRIPTION:The next Hackney Faith Network event – Ending violence against women and girls – will focus on the support available to women and girls facing violence and abuse. You will also hear about how to apply to the Windrush Compensation Scheme\, the planned women’s faith gathering\, an interfaith initiative to mark World Water Day and how you can provide feedback on the Prevent Programme. Date: 30 January\, 6-8pm\, room 102\, Hackney Town Hall. \nRegister here
URL:https://hcvs.org.uk/event/ending-violence-against-women-and-girls/
END:VEVENT
END:VCALENDAR