BEGIN:VCALENDAR
VERSION:2.0
PRODID:-//Hackney CVS - ECPv6.15.20//NONSGML v1.0//EN
CALSCALE:GREGORIAN
METHOD:PUBLISH
X-WR-CALNAME:Hackney CVS
X-ORIGINAL-URL:https://hcvs.org.uk
X-WR-CALDESC:Events for Hackney CVS
REFRESH-INTERVAL;VALUE=DURATION:PT1H
X-Robots-Tag:noindex
X-PUBLISHED-TTL:PT1H
BEGIN:VTIMEZONE
TZID:Europe/London
BEGIN:DAYLIGHT
TZOFFSETFROM:+0000
TZOFFSETTO:+0100
TZNAME:BST
DTSTART:20180325T010000
END:DAYLIGHT
BEGIN:STANDARD
TZOFFSETFROM:+0100
TZOFFSETTO:+0000
TZNAME:GMT
DTSTART:20181028T010000
END:STANDARD
BEGIN:DAYLIGHT
TZOFFSETFROM:+0000
TZOFFSETTO:+0100
TZNAME:BST
DTSTART:20190331T010000
END:DAYLIGHT
BEGIN:STANDARD
TZOFFSETFROM:+0100
TZOFFSETTO:+0000
TZNAME:GMT
DTSTART:20191027T010000
END:STANDARD
BEGIN:DAYLIGHT
TZOFFSETFROM:+0000
TZOFFSETTO:+0100
TZNAME:BST
DTSTART:20200329T010000
END:DAYLIGHT
BEGIN:STANDARD
TZOFFSETFROM:+0100
TZOFFSETTO:+0000
TZNAME:GMT
DTSTART:20201025T010000
END:STANDARD
END:VTIMEZONE
BEGIN:VEVENT
DTSTART;TZID=Europe/London:20191130T110000
DTEND;TZID=Europe/London:20191130T170000
DTSTAMP:20260425T155718
CREATED:20191106T164552Z
LAST-MODIFIED:20191106T164552Z
UID:11029-1575111600-1575133200@hcvs.org.uk
SUMMARY:Hackney Repair Cafe
DESCRIPTION:Come along and learn repair skills to give new life to items that you would normally throw away and make them useable again.\n\nRead more
URL:https://hcvs.org.uk/event/hackney-repair-cafe-2/
ATTACH;FMTTYPE=image/jpeg:https://hcvs.org.uk/wp-content/uploads/2019/03/art-smaller.jpg
END:VEVENT
BEGIN:VEVENT
DTSTART;TZID=Europe/London:20191130T140000
DTEND;TZID=Europe/London:20191130T160000
DTSTAMP:20260425T155718
CREATED:20191119T121302Z
LAST-MODIFIED:20191119T121302Z
UID:11158-1575122400-1575129600@hcvs.org.uk
SUMMARY:'The Incredibles' family film session
DESCRIPTION:Tools for the teenage years. A FREE programme for parents and carers to help address challenging and harmful behaviours in adolescence. Sessions are co-led by professionals and by parents who previously had challenges with their children’s behaviour. \nParents open space and ‘The Incredibles’ family film session on 30 November: register here. \nRead more
URL:https://hcvs.org.uk/event/the-incredibles-family-film-session/
ATTACH;FMTTYPE=image/jpeg:https://hcvs.org.uk/wp-content/uploads/2019/11/film-tape.jpg
END:VEVENT
END:VCALENDAR