BEGIN:VCALENDAR
VERSION:2.0
PRODID:-//Hackney CVS - ECPv6.15.20//NONSGML v1.0//EN
CALSCALE:GREGORIAN
METHOD:PUBLISH
X-ORIGINAL-URL:https://hcvs.org.uk
X-WR-CALDESC:Events for Hackney CVS
REFRESH-INTERVAL;VALUE=DURATION:PT1H
X-Robots-Tag:noindex
X-PUBLISHED-TTL:PT1H
BEGIN:VTIMEZONE
TZID:UTC
BEGIN:STANDARD
TZOFFSETFROM:+0000
TZOFFSETTO:+0000
TZNAME:UTC
DTSTART:20180101T000000
END:STANDARD
END:VTIMEZONE
BEGIN:VEVENT
DTSTART;TZID=UTC:20190523T100000
DTEND;TZID=UTC:20190523T120000
DTSTAMP:20260425T185749
CREATED:20190507T141551Z
LAST-MODIFIED:20190507T141551Z
UID:9485-1558605600-1558612800@hcvs.org.uk
SUMMARY:Hackney-Islington Young Londoners Fund Network
DESCRIPTION:Hackney CVS together with Voluntary Action Islington\, on behalf of the GLA\, have launched the Hackney-Islington Young Londoners Fund Network. One of our roles is to support prospective applicants to YLF Round 2\, which is launching mid-May. The network will be hosting an information session on Thursday\, 23 May 2019\, from 10am to 12 noon. Register here.
URL:https://hcvs.org.uk/event/hackney-islington-young-londoners-fund-network/
END:VEVENT
END:VCALENDAR