BEGIN:VCALENDAR
VERSION:2.0
PRODID:-//Hackney CVS - ECPv6.15.20//NONSGML v1.0//EN
CALSCALE:GREGORIAN
METHOD:PUBLISH
X-WR-CALNAME:Hackney CVS
X-ORIGINAL-URL:https://hcvs.org.uk
X-WR-CALDESC:Events for Hackney CVS
REFRESH-INTERVAL;VALUE=DURATION:PT1H
X-Robots-Tag:noindex
X-PUBLISHED-TTL:PT1H
BEGIN:VTIMEZONE
TZID:UTC
BEGIN:STANDARD
TZOFFSETFROM:+0000
TZOFFSETTO:+0000
TZNAME:UTC
DTSTART:20180101T000000
END:STANDARD
END:VTIMEZONE
BEGIN:VEVENT
DTSTART;TZID=UTC:20190521T170000
DTEND;TZID=UTC:20190521T190000
DTSTAMP:20260425T050532
CREATED:20190502T085521Z
LAST-MODIFIED:20190502T085521Z
UID:9455-1558458000-1558465200@hcvs.org.uk
SUMMARY:'Let's talk Prevention - Hackney'
DESCRIPTION:NHS City and Hackney Clinical Commissioning Group (CCG) invites you to the event ‘Let’s talk Prevention – Hackney’. Volunteer to improve residents’ health and wellbeing. Date: 21 May. Read more
URL:https://hcvs.org.uk/event/lets-talk-prevention-hackney/
END:VEVENT
END:VCALENDAR