BEGIN:VCALENDAR
VERSION:2.0
PRODID:-//Hackney CVS - ECPv6.15.20//NONSGML v1.0//EN
CALSCALE:GREGORIAN
METHOD:PUBLISH
X-ORIGINAL-URL:https://hcvs.org.uk
X-WR-CALDESC:Events for Hackney CVS
REFRESH-INTERVAL;VALUE=DURATION:PT1H
X-Robots-Tag:noindex
X-PUBLISHED-TTL:PT1H
BEGIN:VTIMEZONE
TZID:UTC
BEGIN:STANDARD
TZOFFSETFROM:+0000
TZOFFSETTO:+0000
TZNAME:UTC
DTSTART:20180101T000000
END:STANDARD
END:VTIMEZONE
BEGIN:VEVENT
DTSTART;TZID=UTC:20190508T180000
DTEND;TZID=UTC:20190508T200000
DTSTAMP:20260425T185803
CREATED:20190416T093325Z
LAST-MODIFIED:20190501T124101Z
UID:9341-1557338400-1557345600@hcvs.org.uk
SUMMARY:Community Engagement Event
DESCRIPTION:Come to a free Community Engagement Event organised by Metropolitan Police in Tower Hamlets to take part in a discussion about anti-social behaviour and drug dealing. Date: 8 May. Read more
URL:https://hcvs.org.uk/event/community-engagement-event/
ATTACH;FMTTYPE=image/jpeg:https://hcvs.org.uk/wp-content/uploads/2017/08/hiring-a-meeting-space.jpg
END:VEVENT
END:VCALENDAR